BEGIN:VCALENDAR
VERSION:2.0
PRODID:-//Kraftur - ECPv6.15.15//NONSGML v1.0//EN
CALSCALE:GREGORIAN
METHOD:PUBLISH
X-ORIGINAL-URL:https://kraftur.org
X-WR-CALDESC:Viðburðir í Kraftur
REFRESH-INTERVAL;VALUE=DURATION:PT1H
X-Robots-Tag:noindex
X-PUBLISHED-TTL:PT1H
BEGIN:VTIMEZONE
TZID:UTC
BEGIN:STANDARD
TZOFFSETFROM:+0000
TZOFFSETTO:+0000
TZNAME:UTC
DTSTART:20210101T000000
END:STANDARD
END:VTIMEZONE
BEGIN:VEVENT
DTSTART;TZID=UTC:20220429T170000
DTEND;TZID=UTC:20220501T150000
DTSTAMP:20260422T062006
CREATED:20220401T113040Z
LAST-MODIFIED:20220401T113040Z
UID:1278247-1651251600-1651417200@kraftur.org
SUMMARY:Lífið er núna helgi í Fljótshlíð
DESCRIPTION:Endurnærandi helgi meðal jafningja \nEkki láta þessa helgi fram hjá þér fara – um er að ræða endurnærandi og ævintýralega helgi meðal jafningja dagana 29. apríl til 1. maí þar sem gist verður á Gistiheimilinu Húsið. Ótrúlega fallegt og notalegt hótel í Fljótshlíðinni í unaðslegri náttúru Suðurlansundirlendis. \nDAGSKRÁ\n\nPaellugerð\nJeppaævintýri með Midgard\nVinnustofur með Sössu tengdar sjálfsvinnu og sjálfstyrkingu\nPubquiz\nSlaka á og njóta\n\nHér má sjá alla dagskrá helgarinnar \n\n*Takmörkuð pláss í boði – skráning nauðsynleg – staðfestingargjald 3.500 kr. \nHelgin er bæði hugsuð fyrir krabbameinsgreinda sem og aðstandendur. Einungis er pláss fyrir 20 manns svo um að gera að tryggja sér sæti sem fyrst \nLífið er núna helgin er endurnærandi helgi fyrir félagsmenn Krafts þar sem við njótum þess að vera saman í fallegu umhverfi og byggjum okkur upp líkamlega og andlega. \nFrekari upplýsingar er hægt að nálgast hjá Huldu í gegnum hulda@kraftur.org eða í síma 866-9600
URL:https://kraftur.org/vidburdur/lifid-er-nuna-helgi-fljotshlid/
LOCATION:Gistiheimilið Húsið\, Húsinu\, Hvolsvöllur\, 861
ATTACH;FMTTYPE=image/jpeg:https://kraftur.org/wp-content/uploads/2022/04/banner_lifid-er-nuna-helgi-fljotshlid_web-1.jpg
END:VEVENT
END:VCALENDAR