BEGIN:VCALENDAR
VERSION:2.0
PRODID:-//Kraftur - ECPv6.15.15//NONSGML v1.0//EN
CALSCALE:GREGORIAN
METHOD:PUBLISH
X-WR-CALNAME:Kraftur
X-ORIGINAL-URL:https://kraftur.org
X-WR-CALDESC:Viðburðir í Kraftur
REFRESH-INTERVAL;VALUE=DURATION:PT1H
X-Robots-Tag:noindex
X-PUBLISHED-TTL:PT1H
BEGIN:VTIMEZONE
TZID:UTC
BEGIN:STANDARD
TZOFFSETFROM:+0000
TZOFFSETTO:+0000
TZNAME:UTC
DTSTART:20210101T000000
END:STANDARD
END:VTIMEZONE
BEGIN:VEVENT
DTSTART;TZID=UTC:20220504T171500
DTEND;TZID=UTC:20220504T183000
DTSTAMP:20260421T231847
CREATED:20220426T121428Z
LAST-MODIFIED:20220426T121428Z
UID:1278820-1651684500-1651689000@kraftur.org
SUMMARY:Fræðslufyrirlestur - Krabbamein og frjósemi
DESCRIPTION:Frjósemi er oft ofarlega í huga ungs fólks þegar það greinist með krabbamein enda margt sem fólk þarf að hafa í huga áður en krabbameinsmeðferð hefst sem varðar frjósemi. Kristbjörg Heiður Olsen fæðinga og kvensjúkdómalæknir hjá Livio ætlar að koma og segja okkur frá því hvernig krabbameinsmeðferð getur skert frjósemi og hvað sé til ráða þegar sú staða kemur upp\, til þess að varðveita frjósemina og hvaða úrræði eru í boði. Auk þess fjallar hún um það hvað tekur við eftir að krabbameinsmeðferð lýkur er varðar frjósemismeðferðir. \nReynsluboltinn Súsanna Sif ætlar að koma og deila sinni upplifun en hún hefur reynslu af því að greinast með krabbamein og að ganga í gegnum tæknifrjóvganir bæði hér heima og erlendis. \nEf að þetta málefni snertir þig á einhvern hátt eða þú vilt bara fræðast um krabbamein og frjósemi – vertu velkomin/n til okkar í Skógarhlíð 8 á fyrstu hæð – þar sem við ætlum að fræðast meira um krabbamein og frjósemi! \nEndilega meldiði ykuur á Facebook viðburðinn svo við vitum ca. fjölda. \nFræðslufyrirlesturinn verður haldinn miðvikudginn 4.maí klukkan 17.15-18:30 í Skógarhlíð 8\, húsnæði Ráðgjafaþjónustu Krabbameinsfélagsins. \nFræðslufyrirlestrinum verður streymt fyrir þá sem búa á landsbyggðinni eða geta ekki mætt á staðinn. Streymið má finna hér: https://livestream.com/krabb/kraftur-04052022
URL:https://kraftur.org/vidburdur/fraedslufyrirlestur-krabbamein-og-frjosemi/
LOCATION:Kraftur  – Stuðningsfélag fyrir ungt fólk sem greinst hefur með krabbamein og aðstandendur\, Skógarhlíð 8\, Reykjavík\, Reykjavík\, 105\, Iceland
ATTACH;FMTTYPE=image/jpeg:https://kraftur.org/wp-content/uploads/2022/04/krabbamein_og_frjosemi_banner_web-1.jpg
END:VEVENT
END:VCALENDAR