BEGIN:VCALENDAR
VERSION:2.0
PRODID:-//Kraftur - ECPv6.15.15//NONSGML v1.0//EN
CALSCALE:GREGORIAN
METHOD:PUBLISH
X-WR-CALNAME:Kraftur
X-ORIGINAL-URL:https://kraftur.org
X-WR-CALDESC:Viðburðir í Kraftur
REFRESH-INTERVAL;VALUE=DURATION:PT1H
X-Robots-Tag:noindex
X-PUBLISHED-TTL:PT1H
BEGIN:VTIMEZONE
TZID:UTC
BEGIN:STANDARD
TZOFFSETFROM:+0000
TZOFFSETTO:+0000
TZNAME:UTC
DTSTART:20210101T000000
END:STANDARD
END:VTIMEZONE
BEGIN:VEVENT
DTSTART;TZID=UTC:20220518T200000
DTEND;TZID=UTC:20220518T213000
DTSTAMP:20260421T231847
CREATED:20220427T150713Z
LAST-MODIFIED:20220427T150713Z
UID:1278851-1652904000-1652909400@kraftur.org
SUMMARY:Ganga um Kjarnaskóg - NorðanKraftur
DESCRIPTION:NorðanKraftur er stuðningshópur fyrir ungt fólk (18 til 45 ára) sem greinst hefur með krabbamein og aðstandendur. Hópurinn er starfræktur frá Akureyri og hittst að meðaltali tvisvar í mánuði. \nVettvangur til að hitta aðra\, deila áskorunum og sigrum með einstaklingum í sömu sporum \n  \n18. maí – Ætlum að hittast kl. 20 og njóta fallegrarar náttúru Kjarnaskógs með hópi jafningja \n  \nFrekari upplýsingar eru inni á hópi NorðanKrafts – Hægt er að óska eftir inngöngu í hópinn hér \nUmsjónarmaður hópsins er Tinna Stefánsdóttir\, starfsmaður og félagsmaður Krafts sem hefur reynslu af því að vera ung og greinast með æxli. Hægt er að ná í hana í síma 866-0153 eða senda póst á nordankraftur@kraftur.org \n 
URL:https://kraftur.org/vidburdur/ganga-um-kjarnaskog-nordankraftur/
LOCATION:NorðanKraftur\, Iceland
ATTACH;FMTTYPE=image/jpeg:https://kraftur.org/wp-content/uploads/2021/01/Bannera_NordanKraftur_1.jpg
END:VEVENT
END:VCALENDAR