BEGIN:VCALENDAR
VERSION:2.0
PRODID:-//Kraftur - ECPv6.15.15//NONSGML v1.0//EN
CALSCALE:GREGORIAN
METHOD:PUBLISH
X-WR-CALNAME:Kraftur
X-ORIGINAL-URL:https://kraftur.org
X-WR-CALDESC:Viðburðir í Kraftur
REFRESH-INTERVAL;VALUE=DURATION:PT1H
X-Robots-Tag:noindex
X-PUBLISHED-TTL:PT1H
BEGIN:VTIMEZONE
TZID:UTC
BEGIN:STANDARD
TZOFFSETFROM:+0000
TZOFFSETTO:+0000
TZNAME:UTC
DTSTART:20210101T000000
END:STANDARD
END:VTIMEZONE
BEGIN:VEVENT
DTSTART;TZID=UTC:20220522T130000
DTEND;TZID=UTC:20220522T170000
DTSTAMP:20260421T161811
CREATED:20220427T153208Z
LAST-MODIFIED:20220427T153208Z
UID:1278854-1653224400-1653238800@kraftur.org
SUMMARY:Perlað af Krafti í Hörpu
DESCRIPTION:Kraftur\, félag ungs fólks sem greinst hefur með krabbamein og aðstandendur ætlar að slá eigið íslandsmet í að perla armbönd sunnudaginn 22. maí í Hörpu í tilefni af vitundarvakningu félagsins. \nPerlað verður nýtt Lífið er núna armband sem fer í sölu í maí en armbandið verður selt í takmörkuðu upplagi. \nHjálpaðu okkur að hjálpa öðrum og perlaðu með Krafti til að styðja við bakið á ungu fólki sem greinst hefur með krabbamein og aðstandendum. \nEndilega skráðu þig hér  og kíktu á Facebook viðburðinn okkar þar sem við munum setja inn frekari upplýsingar. Það væri frábært ef þú gætir líka deilt viðburðinum með vinum og vandamönnum til að við getum fyllt Hörpu. \nLofum skemmtilegri dagskrá en hún verður auglýst síðar \nPerlunin fer fram í Flóa á fyrstu hæð Hörpu og er opið hús frá klukkan 13 til 17 og er þetta tilvalið tækifæri til að eiga góða og skemmtilega stund með fjölskyldu og vinum\, og um leið leggja góðu málefni lið \nHlökkum til að sjá þig !
URL:https://kraftur.org/vidburdur/perlad-af-krafti-horpu/
LOCATION:Harpa\, Austurbakka 2\, Reykjavík\, Reykjavík\, 101\, Iceland
ATTACH;FMTTYPE=image/jpeg:https://kraftur.org/wp-content/uploads/2022/04/vidburdur-harpa-heimasida-1336x668-100-1.jpg
END:VEVENT
END:VCALENDAR