BEGIN:VCALENDAR
VERSION:2.0
PRODID:-//Kraftur - ECPv6.15.15//NONSGML v1.0//EN
CALSCALE:GREGORIAN
METHOD:PUBLISH
X-WR-CALNAME:Kraftur
X-ORIGINAL-URL:https://kraftur.org
X-WR-CALDESC:Viðburðir í Kraftur
REFRESH-INTERVAL;VALUE=DURATION:PT1H
X-Robots-Tag:noindex
X-PUBLISHED-TTL:PT1H
BEGIN:VTIMEZONE
TZID:UTC
BEGIN:STANDARD
TZOFFSETFROM:+0000
TZOFFSETTO:+0000
TZNAME:UTC
DTSTART:20210101T000000
END:STANDARD
END:VTIMEZONE
BEGIN:VEVENT
DTSTART;TZID=UTC:20220604T130000
DTEND;TZID=UTC:20220604T170000
DTSTAMP:20260421T124248
CREATED:20220530T195944Z
LAST-MODIFIED:20220530T195944Z
UID:1280566-1654347600-1654362000@kraftur.org
SUMMARY:Perlað af Krafti í Borgarnesi
DESCRIPTION:Kraftur\, félag ungs fólks sem greinst hefur með krabbamein og aðstandendur ætlar að standa fyrir mögnuðum perluviðburði í Borgarnesi laugardaginn 4.júní í tilefni af vitundarvakningu félagsins. \nPerlað verður nýtt Lífið er núna armband sem fór í sölu 16.maí en armbandið verður selt í takmörkuðu upplagi. \nPerlunin fer fram á Landnámssetrinu og er opið hús frá klukkan 13 til 17.  Þetta er tilvalið tækifæri til að eiga góða og skemmtilega stund með fjölskyldu og vinum\, og um leið leggja góðu málefni lið \nEndilega kíktu á Facebook viðburðinn okkar þar sem við munum setja inn frekari upplýsingar. Það væri frábært ef þú gætir líka deilt viðburðinum með vinum og vandamönnum til að við getum fyllt Landnámssetrið af góðhjörtuðum perlum. \nHjálpaðu okkur að hjálpa öðrum og perlaðu með Krafti til að styðja við bakið á ungu fólki sem greinst hefur með krabbamein og aðstandendum. \nHlökkum til að sjá þig !
URL:https://kraftur.org/vidburdur/perlad-af-krafti-i-borgarnesi/
LOCATION:Landnámssetur Íslands\, Brákarbraut 13 - 15\, Borgarnes\, 310\, 310
ATTACH;FMTTYPE=image/jpeg:https://kraftur.org/wp-content/uploads/2022/05/vidburdur-Borgarnes-heimasida-1336x668-1-1.jpg
END:VEVENT
END:VCALENDAR