BEGIN:VCALENDAR
VERSION:2.0
PRODID:-//Kraftur - ECPv6.15.15//NONSGML v1.0//EN
CALSCALE:GREGORIAN
METHOD:PUBLISH
X-ORIGINAL-URL:https://kraftur.org
X-WR-CALDESC:Viðburðir í Kraftur
REFRESH-INTERVAL;VALUE=DURATION:PT1H
X-Robots-Tag:noindex
X-PUBLISHED-TTL:PT1H
BEGIN:VTIMEZONE
TZID:UTC
BEGIN:STANDARD
TZOFFSETFROM:+0000
TZOFFSETTO:+0000
TZNAME:UTC
DTSTART:20210101T000000
END:STANDARD
END:VTIMEZONE
BEGIN:VEVENT
DTSTART;TZID=UTC:20220608T173000
DTEND;TZID=UTC:20220608T193000
DTSTAMP:20260421T124739
CREATED:20220531T184838Z
LAST-MODIFIED:20220531T184838Z
UID:1280709-1654709400-1654716600@kraftur.org
SUMMARY:Esjuganga - Að klífa brattann
DESCRIPTION:Gengið verður upp að Steini á Esjunni miðvikudaginn 8.júní kl. 17:30. Er gangan hugsuð sem undirbúningur fyrir Fimmvörðuhálsgönguna sem verður nú í lok júní.  \nAuðvitað er gangan opin öllum félagsmönnum sem hafa áhuga á göngum en erum aðeins að bæta í ákefð til að undirbúa hópinn fyrir Fimmvörðuháls. \nGöngum upp að Steini á Esjunni í 597 metra hæð. Er líklegast vinsælasta gönguleið landsins og klárlega vinsælasta gönguleið í nánd við höfuðborgarsvæðið. Lagt er í hann frá bílastæði við botn Kollafjarðar. Stígurinn er augljós\, breiður og vel merktur. Hann skiptist í tvennt rétt fyrir neðan miðju. Vestan til fer hann í gegn um Einarsmýri en austan til á brú yfir ána og svo á ská á hornið. \n\nVið leggjum bílunum á bílastæðinu við Esjurætur\, þar sem við hittumst áður en við höldum í hann \nHuga þarf að góðum skóbúnaði og gott er að taka með sér göngustafi\, orkustykki og vatnsflösku. \nEndilega meldaðu þig á viðburðinn hér svo við getum áætlað fjöldann\, því við viljum ekki skilja neinn eftir.  \nInga Bryndís starfsmaður Krafts mun leiða gönguna. Síminn hjá Ingu er: 866-9621. \nGöngurnar henta öllum þeim sem hafa áhuga á að kynna sér göngur og íslenska náttúru og njóta þess að vera í hópi meðal jafningja. Kraftsfélagar\, fjölskyldur þeirra\, börn og vinir eru hjartanlega velkomin.  \n\nÞú getur fylgst með okkur á Facebook og beðið um inngöngu í hópinn hér
URL:https://kraftur.org/vidburdur/esjuganga-ad-klifa-brattann/
LOCATION:Mt Esja\, https://goo.gl/maps/a3qUEuGYQ22bRen87
ATTACH;FMTTYPE=image/jpeg:https://kraftur.org/wp-content/uploads/2019/09/Banner_ad_klifa_brattann.jpg
ORGANIZER;CN="A%C3%B0 kl%C3%ADfa brattann - G%C3%B6nguh%C3%B3pur":MAILTO:kraftur@kraftur.org
END:VEVENT
END:VCALENDAR