BEGIN:VCALENDAR
VERSION:2.0
PRODID:-//Kraftur - ECPv6.15.15//NONSGML v1.0//EN
CALSCALE:GREGORIAN
METHOD:PUBLISH
X-ORIGINAL-URL:https://kraftur.org
X-WR-CALDESC:Viðburðir í Kraftur
REFRESH-INTERVAL;VALUE=DURATION:PT1H
X-Robots-Tag:noindex
X-PUBLISHED-TTL:PT1H
BEGIN:VTIMEZONE
TZID:UTC
BEGIN:STANDARD
TZOFFSETFROM:+0000
TZOFFSETTO:+0000
TZNAME:UTC
DTSTART:20210101T000000
END:STANDARD
END:VTIMEZONE
BEGIN:VEVENT
DTSTART;TZID=UTC:20220610T170000
DTEND;TZID=UTC:20220612T120000
DTSTAMP:20260421T124930
CREATED:20220525T172527Z
LAST-MODIFIED:20220525T172527Z
UID:1280119-1654880400-1655035200@kraftur.org
SUMMARY:Vorferð NorðanKrafts
DESCRIPTION:Nú ætlum við í NorðanKrafti að leggja land undir fót og skella okkur austur fyrir fjall. Helgina 10-12. júní förum við til Egilsstaða og njótum þar samveru í gróðursældinni. \nVorferðin er fyrir Kraftsfélaga sem eru búsettir norðan heiða eða á Austurlandi. Ferðin er þeim að kostnaðarlausu og er innifalið gisting í tvær nætur á Hótel Svartaskógi\, gönguferð í skóginum\, hádegisverður á Egilsstöðum\, aðgangur að Vök Baths og kvöldverður á Hótel Svartaskógi. Nauðsynlegt er að skrá sig sem fyrst hér. Þú getur komið ein(n) í ferðina eða tekið maka eða vin með. \nFarið er á einkabílum á Hótel Svartaskóg á föstudegi um kl. 17:00 en við munum sameinast í bíla til að skapa meiri stemningu og vernda umhverfið okkar. Við reiknum svo með brottför frá hótelinu að hádegi á sunnudeginum. \nVið vonumst innilega til að sjá sem flesta en minnum á að það þarf að skrá sig sem fyrst. Nánari upplýsingar veitir Tinna Stefánsdóttir\, umsjónarmaður Norðankrafts\, nordankraftur@kraftur.org.Tinna verður síðan í nánari sambandi upp á dagskrá og annað.
URL:https://kraftur.org/vidburdur/vorferd-nordankrafts/
ATTACH;FMTTYPE=image/jpeg:https://kraftur.org/wp-content/uploads/2022/01/Bannera_NordanKraftur_1-1.jpg
END:VEVENT
END:VCALENDAR