BEGIN:VCALENDAR
VERSION:2.0
PRODID:-//Kraftur - ECPv6.15.15//NONSGML v1.0//EN
CALSCALE:GREGORIAN
METHOD:PUBLISH
X-ORIGINAL-URL:https://kraftur.org
X-WR-CALDESC:Viðburðir í Kraftur
REFRESH-INTERVAL;VALUE=DURATION:PT1H
X-Robots-Tag:noindex
X-PUBLISHED-TTL:PT1H
BEGIN:VTIMEZONE
TZID:UTC
BEGIN:STANDARD
TZOFFSETFROM:+0000
TZOFFSETTO:+0000
TZNAME:UTC
DTSTART:20210101T000000
END:STANDARD
END:VTIMEZONE
BEGIN:VEVENT
DTSTART;TZID=UTC:20220614T200000
DTEND;TZID=UTC:20220614T220000
DTSTAMP:20260421T125054
CREATED:20220531T180727Z
LAST-MODIFIED:20220531T180727Z
UID:1280694-1655236800-1655244000@kraftur.org
SUMMARY:Aðstandendakvöld Krafts
DESCRIPTION:Þriðjudaginn 14. júní kl. 20 er opið hús fyrir aðstandendur.\nStutt fræðsla verður um þann stuðning sem er í boði fyrir aðstandendur og síðan  boðið upp á jafningjaspjall milli aðstandenda. Við þekkjum það sem höfum verið í þessum sporum hversu ómetanlegt það getur verið að tala við aðra sem hafa svipaða reynslu. \nÞá mun Lóa frá Ráðgjafarþjónustu Krabbameinsfélagsins mæta í heimsókn og fræða okkur um þá þjónustu sem Ráðgjafarþjónustan er að veita krabbameinsgreindu fólki og aðstandendum. \nAðstandendakvöldið fer fram  í Ráðgjafarþjónustu Krabbameinsfélagsins\, Skógarhlíð 8. Ávallt heitt á könnunni og boðið er upp á léttar veitingar. \nEndilega meldaðu þig á viðburðinn okkar á FB \nHlökkum til að sjá þig ❤ \nÁttu eða hefur þú átt ástvin sem greinst hefur með krabbamein? Ef þú ert maki\, foreldri\, systkini eða náinn aðstandandi getur það haft í för með sér verulegar breytingar á þínu lífi. Ýmsar spurningar geta vaknað og getur verið erfitt að vera til staðar fyrir þig og aðra á sama tíma. Það eru fleiri í þínum sporum \nUmsjónarmaður hópsins er Hrefna Björk Sigvaldadóttir starfsmaður Krafts en hún hefur sjálf reynslu af því að vera aðstandandi.\nHægt er að ná í Hrefnu í síma 866-9698 eða í gegnum hrefna@kraftur.org\, en einnig er hægt er að óska eftir inngöngu í hópinn á Facebook hér.
URL:https://kraftur.org/vidburdur/adstandendakvold-krafts-2/
LOCATION:Kraftur  – Stuðningsfélag fyrir ungt fólk sem greinst hefur með krabbamein og aðstandendur\, Skógarhlíð 8\, Reykjavík\, Reykjavík\, 105\, Iceland
ATTACH;FMTTYPE=image/jpeg:https://kraftur.org/wp-content/uploads/2019/09/Banner_adstandandaKraftur.jpg
END:VEVENT
END:VCALENDAR