BEGIN:VCALENDAR
VERSION:2.0
PRODID:-//Kraftur - ECPv6.15.15//NONSGML v1.0//EN
CALSCALE:GREGORIAN
METHOD:PUBLISH
X-WR-CALNAME:Kraftur
X-ORIGINAL-URL:https://kraftur.org
X-WR-CALDESC:Viðburðir í Kraftur
REFRESH-INTERVAL;VALUE=DURATION:PT1H
X-Robots-Tag:noindex
X-PUBLISHED-TTL:PT1H
BEGIN:VTIMEZONE
TZID:UTC
BEGIN:STANDARD
TZOFFSETFROM:+0000
TZOFFSETTO:+0000
TZNAME:UTC
DTSTART:20210101T000000
END:STANDARD
END:VTIMEZONE
BEGIN:VEVENT
DTSTART;TZID=UTC:20220623T180000
DTEND;TZID=UTC:20220623T200000
DTSTAMP:20260421T124257
CREATED:20220530T123140Z
LAST-MODIFIED:20220530T123140Z
UID:1280512-1656007200-1656014400@kraftur.org
SUMMARY:Sumargrill Krafts
DESCRIPTION:Sumargrill Krafts verður haldið hátíðlega í Guðmundarlundi þann 23. júní milli 18 og 20. \nDagskráin verður ekki af verri endanum: \n\nEMMSJÉ GAUTI  stígur á stokk\nHRINGLEIKUR fjöllista – og sirkushópur verður með atriði\nSIRKUS ÍSLANDS með andlitsmálun og blöðrulistamann\nREIÐSKÓLINN HESTALÍF reiðir undir krakkana\n HOPPUKASTALAR fyrir krakkana\nINSTAMYNDIR – myndakassi frá Instamyndum fyrir gesti Sumargrillsins\nHAMBORGARABÚLLA TÓMASAR  verður með hamborgara fyrir mannskapinn\n\nVinsamlegast meldið ykkur á viðburðinn og skráið ykkur hér svo við vitum ca. fjölda þeirra sem mæta upp á að hafa nóg af mat fyrir mannskapinn 🙂 \nÞetta verður dásamlegur dagur fyrir alla fjölskylduna og hvetjum við gamla sem og nýja félagsmenn að fjölmenna og fagna með okkur í sumarblíðunni. \n____________________ \nLEIÐARLÝSING Í GUÐMUNDARLUND\nGuðmundarlundur er rétt hjá hesthúsunum við Heimsenda í Kópavogi (Elliðavatns megin). Breiðholtsbraut er ekin í átt að Víðidal\, beygt á ljósunum við Vatnsendahvarf (hjá nýju World Class og Bónus). Keyrt er eftir Vatnsendavegi þar til komið er í þriðja hringtorgið þá er tekin síðasta beygjan að Þingmannaleið. Þar er skilti sem segir Heimsendi. Sú gata er keyrð þar til Heimsendi er á hægri hönd og þá á að vera skilti á vinstri hönd sem segir Guðmundarlundur. Keyrt upp á hæðina þar til komið er að skógræktarsvæði með grænu hliði\, þar er Guðmundarlundur. Við munum líka setja appelsínugular blöðrur til að vísa þér leiðin
URL:https://kraftur.org/vidburdur/sumargrill-krafts-5/
LOCATION:Guðmundarlundur\, Guðmundrarlundur\, Kópavogur\, 203\, Iceland
ATTACH;FMTTYPE=image/jpeg:https://kraftur.org/wp-content/uploads/2022/05/banner_sumargrill_web-1.jpg
END:VEVENT
END:VCALENDAR