BEGIN:VCALENDAR
VERSION:2.0
PRODID:-//Kraftur - ECPv6.15.15//NONSGML v1.0//EN
CALSCALE:GREGORIAN
METHOD:PUBLISH
X-ORIGINAL-URL:https://kraftur.org
X-WR-CALDESC:Viðburðir í Kraftur
REFRESH-INTERVAL;VALUE=DURATION:PT1H
X-Robots-Tag:noindex
X-PUBLISHED-TTL:PT1H
BEGIN:VTIMEZONE
TZID:UTC
BEGIN:STANDARD
TZOFFSETFROM:+0000
TZOFFSETTO:+0000
TZNAME:UTC
DTSTART:20210101T000000
END:STANDARD
END:VTIMEZONE
BEGIN:VEVENT
DTSTART;TZID=UTC:20220626T170000
DTEND;TZID=UTC:20220628T170000
DTSTAMP:20260421T120146
CREATED:20220401T140313Z
LAST-MODIFIED:20220401T140313Z
UID:1278264-1656262800-1656435600@kraftur.org
SUMMARY:Kraftur klífur Fimmvörðuháls
DESCRIPTION:Ekki missa af þessu frábæra gönguævintýri!  \nVið ætlum að skella okkur í ævintýralega ferð yfir Fimmvörðuháls dagana 26. til 28. júní. \nFimmvörðuhálsinn er ein af fallegustu gönguparadís á Íslandi og höfum við hjá Krafti fengið einstakt tækifæri til að bjóða okkar félagsmönnum upp á frábæra upplifun um þessa einstöku gönguleið í fylgd með reyndum leiðsögumanni frá Midgard Adventure. Þetta er ein vinsælasta gönguleið á Íslandi og er gengið milli tveggja jökla\, Eyjafjallajökuls og Mýrdalsjökuls\, og tengir leiðin Skóga við Þórsmörk. Eftir göngu mun hópurinn gæða sér á grilluðum hamborgara og kældum bjór eða gosi inni í Þórsmörk. Eftir mat er ekið að Midgard Base Camp þar sem fólk getur mýkt stirða vöðva í heitum potti og gufubaði áður en lagst til hvílu í uppábúinni koju. \nDagskrá:\n26. júní – Gistum á Midgard Base Camp.\n27. júní – Göngum yfir Fimmvörðuháls og gistum aftur á Midgard Base Camp\n28. júní – Morgunverður og heimför \nSkráning er nauðsynleg og staðfestingargjald er 10.000 kr. og verður sent út þegar skráningarfrestur rennur út. Hægt er að sjá að neðan hvað er innifalið í þessu skráningarverði og að hverju þú þarft að huga sjálf(ur). \nHvað er innifalið? \n\nGönguleiðsögn\nSkutl frá Midgard Base Camp inn að Skógum þar sem gangan hefst\nHamborgari og drykkur í Þórsmörk\nSkutl frá Þórsmörk að Midgard Base Camp\nGisting í tvær nætur í uppábúinni koju á Midgard Base Camp\nMorgunverður báða morgnana\nUndirbúningsfundur kvöldið fyrir gönguna\nAðgangur að heitum potti og sauna á Midgard Base Camp\n\nHvað er EKKI innifalið? \n\nAllur göngubúnaður\, skór\, stafir\, fatnaður o.s.frv.\nKvöldverður 26. júní\nNesti í göngunni\nNasl og drykkir á Midgard Base Camp\n\nFar\, fram og til baka\, á HvolsvöllHvernig ganga og fyrir hvern?\nGangan er fyrir alla félagsmenn í Krafti\nVið mælum ekki með að börn komi í gönguna\nVið mælum með að þú komir í æfingargöngurnar sem Að klífa á brattann verður með fyrir gönguna (nánari upplýsingar inn á FB hóp Að klífa brattann) \nLeiðin er 24 km\, lóðrétt hækkun er 1000 m. og tekur gangan um 9 klst. en við munum stoppa á milli\, hvílast og nærast. \nNú er bara um að gera að SKRÁ sig og fara hlakka til því þetta er svo sannarlega ævintýri sem þú munt alltaf geyma í hjartastað. Takmarkað pláss í boði svo það borgar sig að skrá sig sem fyrst. \nSkráning fer fram hér 
URL:https://kraftur.org/vidburdur/kraftur-klifur-fimmvorduhals/
LOCATION:Midgard Base Camp\, Duftþaksbraut 16\, Hvolsvöllur\, 860\, Iceland
ATTACH;FMTTYPE=image/jpeg:https://kraftur.org/wp-content/uploads/2022/04/banner_fimmvorduhals_fitonskraftur_web-1.jpg
END:VEVENT
END:VCALENDAR