BEGIN:VCALENDAR
VERSION:2.0
PRODID:-//Kraftur - ECPv6.15.15//NONSGML v1.0//EN
CALSCALE:GREGORIAN
METHOD:PUBLISH
X-ORIGINAL-URL:https://kraftur.org
X-WR-CALDESC:Viðburðir í Kraftur
REFRESH-INTERVAL;VALUE=DURATION:PT1H
X-Robots-Tag:noindex
X-PUBLISHED-TTL:PT1H
BEGIN:VTIMEZONE
TZID:UTC
BEGIN:STANDARD
TZOFFSETFROM:+0000
TZOFFSETTO:+0000
TZNAME:UTC
DTSTART:20210101T000000
END:STANDARD
END:VTIMEZONE
BEGIN:VEVENT
DTSTART;TZID=UTC:20220706T170000
DTEND;TZID=UTC:20220706T203000
DTSTAMP:20260425T103758
CREATED:20220627T111516Z
LAST-MODIFIED:20220627T111516Z
UID:1284518-1657126800-1657139400@kraftur.org
SUMMARY:Viðeyjarferð - Krabbamein fer ekki frí
DESCRIPTION:Kraftur ætlar að skella sér út í Viðey undir yfirskriftinni Krabbamein fer ekki í frí. \nVið ætlum við að hittast miðvikudaginn 6. júlí klukkan 17:00 á Skarfabakka þaðan sem Viðeyjarferjan fer. Við siglum svo yfir í Viðey þar sem við förum í leiki og grillum saman. Þú þarft ekki að taka neitt með þér nema góða skapið. Mikilvægt er að skrá sig og sína hér fyrir ferjuna.  \nÞetta er fyrsti viðburðurinn af tveimur undir yfirskriftinni  Krabbamein fer ekki í frí  sem við höldum í júlí fyrir félagsmenn okkar. Þar er megin markmiðið að koma saman\, njóta útivistar og líðandi stundar. Viðburðirnir eru bæði fyrir fólk sem hefur greinst með krabbamein sem og aðstandendur og er tilvalin stund fyrir vini og fjölskyldu að koma saman. \nKrabbamein fer ekki í frí er vitundarvakning Krafts sem snýr að því að þótt fólk fari í sumarfrí þá fer krabbamein ekki í frí. Oft getur verið minni starfsemi og þjónusta yfir sumartímann hjá þjónustuaðilum sem sinna krabbameinsgreindum og aðstandendum. Við hjá Krafti höfum því tekið saman opnunartíma hjá ýmsum aðilum. Þótt þjónustan sé takmarkaðri þá skiptir máli að vita hvert maður getur leitað sér læknishjálpar\, ráðgjafar og stuðnings\,
URL:https://kraftur.org/vidburdur/krabbamein-fer-ekki-fri/
LOCATION:Viðey\, Skarfabakka\, Reykjavik\, Iceland
ATTACH;FMTTYPE=image/jpeg:https://kraftur.org/wp-content/uploads/2022/06/krabbamein-fer-ekki-i-fri_videy_FB-1.jpg
END:VEVENT
END:VCALENDAR