BEGIN:VCALENDAR
VERSION:2.0
PRODID:-//Kraftur - ECPv6.15.15//NONSGML v1.0//EN
CALSCALE:GREGORIAN
METHOD:PUBLISH
X-WR-CALNAME:Kraftur
X-ORIGINAL-URL:https://kraftur.org
X-WR-CALDESC:Viðburðir í Kraftur
REFRESH-INTERVAL;VALUE=DURATION:PT1H
X-Robots-Tag:noindex
X-PUBLISHED-TTL:PT1H
BEGIN:VTIMEZONE
TZID:UTC
BEGIN:STANDARD
TZOFFSETFROM:+0000
TZOFFSETTO:+0000
TZNAME:UTC
DTSTART:20210101T000000
END:STANDARD
END:VTIMEZONE
BEGIN:VEVENT
DTSTART;TZID=UTC:20220818T150000
DTEND;TZID=UTC:20220818T200000
DTSTAMP:20260421T083233
CREATED:20220627T110433Z
LAST-MODIFIED:20220627T110433Z
UID:1284513-1660834800-1660852800@kraftur.org
SUMMARY:Skráningarhátíð Reykjavíkurmaraþonsins 2022
DESCRIPTION:Fit & Run skráningarhátíð Reykjavíkurmaraþonsins verður haldin fimmtudaginn 18. og föstudaginn 19. ágúst í Laugardalshöllinni. \nEins og áður verður Kraftur með bás á hátíðinni þar sem hlauparar sem hlaupa af Krafti geta sótt Krafts hlaupaboli og glaðning frá félaginu. \nEinnig verða okkar vinsælu styrktarvörur til sölu á viðburðinu. \nNánari upplýsingar um dagskrá skráningarhátíðarinnar má finna hér. \nHægt er að skrá sig í Reykjavíkurmaraþonið inná heimasíðu hlaupsins og hægt er að velja um 4 vegalengdir. \nVið hvetjum alla til að velja Kraft sem sitt Góðgerðarfélag og hjálpa okkur að hjálpa öðrum með því að safna áheitum fyrir félagið
URL:https://kraftur.org/vidburdur/skraningarhatid-reykjavikurmarathonsins-2022/
LOCATION:Laugardalur\, 105\, Iceland
ATTACH;FMTTYPE=image/jpeg:https://kraftur.org/wp-content/uploads/2022/06/fitandrunexpo-1.jpg
END:VEVENT
END:VCALENDAR