BEGIN:VCALENDAR
VERSION:2.0
PRODID:-//Kraftur - ECPv6.15.15//NONSGML v1.0//EN
CALSCALE:GREGORIAN
METHOD:PUBLISH
X-WR-CALNAME:Kraftur
X-ORIGINAL-URL:https://kraftur.org
X-WR-CALDESC:Viðburðir í Kraftur
REFRESH-INTERVAL;VALUE=DURATION:PT1H
X-Robots-Tag:noindex
X-PUBLISHED-TTL:PT1H
BEGIN:VTIMEZONE
TZID:UTC
BEGIN:STANDARD
TZOFFSETFROM:+0000
TZOFFSETTO:+0000
TZNAME:UTC
DTSTART:20210101T000000
END:STANDARD
END:VTIMEZONE
BEGIN:VEVENT
DTSTART;TZID=UTC:20220820T083000
DTEND;TZID=UTC:20220820T123000
DTSTAMP:20260421T090922
CREATED:20220627T104122Z
LAST-MODIFIED:20220627T104122Z
UID:1284511-1660984200-1660998600@kraftur.org
SUMMARY:Klappliði Krafts - Reykjavíkurmaraþon 2022
DESCRIPTION:Kæru velunnarar og stuðningsmenn hlaupara \nVið hvetjum ykkur til að mæta með læti laugardaginn 20. ágúst og hvetja þá fjölmörgu hlaupara sem hlaupa fyrir Kraft í Reykjavíkurmaraþoninu. \nFélagið verður eins og áður með hvatningarstöð á Ægissíðu við Dunhaga og við Sólfarið á Sæbraut. Þetta mun örugglega ekki fara fram hjá ykkur þar sem við verðum merkt Krafts litunum og lógói félagsins. \nMaraþonið er ræst kl. 8:30\, 1/2 maraþonið 8:45 og 10 km. hlaupið er ræst kl. 9:40\, svo gott er að mæta ekki mikið seinna en kl. 9:45. Starfsfólk og stjórn Krafts verður mætt kl. 8:30 fyrir „early birds“. \nEndilega meldaðu þig á Facebook \nBoðið verður upp á kaffi og með’í fyrir hvatningarliðið okkar \nMinnum ykkur á lokanir gatna vegna maraþonsins en upplýsingar um það má finna hér: https://www.rmi.is/truflun-a-umferd \nFrekari upplýsingar veitir Hrefna hjá Krafti í síma 866 9698 \nHlökkum til að sjá ykkur sem flest 🙂
URL:https://kraftur.org/vidburdur/klapplidi-krafts-reykjavikurmarathon-2022/
LOCATION:Kraftur  – Stuðningsfélag fyrir ungt fólk sem greinst hefur með krabbamein og aðstandendur\, Skógarhlíð 8\, Reykjavík\, Reykjavík\, 105\, Iceland
ATTACH;FMTTYPE=image/jpeg:https://kraftur.org/wp-content/uploads/2019/08/20190824-100917-4-2.jpg
END:VEVENT
END:VCALENDAR