BEGIN:VCALENDAR
VERSION:2.0
PRODID:-//Kraftur - ECPv6.15.15//NONSGML v1.0//EN
CALSCALE:GREGORIAN
METHOD:PUBLISH
X-WR-CALNAME:Kraftur
X-ORIGINAL-URL:https://kraftur.org
X-WR-CALDESC:Viðburðir í Kraftur
REFRESH-INTERVAL;VALUE=DURATION:PT1H
X-Robots-Tag:noindex
X-PUBLISHED-TTL:PT1H
BEGIN:VTIMEZONE
TZID:UTC
BEGIN:STANDARD
TZOFFSETFROM:+0000
TZOFFSETTO:+0000
TZNAME:UTC
DTSTART:20210101T000000
END:STANDARD
END:VTIMEZONE
BEGIN:VEVENT
DTSTART;TZID=UTC:20220827T110000
DTEND;TZID=UTC:20220827T130000
DTSTAMP:20260421T082450
CREATED:20220808T131405Z
LAST-MODIFIED:20220808T131405Z
UID:1288816-1661598000-1661605200@kraftur.org
SUMMARY:Ganga upp á Mosfell í Mosfellsbæ - Að klífa brattann
DESCRIPTION:Næsta ganga gönguhópsins Að klífa brattann verður laugardaginn 27. ágúst kl. 11.\n\n\nVið ætlum að ganga upp á Mosfell í Mosfellsbæ  og taka smá hring þar í kring. Gangan er á erfiðleikastigi 1 og hentar því flestum getustigum en fyrir suma væri gott að hafa meðferðis göngustafi. Hækkunin er rétt um 200 metrar. \nVIÐ ÆTLUM AÐ HITTAST VIÐ MOSFELLSKIRKJU \nEndilega meldaðu þig á viðburðinn hér svo við getum áætlað fjöldann\, því við viljum ekki skilja neinn eftir  \nEf þið viljið sameinast í bíla endilega látið okkur vita\nAtli Már Sveinsson þjálfari FítonsKrafts mun leiða gönguna. En síminn hjá honum er 663-2252 ef eitthvað er. \nGöngurnar henta öllum þeim sem hafa áhuga á að kynna sér göngur og íslenska náttúru og njóta þess að vera í hópi meðal jafningja. Kraftsfélagar\, fjölskyldur þeirra\, börn og vinir eru hjartanlega velkomin.  \n\nÞú getur fylgst með okkur á Facebook og beðið um inngöngu í hópinn hér\n 
URL:https://kraftur.org/vidburdur/ad-klifa-brattann-mosfell-mosfellsbae/
ATTACH;FMTTYPE=image/jpeg:https://kraftur.org/wp-content/uploads/2022/04/Banner_ad_klifa_brattann-1-1.jpg
END:VEVENT
END:VCALENDAR