BEGIN:VCALENDAR
VERSION:2.0
PRODID:-//Kraftur - ECPv6.15.15//NONSGML v1.0//EN
CALSCALE:GREGORIAN
METHOD:PUBLISH
X-WR-CALNAME:Kraftur
X-ORIGINAL-URL:https://kraftur.org
X-WR-CALDESC:Viðburðir í Kraftur
REFRESH-INTERVAL;VALUE=DURATION:PT1H
X-Robots-Tag:noindex
X-PUBLISHED-TTL:PT1H
BEGIN:VTIMEZONE
TZID:UTC
BEGIN:STANDARD
TZOFFSETFROM:+0000
TZOFFSETTO:+0000
TZNAME:UTC
DTSTART:20160101T000000
END:STANDARD
END:VTIMEZONE
BEGIN:VEVENT
DTSTART;TZID=UTC:20170309T173000
DTEND;TZID=UTC:20170309T183000
DTSTAMP:20260421T054512
CREATED:20170307T002420Z
LAST-MODIFIED:20170307T002420Z
UID:116678-1489080600-1489084200@kraftur.org
SUMMARY:Æfing hjá FítonsKrafti
DESCRIPTION:FítonsKraftur er endurhæfing í formi hreyfingar og útivistar fyrir ungt fólk sem greinst hefur með krabbamein.\nÆfingar eru í Heilsuborg 2x í viku undir handleiðslu Atla Más Sveinssonar íþróttafræðings. Frekari upplýsingar og skráning má finna hér.
URL:https://kraftur.org/vidburdur/aefing-hja-fitonskrafti-2/
LOCATION:Heilsuborg\, Bíldshöfði 9\, Reykjavík\, 110\, Iceland
END:VEVENT
BEGIN:VEVENT
DTSTART;TZID=UTC:20170307T173000
DTEND;TZID=UTC:20170307T183000
DTSTAMP:20260421T054512
CREATED:20170307T003016Z
LAST-MODIFIED:20170307T003016Z
UID:116989-1488907800-1488911400@kraftur.org
SUMMARY:Æfing hjá FítonsKrafti
DESCRIPTION:FítonsKraftur er endurhæfing í formi hreyfingar og útivistar fyrir ungt fólk sem greinst hefur með krabbamein.\nÆfingar eru í Heilsuborg 2x í viku undir handleiðslu Atla Más Sveinssonar íþróttafræðings. Frekari upplýsingar og skráning má finna hér.
URL:https://kraftur.org/vidburdur/aefing-hja-fitonskrafti/
LOCATION:Heilsuborg\, Bíldshöfði 9\, Reykjavík\, 110\, Iceland
END:VEVENT
BEGIN:VEVENT
DTSTART;TZID=UTC:20170309T173000
DTEND;TZID=UTC:20170309T183000
DTSTAMP:20260421T054512
CREATED:20170307T002420Z
LAST-MODIFIED:20170307T002420Z
UID:116678-1489080600-1489084200@kraftur.org
SUMMARY:Æfing hjá FítonsKrafti
DESCRIPTION:FítonsKraftur er endurhæfing í formi hreyfingar og útivistar fyrir ungt fólk sem greinst hefur með krabbamein.\nÆfingar eru í Heilsuborg 2x í viku undir handleiðslu Atla Más Sveinssonar íþróttafræðings. Frekari upplýsingar og skráning má finna hér.
URL:https://kraftur.org/vidburdur/aefing-hja-fitonskrafti-2/
LOCATION:Heilsuborg\, Bíldshöfði 9\, Reykjavík\, 110\, Iceland
END:VEVENT
BEGIN:VEVENT
DTSTART;TZID=UTC:20170307T173000
DTEND;TZID=UTC:20170307T183000
DTSTAMP:20260421T054512
CREATED:20170307T003016Z
LAST-MODIFIED:20170307T003016Z
UID:116989-1488907800-1488911400@kraftur.org
SUMMARY:Æfing hjá FítonsKrafti
DESCRIPTION:FítonsKraftur er endurhæfing í formi hreyfingar og útivistar fyrir ungt fólk sem greinst hefur með krabbamein.\nÆfingar eru í Heilsuborg 2x í viku undir handleiðslu Atla Más Sveinssonar íþróttafræðings. Frekari upplýsingar og skráning má finna hér.
URL:https://kraftur.org/vidburdur/aefing-hja-fitonskrafti/
LOCATION:Heilsuborg\, Bíldshöfði 9\, Reykjavík\, 110\, Iceland
END:VEVENT
BEGIN:VEVENT
DTSTART;TZID=UTC:20170425T180000
DTEND;TZID=UTC:20170425T190000
DTSTAMP:20260421T054512
CREATED:20170417T185334Z
LAST-MODIFIED:20170417T185334Z
UID:1196931-1493143200-1493146800@kraftur.org
SUMMARY:Aðalfundur Krafts
DESCRIPTION:Aðalfundur Krafts verður haldinn þriðjudaginn 25. apríl í Ráðgjafarþjónustu Krabbameinsfélagsins\, Skógarhlíð 8 og hefst kl. 18:00. \n\nDagskrá fundarins er eftirfarandi: \n1. Kosning fundarstjóra og fundarritara.\n2. Skýrsla stjórnar um starfsemi liðins starfsárs.\n3. Endurskoðaðir reikningar félagsins lagðir fram til samþykktar.\n4. Lagabreytingar. Lögð er til breyting á 5. gr. þar sem eftirfarandi málsgrein bætist við. „Einungis skuldlausir félagar í Krafti geta gefið kost á sér til stjórnarsetu og formennsku í félaginu“.\n5. Kjör formanns til tveggja ára.\n6. Kjör tveggja manna í stjórn til tveggja ára og tveggja varamanna til eins árs.\n7. Kjör löggilts endurskoðanda reikninga félagsins.\n8. Ákvörðun um félagsgjald og umræða um hagsmuni og kvaðir félagsaðildar.\n9. Önnur mál. \nAtkvæðisrétt á aðalfundi hafa skuldlausir félagsmenn. \nÓskað er eftir framboðum til stjórnar samkvæmt dagskrá. Sem fyrr segir er óskað eftir tveimur aðalmönnum í stjórn og tveimur varamönnum. \nÓskað er eftir framboði til formanns til tveggja ára.\nÁstrós Rut Sigurðardóttir\, núverandi varaformaður\, félagsins hefur nú þegar gefið kost á sér til formanns. Framboð skulu berast til framkvæmdastjóra á netfangið ragnheidur@kraftur.org þar sem fram kemur nafn\, kennitala og upplýsingar um viðkomandi. Framboð skulu berast eigi síðar en fös. 21.apríl.  \nVið hvetjum alla félagsmenn til að mæta á aðalfund Krafts.
URL:https://kraftur.org/vidburdur/adalfundur-krafts/
LOCATION:Kraftur  – Stuðningsfélag fyrir ungt fólk sem greinst hefur með krabbamein og aðstandendur\, Skógarhlíð 8\, Reykjavík\, Reykjavík\, 105\, Iceland
ATTACH;FMTTYPE=image/jpeg:https://kraftur.org/wp-content/uploads/2017/04/2016-6-23-72162C-2-scaled.jpg
END:VEVENT
BEGIN:VEVENT
DTSTART;TZID=UTC:20170426T180000
DTEND;TZID=UTC:20170426T220000
DTSTAMP:20260421T054512
CREATED:20170110T204632Z
LAST-MODIFIED:20170110T204632Z
UID:1148-1493229600-1493244000@kraftur.org
SUMMARY:Námskeið hjá Ungliðahópnum
DESCRIPTION:Frekari upplýsingar þegar nær dregur. Frekari upplýsingar veitir Kristján umsjónarmaður í síma 866 2826 eða með því að senda honum tölvupóst á kristjan.fridriks@gmail.com.
URL:https://kraftur.org/vidburdur/namskeid-hja-unglidahopnum/
END:VEVENT
BEGIN:VEVENT
DTSTART;TZID=UTC:20170309T173000
DTEND;TZID=UTC:20170309T183000
DTSTAMP:20260421T054512
CREATED:20170307T002420Z
LAST-MODIFIED:20170307T002420Z
UID:116678-1489080600-1489084200@kraftur.org
SUMMARY:Æfing hjá FítonsKrafti
DESCRIPTION:FítonsKraftur er endurhæfing í formi hreyfingar og útivistar fyrir ungt fólk sem greinst hefur með krabbamein.\nÆfingar eru í Heilsuborg 2x í viku undir handleiðslu Atla Más Sveinssonar íþróttafræðings. Frekari upplýsingar og skráning má finna hér.
URL:https://kraftur.org/vidburdur/aefing-hja-fitonskrafti-2/
LOCATION:Heilsuborg\, Bíldshöfði 9\, Reykjavík\, 110\, Iceland
END:VEVENT
BEGIN:VEVENT
DTSTART;TZID=UTC:20170429T100000
DTEND;TZID=UTC:20170429T120000
DTSTAMP:20260421T054512
CREATED:20170420T185303Z
LAST-MODIFIED:20170420T185303Z
UID:1197020-1493460000-1493467200@kraftur.org
SUMMARY:FítonsKraftur í Mjölni með Sunnu Tsunami
DESCRIPTION:FítonsKraftur ætlar að skella sér í Mjölni laugardaginn 29.apríl þar sem Sunna Tsunami ætlar að taka á móti hópnum. Lærð verður grunntækni í MMA og Sunna kennir okkur góða takta. Æfingin er opin öllum Kraftsfélögum\, líka þeim sem hafa ekki verið að stunda æfingar með FítonsKrafti. Skráning fer fram í gegnum Atla þjálfara með því að senda honum póst á fitonskraftur@kraftur.org.  \nFrekari upplýsingar er gefur Atli líka í síma 663-2252.
URL:https://kraftur.org/vidburdur/fitonskraftur-mjolni-med-sunnu-tsunami/
LOCATION:Mjölnir\, Flugvallarvegur 3\, Reykjavík\, Reykjavík\, 101\, Iceland
ATTACH;FMTTYPE=image/jpeg:https://kraftur.org/wp-content/uploads/2017/04/18010101_10158582815675187_3682036601709760462_n-2.jpg
END:VEVENT
BEGIN:VEVENT
DTSTART;TZID=UTC:20170307T173000
DTEND;TZID=UTC:20170307T183000
DTSTAMP:20260421T054512
CREATED:20170307T003016Z
LAST-MODIFIED:20170307T003016Z
UID:116989-1488907800-1488911400@kraftur.org
SUMMARY:Æfing hjá FítonsKrafti
DESCRIPTION:FítonsKraftur er endurhæfing í formi hreyfingar og útivistar fyrir ungt fólk sem greinst hefur með krabbamein.\nÆfingar eru í Heilsuborg 2x í viku undir handleiðslu Atla Más Sveinssonar íþróttafræðings. Frekari upplýsingar og skráning má finna hér.
URL:https://kraftur.org/vidburdur/aefing-hja-fitonskrafti/
LOCATION:Heilsuborg\, Bíldshöfði 9\, Reykjavík\, 110\, Iceland
END:VEVENT
BEGIN:VEVENT
DTSTART;TZID=UTC:20170405T200000
DTEND;TZID=UTC:20170405T220000
DTSTAMP:20260421T054512
CREATED:20170110T212459Z
LAST-MODIFIED:20230615T162409Z
UID:1156-1491422400-1491429600@kraftur.org
SUMMARY:Kaffihúsakvöld Krafts
DESCRIPTION:Kaffihúsakvöld Krafts eru alltaf haldin fyrsta miðvikudag hvers mánaðar kl. 20. Hittumst við á Stofunni kaffihúsi\, Vesturgötu 3\, 101 Reykjavík. Kaffihúsakvöldin er vettvangur fyrir ungt fólk sem greinst hefur með krabbamein og aðstandendur til að hitta fólk í svipuðum aðstæðum. Fulltrúar frá Krafti verða á staðnum og taka vel á móti ykkur 🙂
URL:https://kraftur.org/vidburdur/kaffihusakvold-krafts-3/
END:VEVENT
BEGIN:VEVENT
DTSTART;TZID=UTC:20170309T173000
DTEND;TZID=UTC:20170309T183000
DTSTAMP:20260421T054512
CREATED:20170307T002420Z
LAST-MODIFIED:20170307T002420Z
UID:116678-1489080600-1489084200@kraftur.org
SUMMARY:Æfing hjá FítonsKrafti
DESCRIPTION:FítonsKraftur er endurhæfing í formi hreyfingar og útivistar fyrir ungt fólk sem greinst hefur með krabbamein.\nÆfingar eru í Heilsuborg 2x í viku undir handleiðslu Atla Más Sveinssonar íþróttafræðings. Frekari upplýsingar og skráning má finna hér.
URL:https://kraftur.org/vidburdur/aefing-hja-fitonskrafti-2/
LOCATION:Heilsuborg\, Bíldshöfði 9\, Reykjavík\, 110\, Iceland
END:VEVENT
BEGIN:VEVENT
DTSTART;TZID=UTC:20170307T173000
DTEND;TZID=UTC:20170307T183000
DTSTAMP:20260421T054512
CREATED:20170307T003016Z
LAST-MODIFIED:20170307T003016Z
UID:116989-1488907800-1488911400@kraftur.org
SUMMARY:Æfing hjá FítonsKrafti
DESCRIPTION:FítonsKraftur er endurhæfing í formi hreyfingar og útivistar fyrir ungt fólk sem greinst hefur með krabbamein.\nÆfingar eru í Heilsuborg 2x í viku undir handleiðslu Atla Más Sveinssonar íþróttafræðings. Frekari upplýsingar og skráning má finna hér.
URL:https://kraftur.org/vidburdur/aefing-hja-fitonskrafti/
LOCATION:Heilsuborg\, Bíldshöfði 9\, Reykjavík\, 110\, Iceland
END:VEVENT
BEGIN:VEVENT
DTSTART;TZID=UTC:20170309T173000
DTEND;TZID=UTC:20170309T183000
DTSTAMP:20260421T054512
CREATED:20170307T002420Z
LAST-MODIFIED:20170307T002420Z
UID:116678-1489080600-1489084200@kraftur.org
SUMMARY:Æfing hjá FítonsKrafti
DESCRIPTION:FítonsKraftur er endurhæfing í formi hreyfingar og útivistar fyrir ungt fólk sem greinst hefur með krabbamein.\nÆfingar eru í Heilsuborg 2x í viku undir handleiðslu Atla Más Sveinssonar íþróttafræðings. Frekari upplýsingar og skráning má finna hér.
URL:https://kraftur.org/vidburdur/aefing-hja-fitonskrafti-2/
LOCATION:Heilsuborg\, Bíldshöfði 9\, Reykjavík\, 110\, Iceland
END:VEVENT
BEGIN:VEVENT
DTSTART;TZID=UTC:20170307T173000
DTEND;TZID=UTC:20170307T183000
DTSTAMP:20260421T054512
CREATED:20170307T003016Z
LAST-MODIFIED:20170307T003016Z
UID:116989-1488907800-1488911400@kraftur.org
SUMMARY:Æfing hjá FítonsKrafti
DESCRIPTION:FítonsKraftur er endurhæfing í formi hreyfingar og útivistar fyrir ungt fólk sem greinst hefur með krabbamein.\nÆfingar eru í Heilsuborg 2x í viku undir handleiðslu Atla Más Sveinssonar íþróttafræðings. Frekari upplýsingar og skráning má finna hér.
URL:https://kraftur.org/vidburdur/aefing-hja-fitonskrafti/
LOCATION:Heilsuborg\, Bíldshöfði 9\, Reykjavík\, 110\, Iceland
END:VEVENT
BEGIN:VEVENT
DTSTART;TZID=UTC:20170309T173000
DTEND;TZID=UTC:20170309T183000
DTSTAMP:20260421T054512
CREATED:20170307T002420Z
LAST-MODIFIED:20170307T002420Z
UID:116678-1489080600-1489084200@kraftur.org
SUMMARY:Æfing hjá FítonsKrafti
DESCRIPTION:FítonsKraftur er endurhæfing í formi hreyfingar og útivistar fyrir ungt fólk sem greinst hefur með krabbamein.\nÆfingar eru í Heilsuborg 2x í viku undir handleiðslu Atla Más Sveinssonar íþróttafræðings. Frekari upplýsingar og skráning má finna hér.
URL:https://kraftur.org/vidburdur/aefing-hja-fitonskrafti-2/
LOCATION:Heilsuborg\, Bíldshöfði 9\, Reykjavík\, 110\, Iceland
END:VEVENT
BEGIN:VEVENT
DTSTART;TZID=UTC:20170520T110000
DTEND;TZID=UTC:20170520T130000
DTSTAMP:20260421T054512
CREATED:20170514T160029Z
LAST-MODIFIED:20170514T160029Z
UID:1197591-1495278000-1495285200@kraftur.org
SUMMARY:Strandblak og fjör hjá FítonsKrafti
DESCRIPTION:Laugardaginn 20.maí ætlar FítonsKraftur að taka sumrinu fagnandi og fara í strandblak og í pottinn á ilströndinni í Nauthólsvík. \nMæting er við strandblakvöllinn kl. 11. \nFélagsmenn Krafts eru velkomnir að taka þátt í þessum viðburð þótt þeir séu ekki skráðir í FítonsKraft. \nFrekari upplýsingar veitir Atli þjálfar í síma: 6632252 eða í tölvupóst fitonskraftur@kraftur.org 
URL:https://kraftur.org/vidburdur/strandblak-og-fjor-hja-fitonskrafti/
LOCATION:Nauthólsvík\, Nauthólsvík\, Reykjavík\, Reykjavík\, 101\, Iceland
ATTACH;FMTTYPE=image/jpeg:https://kraftur.org/wp-content/uploads/2017/05/18358749_10158689484185187_1050040195404933248_o-1-2.jpg
END:VEVENT
BEGIN:VEVENT
DTSTART;TZID=UTC:20170307T173000
DTEND;TZID=UTC:20170307T183000
DTSTAMP:20260421T054512
CREATED:20170307T003016Z
LAST-MODIFIED:20170307T003016Z
UID:116989-1488907800-1488911400@kraftur.org
SUMMARY:Æfing hjá FítonsKrafti
DESCRIPTION:FítonsKraftur er endurhæfing í formi hreyfingar og útivistar fyrir ungt fólk sem greinst hefur með krabbamein.\nÆfingar eru í Heilsuborg 2x í viku undir handleiðslu Atla Más Sveinssonar íþróttafræðings. Frekari upplýsingar og skráning má finna hér.
URL:https://kraftur.org/vidburdur/aefing-hja-fitonskrafti/
LOCATION:Heilsuborg\, Bíldshöfði 9\, Reykjavík\, 110\, Iceland
END:VEVENT
BEGIN:VEVENT
DTSTART;TZID=UTC:20170309T173000
DTEND;TZID=UTC:20170309T183000
DTSTAMP:20260421T054512
CREATED:20170307T002420Z
LAST-MODIFIED:20170307T002420Z
UID:116678-1489080600-1489084200@kraftur.org
SUMMARY:Æfing hjá FítonsKrafti
DESCRIPTION:FítonsKraftur er endurhæfing í formi hreyfingar og útivistar fyrir ungt fólk sem greinst hefur með krabbamein.\nÆfingar eru í Heilsuborg 2x í viku undir handleiðslu Atla Más Sveinssonar íþróttafræðings. Frekari upplýsingar og skráning má finna hér.
URL:https://kraftur.org/vidburdur/aefing-hja-fitonskrafti-2/
LOCATION:Heilsuborg\, Bíldshöfði 9\, Reykjavík\, 110\, Iceland
END:VEVENT
BEGIN:VEVENT
DTSTART;VALUE=DATE:20170527
DTEND;VALUE=DATE:20170529
DTSTAMP:20260421T054512
CREATED:20170110T210427Z
LAST-MODIFIED:20170110T210427Z
UID:1154-1495843200-1496015999@kraftur.org
SUMMARY:Sumarbústaðarferð Ungliðahópsins
DESCRIPTION:Laugardaginn 27. maí ætlar Ungliðahópur Ljóssins\, Krafts og SKB að skella sér í sumarbústað hjá SKB og gista eina nótt. Við ætlum að grilla\, spila\, fara í pottinn og margt fl. skemmtilegt. Planið er að leggja af stað kl. 15 á laugardaginn og hittast hjá Olís í Norðlingaholti v/Rauðavatn. \nMæli með að koma með eftirfarandi:\n– sundföt\n– handklæði\n– skemmtileg spil\n– fatnað eftir veðri\n– svefnpoka og kodda\n– góða skapið \nÁhugasamir geta skráð sig með því að senda tölvupóst á kristjan.fridriks@gmail.com. Einnig er hægt að fylgjast nánar með því sem ungliðhópurinn er að gera með því að óska eftir inngöngu í Facebookhópinn þeirra.
URL:https://kraftur.org/vidburdur/sumarbustadarferd-unglidahopsins/
ATTACH;FMTTYPE=image/jpeg:https://kraftur.org/wp-content/uploads/2017/01/hetjulundur-2.jpg
END:VEVENT
BEGIN:VEVENT
DTSTART;TZID=UTC:20170307T173000
DTEND;TZID=UTC:20170307T183000
DTSTAMP:20260421T054512
CREATED:20170307T003016Z
LAST-MODIFIED:20170307T003016Z
UID:116989-1488907800-1488911400@kraftur.org
SUMMARY:Æfing hjá FítonsKrafti
DESCRIPTION:FítonsKraftur er endurhæfing í formi hreyfingar og útivistar fyrir ungt fólk sem greinst hefur með krabbamein.\nÆfingar eru í Heilsuborg 2x í viku undir handleiðslu Atla Más Sveinssonar íþróttafræðings. Frekari upplýsingar og skráning má finna hér.
URL:https://kraftur.org/vidburdur/aefing-hja-fitonskrafti/
LOCATION:Heilsuborg\, Bíldshöfði 9\, Reykjavík\, 110\, Iceland
END:VEVENT
BEGIN:VEVENT
DTSTART;TZID=UTC:20170309T173000
DTEND;TZID=UTC:20170309T183000
DTSTAMP:20260421T054512
CREATED:20170307T002420Z
LAST-MODIFIED:20170307T002420Z
UID:116678-1489080600-1489084200@kraftur.org
SUMMARY:Æfing hjá FítonsKrafti
DESCRIPTION:FítonsKraftur er endurhæfing í formi hreyfingar og útivistar fyrir ungt fólk sem greinst hefur með krabbamein.\nÆfingar eru í Heilsuborg 2x í viku undir handleiðslu Atla Más Sveinssonar íþróttafræðings. Frekari upplýsingar og skráning má finna hér.
URL:https://kraftur.org/vidburdur/aefing-hja-fitonskrafti-2/
LOCATION:Heilsuborg\, Bíldshöfði 9\, Reykjavík\, 110\, Iceland
END:VEVENT
BEGIN:VEVENT
DTSTART;TZID=UTC:20170307T173000
DTEND;TZID=UTC:20170307T183000
DTSTAMP:20260421T054512
CREATED:20170307T003016Z
LAST-MODIFIED:20170307T003016Z
UID:116989-1488907800-1488911400@kraftur.org
SUMMARY:Æfing hjá FítonsKrafti
DESCRIPTION:FítonsKraftur er endurhæfing í formi hreyfingar og útivistar fyrir ungt fólk sem greinst hefur með krabbamein.\nÆfingar eru í Heilsuborg 2x í viku undir handleiðslu Atla Más Sveinssonar íþróttafræðings. Frekari upplýsingar og skráning má finna hér.
URL:https://kraftur.org/vidburdur/aefing-hja-fitonskrafti/
LOCATION:Heilsuborg\, Bíldshöfði 9\, Reykjavík\, 110\, Iceland
END:VEVENT
BEGIN:VEVENT
DTSTART;TZID=UTC:20170405T200000
DTEND;TZID=UTC:20170405T220000
DTSTAMP:20260421T054512
CREATED:20170110T212459Z
LAST-MODIFIED:20230615T162409Z
UID:1156-1491422400-1491429600@kraftur.org
SUMMARY:Kaffihúsakvöld Krafts
DESCRIPTION:Kaffihúsakvöld Krafts eru alltaf haldin fyrsta miðvikudag hvers mánaðar kl. 20. Hittumst við á Stofunni kaffihúsi\, Vesturgötu 3\, 101 Reykjavík. Kaffihúsakvöldin er vettvangur fyrir ungt fólk sem greinst hefur með krabbamein og aðstandendur til að hitta fólk í svipuðum aðstæðum. Fulltrúar frá Krafti verða á staðnum og taka vel á móti ykkur 🙂
URL:https://kraftur.org/vidburdur/kaffihusakvold-krafts-3/
END:VEVENT
BEGIN:VEVENT
DTSTART;TZID=UTC:20170309T173000
DTEND;TZID=UTC:20170309T183000
DTSTAMP:20260421T054512
CREATED:20170307T002420Z
LAST-MODIFIED:20170307T002420Z
UID:116678-1489080600-1489084200@kraftur.org
SUMMARY:Æfing hjá FítonsKrafti
DESCRIPTION:FítonsKraftur er endurhæfing í formi hreyfingar og útivistar fyrir ungt fólk sem greinst hefur með krabbamein.\nÆfingar eru í Heilsuborg 2x í viku undir handleiðslu Atla Más Sveinssonar íþróttafræðings. Frekari upplýsingar og skráning má finna hér.
URL:https://kraftur.org/vidburdur/aefing-hja-fitonskrafti-2/
LOCATION:Heilsuborg\, Bíldshöfði 9\, Reykjavík\, 110\, Iceland
END:VEVENT
BEGIN:VEVENT
DTSTART;TZID=UTC:20170307T173000
DTEND;TZID=UTC:20170307T183000
DTSTAMP:20260421T054512
CREATED:20170307T003016Z
LAST-MODIFIED:20170307T003016Z
UID:116989-1488907800-1488911400@kraftur.org
SUMMARY:Æfing hjá FítonsKrafti
DESCRIPTION:FítonsKraftur er endurhæfing í formi hreyfingar og útivistar fyrir ungt fólk sem greinst hefur með krabbamein.\nÆfingar eru í Heilsuborg 2x í viku undir handleiðslu Atla Más Sveinssonar íþróttafræðings. Frekari upplýsingar og skráning má finna hér.
URL:https://kraftur.org/vidburdur/aefing-hja-fitonskrafti/
LOCATION:Heilsuborg\, Bíldshöfði 9\, Reykjavík\, 110\, Iceland
END:VEVENT
BEGIN:VEVENT
DTSTART;TZID=UTC:20170309T173000
DTEND;TZID=UTC:20170309T183000
DTSTAMP:20260421T054512
CREATED:20170307T002420Z
LAST-MODIFIED:20170307T002420Z
UID:116678-1489080600-1489084200@kraftur.org
SUMMARY:Æfing hjá FítonsKrafti
DESCRIPTION:FítonsKraftur er endurhæfing í formi hreyfingar og útivistar fyrir ungt fólk sem greinst hefur með krabbamein.\nÆfingar eru í Heilsuborg 2x í viku undir handleiðslu Atla Más Sveinssonar íþróttafræðings. Frekari upplýsingar og skráning má finna hér.
URL:https://kraftur.org/vidburdur/aefing-hja-fitonskrafti-2/
LOCATION:Heilsuborg\, Bíldshöfði 9\, Reykjavík\, 110\, Iceland
END:VEVENT
BEGIN:VEVENT
DTSTART;TZID=UTC:20170307T173000
DTEND;TZID=UTC:20170307T183000
DTSTAMP:20260421T054512
CREATED:20170307T003016Z
LAST-MODIFIED:20170307T003016Z
UID:116989-1488907800-1488911400@kraftur.org
SUMMARY:Æfing hjá FítonsKrafti
DESCRIPTION:FítonsKraftur er endurhæfing í formi hreyfingar og útivistar fyrir ungt fólk sem greinst hefur með krabbamein.\nÆfingar eru í Heilsuborg 2x í viku undir handleiðslu Atla Más Sveinssonar íþróttafræðings. Frekari upplýsingar og skráning má finna hér.
URL:https://kraftur.org/vidburdur/aefing-hja-fitonskrafti/
LOCATION:Heilsuborg\, Bíldshöfði 9\, Reykjavík\, 110\, Iceland
END:VEVENT
BEGIN:VEVENT
DTSTART;TZID=UTC:20170622T180000
DTEND;TZID=UTC:20170622T200000
DTSTAMP:20260421T054512
CREATED:20170514T160717Z
LAST-MODIFIED:20170514T160717Z
UID:1197595-1498154400-1498161600@kraftur.org
SUMMARY:Sumargrill Krafts
DESCRIPTION:Sumargrill Krafts verður haldið hátíðlegt í Guðmundarlundi þetta árið\, fimmtudaginn 22.júní kl. 18-20. \nDagskráin verður frábær í einu orði sagt! \nGRILLVAGN Atlantsolíu kemur á svæðið og sér öllum fyrir pylsum og gosi.\nHILDUR flytur nokkur lög.\nDAÐI FREYR sem sló í gegn í undankeppni Eurovision stígur á stokk\nSIRKUS ÍSLANDS mætir með sýningu og andlitsmálningu \nHoppukastali á staðnum og stuttir reiðtúrar í lundinum fyrir krakkana 🙂 \nHér má sjá leiðarlýsingu í Guðmundarlund:\nGuðmundarlundur er rétt hjá hesthúsunum við Heimsenda í Kópavogi (Elliðavatns megin). Breiðholtsbraut er ekin í átt að Víðidal\, beygt á ljósunum við Vatnsendahvarf (hjá nýju World Class og Bónus).\nKeyrt er eftir Vantsendavegi þar til komið er í þriðja hringtorgið þá er tekin síðasta beygjan að Þingmannaleið.\nÞar er skilti sem segir Heimsendi. Sú gata er keyrð þar til Heimsendi er á hægri hönd og þá á að vera skilti á vinstri hönd sem segir Guðmundarlundur. Keyrt upp á hæðina þar til komið er að skógræktarsvæði með grænu hliði\, þar er Guðmundarlundur. \nHlökkum til að sjá ykkur í lundinum góða ♥
URL:https://kraftur.org/vidburdur/sumargrill-krafts/
LOCATION:Guðmundarlundur\, Guðmundrarlundur\, Kópavogur\, 203\, Iceland
ATTACH;FMTTYPE=image/jpeg:https://kraftur.org/wp-content/uploads/2017/05/sumargrill_krafts_hs-2.jpg
END:VEVENT
BEGIN:VEVENT
DTSTART;TZID=UTC:20170809T100000
DTEND;TZID=UTC:20170809T110000
DTSTAMP:20260421T054512
CREATED:20161212T012518Z
LAST-MODIFIED:20161212T012518Z
UID:2024-1502272800-1502276400@kraftur.org
SUMMARY:Opinn viðtalstími á spítalanum
DESCRIPTION:Opinn viðtalstími á dagdeild blóð-og krabbameinslækninga 11-B alla miðvikudaga frá kl. 10:00-11:00. Ef þið hafið spurningar varðandi réttindi ykkar eða aðra þjónustu hjá Krafti. Verið velkomin 🙂
URL:https://kraftur.org/vidburdur/opinn-vidtalstimi-a-spitalanum-2-2017-05-31/
LOCATION:Landspítalinn\, Reykjavík\, Reykjavík\, 101\, Iceland
ATTACH;FMTTYPE=image/jpeg:https://kraftur.org/wp-content/uploads/2017/03/vidtalstimi-web-2.jpg
END:VEVENT
BEGIN:VEVENT
DTSTART;TZID=UTC:20170809T100000
DTEND;TZID=UTC:20170809T110000
DTSTAMP:20260421T054512
CREATED:20161212T012518Z
LAST-MODIFIED:20161212T012518Z
UID:2024-1502272800-1502276400@kraftur.org
SUMMARY:Opinn viðtalstími á spítalanum
DESCRIPTION:Opinn viðtalstími á dagdeild blóð-og krabbameinslækninga 11-B alla miðvikudaga frá kl. 10:00-11:00. Ef þið hafið spurningar varðandi réttindi ykkar eða aðra þjónustu hjá Krafti. Verið velkomin 🙂
URL:https://kraftur.org/vidburdur/opinn-vidtalstimi-a-spitalanum-2-2017-05-31/
LOCATION:Landspítalinn\, Reykjavík\, Reykjavík\, 101\, Iceland
ATTACH;FMTTYPE=image/jpeg:https://kraftur.org/wp-content/uploads/2017/03/vidtalstimi-web-2.jpg
END:VEVENT
END:VCALENDAR