BEGIN:VCALENDAR
VERSION:2.0
PRODID:-//Kraftur - ECPv6.15.15//NONSGML v1.0//EN
CALSCALE:GREGORIAN
METHOD:PUBLISH
X-ORIGINAL-URL:https://kraftur.org
X-WR-CALDESC:Viðburðir í Kraftur
REFRESH-INTERVAL;VALUE=DURATION:PT1H
X-Robots-Tag:noindex
X-PUBLISHED-TTL:PT1H
BEGIN:VTIMEZONE
TZID:UTC
BEGIN:STANDARD
TZOFFSETFROM:+0000
TZOFFSETTO:+0000
TZNAME:UTC
DTSTART:20160101T000000
END:STANDARD
END:VTIMEZONE
BEGIN:VEVENT
DTSTART;TZID=UTC:20170829T173000
DTEND;TZID=UTC:20170829T183000
DTSTAMP:20260420T225730
CREATED:20170829T203043Z
LAST-MODIFIED:20170829T203043Z
UID:1199658-1504027800-1504031400@kraftur.org
SUMMARY:Æfing hjá FítonsKrafti
DESCRIPTION:FítonsKraftur er endurhæfing í formi hreyfingar og útivistar fyrir ungt fólk sem greinst hefur með krabbamein.\nÆfingar eru í Heilsuborg 2x í viku undir handleiðslu Atla Más Sveinssonar íþróttafræðings. Frekari upplýsingar og skráning má finna hér.
URL:https://kraftur.org/vidburdur/aefing-hja-fitonskrafti-3/
LOCATION:Heilsuborg\, Bíldshöfði 9\, Reykjavík\, 110\, Iceland
END:VEVENT
BEGIN:VEVENT
DTSTART;TZID=UTC:20171019T200000
DTEND;TZID=UTC:20171019T220000
DTSTAMP:20260420T225730
CREATED:20171002T185432Z
LAST-MODIFIED:20171002T185432Z
UID:1200244-1508443200-1508450400@kraftur.org
SUMMARY:Brjóstsykursgerð hjá Ungliðahópnum
DESCRIPTION:Brjóstsykursgerð hjá Ungliðahópnum. Frekari upplýsingar þegar nær dregur. \nUngliðahópurinn er fyrir ungt fólk sem greinst hefur með krabbamein á aldrinum 18-29 ára og aðstandendur. Hópurinn hittist tvisvar sinnum í mánuði og er samstarfsverkefni Krafts\, Ljóssins og SKB.\nUmsjónarmaður hópsins er Kristján Friðriksson\, s: 866 2826 og tölvupóstur: kristjan.fridriks@gmail.com
URL:https://kraftur.org/vidburdur/brjostsykursgerd-hja-unglidahopnum/
LOCATION:Ljósið\, Langholtsvegur 43\, Reykjavík\, Iceland
END:VEVENT
BEGIN:VEVENT
DTSTART;TZID=UTC:20170829T173000
DTEND;TZID=UTC:20170829T183000
DTSTAMP:20260420T225730
CREATED:20170829T203043Z
LAST-MODIFIED:20170829T203043Z
UID:1199658-1504027800-1504031400@kraftur.org
SUMMARY:Æfing hjá FítonsKrafti
DESCRIPTION:FítonsKraftur er endurhæfing í formi hreyfingar og útivistar fyrir ungt fólk sem greinst hefur með krabbamein.\nÆfingar eru í Heilsuborg 2x í viku undir handleiðslu Atla Más Sveinssonar íþróttafræðings. Frekari upplýsingar og skráning má finna hér.
URL:https://kraftur.org/vidburdur/aefing-hja-fitonskrafti-3/
LOCATION:Heilsuborg\, Bíldshöfði 9\, Reykjavík\, 110\, Iceland
END:VEVENT
BEGIN:VEVENT
DTSTART;TZID=UTC:20170809T100000
DTEND;TZID=UTC:20170809T110000
DTSTAMP:20260420T225730
CREATED:20161212T012518Z
LAST-MODIFIED:20161212T012518Z
UID:2024-1502272800-1502276400@kraftur.org
SUMMARY:Opinn viðtalstími á spítalanum
DESCRIPTION:Opinn viðtalstími á dagdeild blóð-og krabbameinslækninga 11-B alla miðvikudaga frá kl. 10:00-11:00. Ef þið hafið spurningar varðandi réttindi ykkar eða aðra þjónustu hjá Krafti. Verið velkomin 🙂
URL:https://kraftur.org/vidburdur/opinn-vidtalstimi-a-spitalanum-2-2017-05-31/
LOCATION:Landspítalinn\, Reykjavík\, Reykjavík\, 101\, Iceland
ATTACH;FMTTYPE=image/jpeg:https://kraftur.org/wp-content/uploads/2017/03/vidtalstimi-web-2.jpg
END:VEVENT
BEGIN:VEVENT
DTSTART;TZID=UTC:20170829T173000
DTEND;TZID=UTC:20170829T183000
DTSTAMP:20260420T225730
CREATED:20170829T203043Z
LAST-MODIFIED:20170829T203043Z
UID:1199658-1504027800-1504031400@kraftur.org
SUMMARY:Æfing hjá FítonsKrafti
DESCRIPTION:FítonsKraftur er endurhæfing í formi hreyfingar og útivistar fyrir ungt fólk sem greinst hefur með krabbamein.\nÆfingar eru í Heilsuborg 2x í viku undir handleiðslu Atla Más Sveinssonar íþróttafræðings. Frekari upplýsingar og skráning má finna hér.
URL:https://kraftur.org/vidburdur/aefing-hja-fitonskrafti-3/
LOCATION:Heilsuborg\, Bíldshöfði 9\, Reykjavík\, 110\, Iceland
END:VEVENT
BEGIN:VEVENT
DTSTART;TZID=UTC:20171026T173000
DTEND;TZID=UTC:20171026T183000
DTSTAMP:20260420T225730
CREATED:20171023T152712Z
LAST-MODIFIED:20171023T152712Z
UID:1199676-1509039000-1509042600@kraftur.org
SUMMARY:FítonsJóga
DESCRIPTION:Fimmtudaginn næstkomandi 26.október stendur FítonsKraftur fyrir jógatíma í Heilsuborg sem er félagsmönnum Krafts opinn og að kostnaðarlausu.\nTíminn byrjar kl. 17:30 til 18:30. Heilsuborg er til húsa að Bíldshöfða 9\, Höfðinn. \nElín Skúladóttir mun leiða tímann. Hún lærði til yogakennara í Bretlandi fyrir rúmum áratug. Hún hefur einnig að mestu lokið meistaranámi í íþróttafræði við HÍ. Í upphafi sigldi Elín um höfin blá á skemmtiferðarskipi og kenndi yoga en síðan hún kom í land hefur hún kennt hot yoga í Hress í Hafnarfirði. Elín er sjálf meðlimur í „the awesome club that nobody wants to join“. \nFyrri hluti tímans verður tileinkaður sólinni eða kraftinum\, þá flæðum við úr einni stöðu í þá næstu og virkjum kraftinn í okkur. Seinni hluti tímans verður tileinkaður mánanum eða mýktinni. Teygjum\, slökun og læknandi möntrunni „Om Shree Dhanvantre Namaha“.
URL:https://kraftur.org/vidburdur/fitonsjoga/
LOCATION:Heilsuborg\, Bíldshöfði 9\, Reykjavík\, 110\, Iceland
ATTACH;FMTTYPE=image/jpeg:https://kraftur.org/wp-content/uploads/2017/10/Hatha-Yoga-Asanas-And-Their-Benefits-2.jpg
END:VEVENT
BEGIN:VEVENT
DTSTART;TZID=UTC:20171028T110000
DTEND;TZID=UTC:20171028T130000
DTSTAMP:20260420T225730
CREATED:20171008T001104Z
LAST-MODIFIED:20171008T001104Z
UID:1200362-1509188400-1509195600@kraftur.org
SUMMARY:FítonsKraftur í Mjölni með Sunnu Tsunami
DESCRIPTION:FítonsKraftur ætlar að skella sér í Mjölni laugardaginn 28.október þar sem Sunna Tsunami ætlar að taka á móti hópnum. Lærð verður grunntækni í MMA og Sunna kennir okkur góða takta. Æfingin er opin öllum Kraftsfélögum\, líka þeim sem hafa ekki verið að stunda æfingar með FítonsKrafti. Skráning fer fram í gegnum Atla þjálfara með því að senda honum póst á fitonskraftur@kraftur.org.  \nFrekari upplýsingar er gefur Atli líka í síma 663-2252.
URL:https://kraftur.org/vidburdur/fitonskraftur-mjolni-med-sunnu-tsunami-2/
LOCATION:Mjölnir\, Flugvallarvegur 3\, Reykjavík\, Reykjavík\, 101\, Iceland
ATTACH;FMTTYPE=image/jpeg:https://kraftur.org/wp-content/uploads/2017/04/18010101_10158582815675187_3682036601709760462_n-2.jpg
END:VEVENT
BEGIN:VEVENT
DTSTART;TZID=UTC:20171031T173000
DTEND;TZID=UTC:20171031T183000
DTSTAMP:20260420T225730
CREATED:20170829T203043Z
LAST-MODIFIED:20170829T203043Z
UID:1199668-1509471000-1509474600@kraftur.org
SUMMARY:Æfing hjá FítonsKrafti
DESCRIPTION:FítonsKraftur er endurhæfing í formi hreyfingar og útivistar fyrir ungt fólk sem greinst hefur með krabbamein.\nÆfingar eru í Heilsuborg 2x í viku undir handleiðslu Atla Más Sveinssonar íþróttafræðings. Frekari upplýsingar og skráning má finna hér.
URL:https://kraftur.org/vidburdur/aefing-hja-fitonskrafti-3-2017-10-26-2017-10-31/
LOCATION:Heilsuborg\, Bíldshöfði 9\, Reykjavík\, 110\, Iceland
END:VEVENT
BEGIN:VEVENT
DTSTART;TZID=UTC:20170809T100000
DTEND;TZID=UTC:20170809T110000
DTSTAMP:20260420T225730
CREATED:20161212T012518Z
LAST-MODIFIED:20161212T012518Z
UID:2024-1502272800-1502276400@kraftur.org
SUMMARY:Opinn viðtalstími á spítalanum
DESCRIPTION:Opinn viðtalstími á dagdeild blóð-og krabbameinslækninga 11-B alla miðvikudaga frá kl. 10:00-11:00. Ef þið hafið spurningar varðandi réttindi ykkar eða aðra þjónustu hjá Krafti. Verið velkomin 🙂
URL:https://kraftur.org/vidburdur/opinn-vidtalstimi-a-spitalanum-2-2017-05-31/
LOCATION:Landspítalinn\, Reykjavík\, Reykjavík\, 101\, Iceland
ATTACH;FMTTYPE=image/jpeg:https://kraftur.org/wp-content/uploads/2017/03/vidtalstimi-web-2.jpg
END:VEVENT
BEGIN:VEVENT
DTSTART;TZID=UTC:20171031T173000
DTEND;TZID=UTC:20171031T183000
DTSTAMP:20260420T225730
CREATED:20170829T203043Z
LAST-MODIFIED:20170829T203043Z
UID:1199668-1509471000-1509474600@kraftur.org
SUMMARY:Æfing hjá FítonsKrafti
DESCRIPTION:FítonsKraftur er endurhæfing í formi hreyfingar og útivistar fyrir ungt fólk sem greinst hefur með krabbamein.\nÆfingar eru í Heilsuborg 2x í viku undir handleiðslu Atla Más Sveinssonar íþróttafræðings. Frekari upplýsingar og skráning má finna hér.
URL:https://kraftur.org/vidburdur/aefing-hja-fitonskrafti-3-2017-10-26-2017-10-31/
LOCATION:Heilsuborg\, Bíldshöfði 9\, Reykjavík\, 110\, Iceland
END:VEVENT
BEGIN:VEVENT
DTSTART;TZID=UTC:20171102T200000
DTEND;TZID=UTC:20171102T220000
DTSTAMP:20260420T225730
CREATED:20171007T231708Z
LAST-MODIFIED:20171007T231708Z
UID:1200341-1509652800-1509660000@kraftur.org
SUMMARY:Spilakvöld Ungliðahópsins
DESCRIPTION:Fimmtudaginn 2. nóvember verður spilakvöld hjá Ungliðahópi Ljóssins\, Krafts og SKB. Við ætlum að hittast kl. 20:00 í Ljósinu og eiga skemmtilegt kvöld saman þar sem við spilum einhver geggjuð spil. \nEf þið eigið skemmtilega spil að þá hvet ég ykkur endilega að taka þau með ykkur á spilakvöldið 🙂 \nUngliðahópurinn er fyrir ungt fólk sem greinst hefur með krabbamein á aldrinum 18-29 ára og aðstandendur. Hópurinn hittist tvisvar sinnum í mánuði og er samstarfsverkefni Krafts\, Ljóssins og SKB.\nUmsjónarmaður hópsins er Kristján Friðriksson\, s: 866 2826 og tölvupóstur: kristjan.fridriks@gmail.com
URL:https://kraftur.org/vidburdur/spilakvold-unglidahopsins/
LOCATION:Ljósið\, Langholtsvegur 43\, Reykjavík\, Iceland
END:VEVENT
BEGIN:VEVENT
DTSTART;TZID=UTC:20171104T130000
DTEND;TZID=UTC:20171104T170000
DTSTAMP:20260420T225730
CREATED:20171008T005421Z
LAST-MODIFIED:20171008T005421Z
UID:1200368-1509800400-1509814800@kraftur.org
SUMMARY:Perlað með Krafti á Akureyri
DESCRIPTION:Kraftur ætlar að perla með Akureyri og nágreinni laugardaginn 4.nóvember milli kl. 13 – 17. Staðsetning á Akureyri er óstaðfest \nArmböndin eru með áletruninni „Lífið er núna“ og eru auðveld í samsetningu svo allir geta tekið þátt\, börn sem fullorðnir.\nVið óskum eftir kröftugum sjálfboðaliðum til að taka þátt í þessu skemmtilega verkefni með okkur. Öll armbönd eru perluð í sjálfboðavinnu og því mikil hugsjón bakvið hvert armband ♥ En allur ágóði af sölu armbandanna rennur til Krafts – stuðningsfélag fyrir ungt fólk sem greinst hefur með krabbmein og aðstandendur. \nSjálfboðaliðar geta komið á milli kl. 13 og 17 laugardaginn 4.nóvember og perlað af krafti. \nÞað mun vera heitt á könnunni og tökum vel á móti ykkur 🙂 \nKOMIÐ OG PERLIÐ MEÐ KRAFTI ♥
URL:https://kraftur.org/vidburdur/perlad-med-krafti-akureyri/
LOCATION:Akureyri\, Akureyri\, Akureyri\, Akureyri\, 600\, Iceland
ATTACH;FMTTYPE=image/jpeg:https://kraftur.org/wp-content/uploads/2017/01/16179484_1245259722230823_1841975653141498398_o-2.jpg
END:VEVENT
BEGIN:VEVENT
DTSTART;TZID=UTC:20171031T173000
DTEND;TZID=UTC:20171031T183000
DTSTAMP:20260420T225730
CREATED:20170829T203043Z
LAST-MODIFIED:20170829T203043Z
UID:1199668-1509471000-1509474600@kraftur.org
SUMMARY:Æfing hjá FítonsKrafti
DESCRIPTION:FítonsKraftur er endurhæfing í formi hreyfingar og útivistar fyrir ungt fólk sem greinst hefur með krabbamein.\nÆfingar eru í Heilsuborg 2x í viku undir handleiðslu Atla Más Sveinssonar íþróttafræðings. Frekari upplýsingar og skráning má finna hér.
URL:https://kraftur.org/vidburdur/aefing-hja-fitonskrafti-3-2017-10-26-2017-10-31/
LOCATION:Heilsuborg\, Bíldshöfði 9\, Reykjavík\, 110\, Iceland
END:VEVENT
BEGIN:VEVENT
DTSTART;TZID=UTC:20170809T100000
DTEND;TZID=UTC:20170809T110000
DTSTAMP:20260420T225730
CREATED:20161212T012518Z
LAST-MODIFIED:20161212T012518Z
UID:2024-1502272800-1502276400@kraftur.org
SUMMARY:Opinn viðtalstími á spítalanum
DESCRIPTION:Opinn viðtalstími á dagdeild blóð-og krabbameinslækninga 11-B alla miðvikudaga frá kl. 10:00-11:00. Ef þið hafið spurningar varðandi réttindi ykkar eða aðra þjónustu hjá Krafti. Verið velkomin 🙂
URL:https://kraftur.org/vidburdur/opinn-vidtalstimi-a-spitalanum-2-2017-05-31/
LOCATION:Landspítalinn\, Reykjavík\, Reykjavík\, 101\, Iceland
ATTACH;FMTTYPE=image/jpeg:https://kraftur.org/wp-content/uploads/2017/03/vidtalstimi-web-2.jpg
END:VEVENT
BEGIN:VEVENT
DTSTART;TZID=UTC:20171031T173000
DTEND;TZID=UTC:20171031T183000
DTSTAMP:20260420T225730
CREATED:20170829T203043Z
LAST-MODIFIED:20170829T203043Z
UID:1199668-1509471000-1509474600@kraftur.org
SUMMARY:Æfing hjá FítonsKrafti
DESCRIPTION:FítonsKraftur er endurhæfing í formi hreyfingar og útivistar fyrir ungt fólk sem greinst hefur með krabbamein.\nÆfingar eru í Heilsuborg 2x í viku undir handleiðslu Atla Más Sveinssonar íþróttafræðings. Frekari upplýsingar og skráning má finna hér.
URL:https://kraftur.org/vidburdur/aefing-hja-fitonskrafti-3-2017-10-26-2017-10-31/
LOCATION:Heilsuborg\, Bíldshöfði 9\, Reykjavík\, 110\, Iceland
END:VEVENT
BEGIN:VEVENT
DTSTART;TZID=UTC:20171112T120000
DTEND;TZID=UTC:20171112T140000
DTSTAMP:20260420T225730
CREATED:20171008T002816Z
LAST-MODIFIED:20171008T002816Z
UID:1200364-1510488000-1510495200@kraftur.org
SUMMARY:FítonsKraftur - Körfuboltaæfing með Pálmari Ragnarssyni
DESCRIPTION:Sunnudaginn 12.nóvember kl. 12:00 ætlar FítonsKraftur að taka körfuboltaæfingu með Pálmari Ragnarssyni en Pálmar hefur verið að þjálfa yngri flokka hjá KR og nú hjá Val með góðum árangri. Pálmar er mikill peppari og var meistarinn í síðasta meistaramánuði. \nÆfingin er opin öllum Kraftsfélögum\, líka þeim sem hafa ekki verið að stunda æfingar með FítonsKrafti. Endilega látið vita af þátttöku með því að hafa samband við Atla þjálfara eða senda honum póst á fitonskraftur@kraftur.org.  \nPálmar er bæði fyrirlesari og körfuboltaþjálfari sem hefur náð mjög góðum árangri með yngri flokkum í KR og núna í VAL.\nÍ fyrirlestrunum fjallar hann um aðferðir reynslu sína í þjálfun barna og unglinga og hvernig tengja má þær hugmyndir yfir á samskipti fullorðinna á vinnustöðum. Þar leggur hann áherslu á það að láta öllum líði eins og þeir séu mikilvægur hluti af hópnum\, hvernig við getum haft hvetjandi áhrif á fólkið í kringum okkur og hvernig við tökum á móti nýju fólki. \nFrekari upplýsingar er gefur Atli líka í síma 663-2252.
URL:https://kraftur.org/vidburdur/fitonskraftur-korfuboltaaefing-med-palmari-ragnarssyni/
LOCATION:Langholtsskóli\, Holtavegur 23\, Reykjavík\, Reykjavík\, 104\, Iceland
ATTACH;FMTTYPE=image/jpeg:https://kraftur.org/wp-content/uploads/2017/10/Basketball-2-2.jpg
END:VEVENT
BEGIN:VEVENT
DTSTART;TZID=UTC:20171031T173000
DTEND;TZID=UTC:20171031T183000
DTSTAMP:20260420T225730
CREATED:20170829T203043Z
LAST-MODIFIED:20170829T203043Z
UID:1199668-1509471000-1509474600@kraftur.org
SUMMARY:Æfing hjá FítonsKrafti
DESCRIPTION:FítonsKraftur er endurhæfing í formi hreyfingar og útivistar fyrir ungt fólk sem greinst hefur með krabbamein.\nÆfingar eru í Heilsuborg 2x í viku undir handleiðslu Atla Más Sveinssonar íþróttafræðings. Frekari upplýsingar og skráning má finna hér.
URL:https://kraftur.org/vidburdur/aefing-hja-fitonskrafti-3-2017-10-26-2017-10-31/
LOCATION:Heilsuborg\, Bíldshöfði 9\, Reykjavík\, 110\, Iceland
END:VEVENT
BEGIN:VEVENT
DTSTART;TZID=UTC:20170809T100000
DTEND;TZID=UTC:20170809T110000
DTSTAMP:20260420T225730
CREATED:20161212T012518Z
LAST-MODIFIED:20161212T012518Z
UID:2024-1502272800-1502276400@kraftur.org
SUMMARY:Opinn viðtalstími á spítalanum
DESCRIPTION:Opinn viðtalstími á dagdeild blóð-og krabbameinslækninga 11-B alla miðvikudaga frá kl. 10:00-11:00. Ef þið hafið spurningar varðandi réttindi ykkar eða aðra þjónustu hjá Krafti. Verið velkomin 🙂
URL:https://kraftur.org/vidburdur/opinn-vidtalstimi-a-spitalanum-2-2017-05-31/
LOCATION:Landspítalinn\, Reykjavík\, Reykjavík\, 101\, Iceland
ATTACH;FMTTYPE=image/jpeg:https://kraftur.org/wp-content/uploads/2017/03/vidtalstimi-web-2.jpg
END:VEVENT
BEGIN:VEVENT
DTSTART;TZID=UTC:20171031T173000
DTEND;TZID=UTC:20171031T183000
DTSTAMP:20260420T225730
CREATED:20170829T203043Z
LAST-MODIFIED:20170829T203043Z
UID:1199668-1509471000-1509474600@kraftur.org
SUMMARY:Æfing hjá FítonsKrafti
DESCRIPTION:FítonsKraftur er endurhæfing í formi hreyfingar og útivistar fyrir ungt fólk sem greinst hefur með krabbamein.\nÆfingar eru í Heilsuborg 2x í viku undir handleiðslu Atla Más Sveinssonar íþróttafræðings. Frekari upplýsingar og skráning má finna hér.
URL:https://kraftur.org/vidburdur/aefing-hja-fitonskrafti-3-2017-10-26-2017-10-31/
LOCATION:Heilsuborg\, Bíldshöfði 9\, Reykjavík\, 110\, Iceland
END:VEVENT
BEGIN:VEVENT
DTSTART;TZID=UTC:20171120T170000
DTEND;TZID=UTC:20171120T210000
DTSTAMP:20260420T225730
CREATED:20170905T185925Z
LAST-MODIFIED:20170905T185925Z
UID:1199773-1511197200-1511211600@kraftur.org
SUMMARY:Stuðningsfulltrúanámskeið Krafts og RÞ
DESCRIPTION:Stuðningsfulltrúanámskeið fyrir verðandi stuðningsfulltrúa í stuðningsneti Krafts og Ráðgjafarþjónustu Krabbameinsfélagsins verður haldið þriðjudagana 20. nóvember og 27. nóvember\, frá klukkan 17:00 til 21:00. Námskeiðið verður haldið í sal Ráðgjafarþjónustunnar á fyrstu hæð í húsnæði Krabbameinsfélagsins\, Skógarhlíð 8. \nNámskeiðið er bæði ætlað þeim sem hafa greinst með krabbamein og hafa lokið við krabbameinsmeðferð sem og aðstandendum\, sem vilja styðja við einstaklinga sem eru í svipuðum sporum. \nTil að taka þátt á námskeiðinu þarf að skrá sig á netfanginu salfraedingur@kraftur.org eða með því að fylla út þetta skráningarform. \nFrekari upplýsingar má sjá hér.
URL:https://kraftur.org/vidburdur/studningsfulltruanamskeid-krafts-og-rth/
ATTACH;FMTTYPE=image/png:https://kraftur.org/wp-content/uploads/2017/05/Screen-Shot-2017-05-11-at-11.25.41-2.png
END:VEVENT
BEGIN:VEVENT
DTSTART;TZID=UTC:20171031T173000
DTEND;TZID=UTC:20171031T183000
DTSTAMP:20260420T225730
CREATED:20170829T203043Z
LAST-MODIFIED:20170829T203043Z
UID:1199668-1509471000-1509474600@kraftur.org
SUMMARY:Æfing hjá FítonsKrafti
DESCRIPTION:FítonsKraftur er endurhæfing í formi hreyfingar og útivistar fyrir ungt fólk sem greinst hefur með krabbamein.\nÆfingar eru í Heilsuborg 2x í viku undir handleiðslu Atla Más Sveinssonar íþróttafræðings. Frekari upplýsingar og skráning má finna hér.
URL:https://kraftur.org/vidburdur/aefing-hja-fitonskrafti-3-2017-10-26-2017-10-31/
LOCATION:Heilsuborg\, Bíldshöfði 9\, Reykjavík\, 110\, Iceland
END:VEVENT
BEGIN:VEVENT
DTSTART;TZID=UTC:20170809T100000
DTEND;TZID=UTC:20170809T110000
DTSTAMP:20260420T225730
CREATED:20161212T012518Z
LAST-MODIFIED:20161212T012518Z
UID:2024-1502272800-1502276400@kraftur.org
SUMMARY:Opinn viðtalstími á spítalanum
DESCRIPTION:Opinn viðtalstími á dagdeild blóð-og krabbameinslækninga 11-B alla miðvikudaga frá kl. 10:00-11:00. Ef þið hafið spurningar varðandi réttindi ykkar eða aðra þjónustu hjá Krafti. Verið velkomin 🙂
URL:https://kraftur.org/vidburdur/opinn-vidtalstimi-a-spitalanum-2-2017-05-31/
LOCATION:Landspítalinn\, Reykjavík\, Reykjavík\, 101\, Iceland
ATTACH;FMTTYPE=image/jpeg:https://kraftur.org/wp-content/uploads/2017/03/vidtalstimi-web-2.jpg
END:VEVENT
BEGIN:VEVENT
DTSTART;TZID=UTC:20171031T173000
DTEND;TZID=UTC:20171031T183000
DTSTAMP:20260420T225730
CREATED:20170829T203043Z
LAST-MODIFIED:20170829T203043Z
UID:1199668-1509471000-1509474600@kraftur.org
SUMMARY:Æfing hjá FítonsKrafti
DESCRIPTION:FítonsKraftur er endurhæfing í formi hreyfingar og útivistar fyrir ungt fólk sem greinst hefur með krabbamein.\nÆfingar eru í Heilsuborg 2x í viku undir handleiðslu Atla Más Sveinssonar íþróttafræðings. Frekari upplýsingar og skráning má finna hér.
URL:https://kraftur.org/vidburdur/aefing-hja-fitonskrafti-3-2017-10-26-2017-10-31/
LOCATION:Heilsuborg\, Bíldshöfði 9\, Reykjavík\, 110\, Iceland
END:VEVENT
BEGIN:VEVENT
DTSTART;TZID=UTC:20171123T200000
DTEND;TZID=UTC:20171123T220000
DTSTAMP:20260420T225730
CREATED:20171007T232305Z
LAST-MODIFIED:20171007T232305Z
UID:1200345-1511467200-1511474400@kraftur.org
SUMMARY:Út að borða með Ungliðahópnum
DESCRIPTION:Ungliðahópurinn ætlar að fara saman út að borða fim. 23.nóv. Frekari upplýsingar inn á Facebookhóp Ungliðahópsins. \nUngliðahópurinn er fyrir ungt fólk sem greinst hefur með krabbamein á aldrinum 18-29 ára og aðstandendur. Hópurinn hittist tvisvar sinnum í mánuði og er samstarfsverkefni Krafts\, Ljóssins og SKB.\nUmsjónarmaður hópsins er Kristján Friðriksson\, s: 866 2826 og tölvupóstur: kristjan.fridriks@gmail.com
URL:https://kraftur.org/vidburdur/leikhusferd-hja-unglidahopnumc/
ATTACH;FMTTYPE=image/jpeg:https://kraftur.org/wp-content/uploads/2016/11/IMG_0513-scaled.jpg
END:VEVENT
BEGIN:VEVENT
DTSTART;TZID=UTC:20171125T130000
DTEND;TZID=UTC:20171125T170000
DTSTAMP:20260420T225730
CREATED:20171110T142224Z
LAST-MODIFIED:20171110T142224Z
UID:1201041-1511614800-1511629200@kraftur.org
SUMMARY:Perlað með Krafti á Hvolsvelli
DESCRIPTION:Kraftur ætlar að perla með Hvolsvelli og nágrenni laugardaginn 25.nóvember milli kl. 13 – 17 í Midgard Adventure á Hvolsvelli. \nArmböndin eru með áletruninni „Lífið er núna“ og eru auðveld í samsetningu svo allir geta tekið þátt\, börn sem fullorðnir.\nVið óskum eftir kröftugum sjálfboðaliðum til að taka þátt í þessu skemmtilega verkefni með okkur.\nÖll armbönd eru perluð í sjálfboðavinnu og því mikil hugsjón bakvið hvert armband ♥ En allur ágóði af sölu armbandanna rennur til Krafts – stuðningsfélag fyrir ungt fólk sem greinst hefur með krabbmein og aðstandendur. \nSjálfboðaliðar geta komið á milli kl. 13 og 17 laugardaginn 25.nóvember og perlað af krafti. \nÞað mun vera heitt á könnunni og tökum vel á móti ykkur 🙂 \nKOMIÐ OG PERLIÐ MEÐ KRAFTI ♥ #lífiðernúna #kraftur
URL:https://kraftur.org/vidburdur/perlad-med-krafti-hvolsvelli/
LOCATION:Midgard adventure\, Dufþaksbraut 14\, Hvolsvöllur\, Hvolsvöllur\, 860\, Iceland
ATTACH;FMTTYPE=image/jpeg:https://kraftur.org/wp-content/uploads/2017/11/75A5923net-e1535551054176-2.jpg
END:VEVENT
BEGIN:VEVENT
DTSTART;TZID=UTC:20171120T170000
DTEND;TZID=UTC:20171120T210000
DTSTAMP:20260420T225730
CREATED:20170905T185925Z
LAST-MODIFIED:20170905T185925Z
UID:1199773-1511197200-1511211600@kraftur.org
SUMMARY:Stuðningsfulltrúanámskeið Krafts og RÞ
DESCRIPTION:Stuðningsfulltrúanámskeið fyrir verðandi stuðningsfulltrúa í stuðningsneti Krafts og Ráðgjafarþjónustu Krabbameinsfélagsins verður haldið þriðjudagana 20. nóvember og 27. nóvember\, frá klukkan 17:00 til 21:00. Námskeiðið verður haldið í sal Ráðgjafarþjónustunnar á fyrstu hæð í húsnæði Krabbameinsfélagsins\, Skógarhlíð 8. \nNámskeiðið er bæði ætlað þeim sem hafa greinst með krabbamein og hafa lokið við krabbameinsmeðferð sem og aðstandendum\, sem vilja styðja við einstaklinga sem eru í svipuðum sporum. \nTil að taka þátt á námskeiðinu þarf að skrá sig á netfanginu salfraedingur@kraftur.org eða með því að fylla út þetta skráningarform. \nFrekari upplýsingar má sjá hér.
URL:https://kraftur.org/vidburdur/studningsfulltruanamskeid-krafts-og-rth/
ATTACH;FMTTYPE=image/png:https://kraftur.org/wp-content/uploads/2017/05/Screen-Shot-2017-05-11-at-11.25.41-2.png
END:VEVENT
BEGIN:VEVENT
DTSTART;TZID=UTC:20171128T171500
DTEND;TZID=UTC:20171128T183000
DTSTAMP:20260420T225730
CREATED:20171121T232249Z
LAST-MODIFIED:20171121T232249Z
UID:1201213-1511889300-1511893800@kraftur.org
SUMMARY:Frjósemi og krabbamein - fyrirlestur
DESCRIPTION:Þriðjudaginn 28. nóvember nk. verður haldinn þriðji fyrirlesturinn í mánaðarlegri fyrirlestraröð Krafts – Ungt fólk og krabbamein. \nFrjósemi og krabbamein. Áhrif sjúkdómsgreiningar\, meðferða og frjósemisverndandi úrræði. Dr. Ásgerður Sverrisdóttir\, krabbameinslæknir á Landspítalanum fjallar um ástæður ófrjósemis ungs fólks vegna krabbameinsmeðferða.\nIngunn Jónsdóttir\, fæðinga- og kvensjúkdómalæknir fjallar um þjónustu IVF Klíníkunnar. \nFyrirlesturinn hefst kl 17.15 og verður haldinn í húsakynnum Ráðgjafarþjónustu Krabbameinsfélags Íslands\, Skógarhlíð 8\, 1. hæð. \nAllir eru velkomnir og boðið verður upp á léttar veitingar. \nVinsamlegast meldið ykkur á viðburðinn: https://www.facebook.com/events/130997760897142/
URL:https://kraftur.org/vidburdur/frjosemi-og-krabbamein-fyrirlestur/
LOCATION:Kraftur  – Stuðningsfélag fyrir ungt fólk sem greinst hefur með krabbamein og aðstandendur\, Skógarhlíð 8\, Reykjavík\, Reykjavík\, 105\, Iceland
ATTACH;FMTTYPE=image/png:https://kraftur.org/wp-content/uploads/2017/11/Frjosemi-og-krabbamein-1-1.png
END:VEVENT
BEGIN:VEVENT
DTSTART;TZID=UTC:20171031T173000
DTEND;TZID=UTC:20171031T183000
DTSTAMP:20260420T225730
CREATED:20170829T203043Z
LAST-MODIFIED:20170829T203043Z
UID:1199668-1509471000-1509474600@kraftur.org
SUMMARY:Æfing hjá FítonsKrafti
DESCRIPTION:FítonsKraftur er endurhæfing í formi hreyfingar og útivistar fyrir ungt fólk sem greinst hefur með krabbamein.\nÆfingar eru í Heilsuborg 2x í viku undir handleiðslu Atla Más Sveinssonar íþróttafræðings. Frekari upplýsingar og skráning má finna hér.
URL:https://kraftur.org/vidburdur/aefing-hja-fitonskrafti-3-2017-10-26-2017-10-31/
LOCATION:Heilsuborg\, Bíldshöfði 9\, Reykjavík\, 110\, Iceland
END:VEVENT
BEGIN:VEVENT
DTSTART;TZID=UTC:20170809T100000
DTEND;TZID=UTC:20170809T110000
DTSTAMP:20260420T225730
CREATED:20161212T012518Z
LAST-MODIFIED:20161212T012518Z
UID:2024-1502272800-1502276400@kraftur.org
SUMMARY:Opinn viðtalstími á spítalanum
DESCRIPTION:Opinn viðtalstími á dagdeild blóð-og krabbameinslækninga 11-B alla miðvikudaga frá kl. 10:00-11:00. Ef þið hafið spurningar varðandi réttindi ykkar eða aðra þjónustu hjá Krafti. Verið velkomin 🙂
URL:https://kraftur.org/vidburdur/opinn-vidtalstimi-a-spitalanum-2-2017-05-31/
LOCATION:Landspítalinn\, Reykjavík\, Reykjavík\, 101\, Iceland
ATTACH;FMTTYPE=image/jpeg:https://kraftur.org/wp-content/uploads/2017/03/vidtalstimi-web-2.jpg
END:VEVENT
BEGIN:VEVENT
DTSTART;TZID=UTC:20171031T173000
DTEND;TZID=UTC:20171031T183000
DTSTAMP:20260420T225730
CREATED:20170829T203043Z
LAST-MODIFIED:20170829T203043Z
UID:1199668-1509471000-1509474600@kraftur.org
SUMMARY:Æfing hjá FítonsKrafti
DESCRIPTION:FítonsKraftur er endurhæfing í formi hreyfingar og útivistar fyrir ungt fólk sem greinst hefur með krabbamein.\nÆfingar eru í Heilsuborg 2x í viku undir handleiðslu Atla Más Sveinssonar íþróttafræðings. Frekari upplýsingar og skráning má finna hér.
URL:https://kraftur.org/vidburdur/aefing-hja-fitonskrafti-3-2017-10-26-2017-10-31/
LOCATION:Heilsuborg\, Bíldshöfði 9\, Reykjavík\, 110\, Iceland
END:VEVENT
END:VCALENDAR