BEGIN:VCALENDAR
VERSION:2.0
PRODID:-//Kraftur - ECPv6.15.15//NONSGML v1.0//EN
CALSCALE:GREGORIAN
METHOD:PUBLISH
X-ORIGINAL-URL:https://kraftur.org
X-WR-CALDESC:Viðburðir í Kraftur
REFRESH-INTERVAL;VALUE=DURATION:PT1H
X-Robots-Tag:noindex
X-PUBLISHED-TTL:PT1H
BEGIN:VTIMEZONE
TZID:UTC
BEGIN:STANDARD
TZOFFSETFROM:+0000
TZOFFSETTO:+0000
TZNAME:UTC
DTSTART:20160101T000000
END:STANDARD
END:VTIMEZONE
BEGIN:VEVENT
DTSTART;TZID=UTC:20170109T170000
DTEND;TZID=UTC:20170109T180000
DTSTAMP:20260420T204228
CREATED:20170106T024122Z
LAST-MODIFIED:20170106T024122Z
UID:962-1483981200-1483984800@kraftur.org
SUMMARY:Fyrsta æfing FítonsKrafts eftir jólafrí
DESCRIPTION:Fyrsta æfing ársins verður haldin í Heilsuborg næstkomandi þriðjudag þann 9.janúar kl. 17. Atli þjálfari tekur vel á móti ykkur. \nFítonsKraftur er endurhæfing í f0rmi hreyfingar og útivistar. Frekari upplýsingar um starfsemina er hægt að finna hér inn á heimasíðunni.  \nEinnig er hægt að fá frekari upplýsingar hjá Atla þjálfara í síma: 6632252
URL:https://kraftur.org/vidburdur/fyrsta-aefing-fitonskrafts-eftir-jolafri/
LOCATION:Heilsuborg\, Bíldshöfði 9\, Reykjavík\, 110\, Iceland
END:VEVENT
BEGIN:VEVENT
DTSTART;TZID=UTC:20170111T190000
DTEND;TZID=UTC:20170111T230000
DTSTAMP:20260420T204228
CREATED:20170104T220958Z
LAST-MODIFIED:20170104T220958Z
UID:935-1484161200-1484175600@kraftur.org
SUMMARY:Lífið er núna á Kexinu
DESCRIPTION:Góðgerðartónleikar Krafts verða haldnir á Kexinu 11. janúar næstkomandi. Þar munu frábærir tónlistarmenn stíga á stokk og leggja málefninu lið. \nFram koma:\nEmiliana Torrini\nEmmsjé Gauti\nHildur\nHjálmar \nGóðgerðartónleikarnir eru liður í átaki Krafts „Lífið er núna – Það þarf Kraft til að takast á við krabbamein“. En átakinu verðu einmitt ýtt úr vör með þessum frábæru tónleikum. \nAðgangur ókeypis en sjálfboðaliðar Krafts munu vera með til sölu armbönd til styrktar félaginu og einnig verður hægt að styrkja félagið með mánaðarlegum framlögum. \nLÍFIÐ ER NÚNA taktu þátt í því með Krafti!!!
URL:https://kraftur.org/vidburdur/lifid-er-nuna-a-kexinu/
LOCATION:KEX hostel\, Skúlagata 28\, Reykjavík\, Reykjavík\, 101\, Iceland
ATTACH;FMTTYPE=image/jpeg:https://kraftur.org/wp-content/uploads/2017/01/FB_event_orange-2.jpg
END:VEVENT
BEGIN:VEVENT
DTSTART;TZID=UTC:20170112T194500
DTEND;TZID=UTC:20170112T220000
DTSTAMP:20260420T204228
CREATED:20170106T023622Z
LAST-MODIFIED:20170106T023622Z
UID:957-1484250300-1484258400@kraftur.org
SUMMARY:Bíóferð með Ungliðahópnum
DESCRIPTION:Fimmtudaginn 12. janúar ætlar ungliðahópurinn að skella sér saman  í bíó á myndina The Great Wall. Mæting er 19:45 í Smárábíói Smáralind (við miðasöluna). \nFrekari upplýsingar má finna inn á Facebookhóp ungliðahópsins:\nhttps://www.facebook.com/groups/316463201785345/  \nFrekari upplýsingar veitir einnig Kristján umsjónarmaður hópsins í síma: 8662826. \nUngliðahópurinn er fyrir ungt fólk sem greinst hefur með krabbamein á aldrinum 18-29 ára og aðstandendur þeirra.
URL:https://kraftur.org/vidburdur/bioferd-med-unglidahopnum/
LOCATION:Smárabíó\, Hagasmári 1\, Kópavogur\, Kópavogur\, 201\, Iceland
ATTACH;FMTTYPE=image/jpeg:https://kraftur.org/wp-content/uploads/2017/01/bio_vidburdur-2.jpg
END:VEVENT
BEGIN:VEVENT
DTSTART;TZID=UTC:20170114T120000
DTEND;TZID=UTC:20170114T170000
DTSTAMP:20260420T204228
CREATED:20170104T222153Z
LAST-MODIFIED:20170104T222153Z
UID:940-1484395200-1484413200@kraftur.org
SUMMARY:Perlað með Krafti á Kexinu
DESCRIPTION:Þann 14. janúar næstkomandi ætlum við að perla saman á Kexinu og óskum eftir ykkar aðstoð.  Leggjumst saman á eitt við að perla armbönd sem verða síðan seld til styrktar félaginu samhliða átakinu okkar sem er í janúar. \nArmböndin eru með áletruninni „Lífið er núna“ og eru litrík og falleg og auðveld í samsetningu svo allir geta tekið þátt. Þau eru öll perluð í sjálfboðavinnu og því óskum við eftir kröftugum sjálfboðaliðum til að taka þátt í þessu skemmtilega verkefni með okkur.\nSjálboðaliðar geta komið á milli kl. 12 og 17 í Gym og Tonik salinn á Kex Hostel og perlað með okkur. \nÞað mun vera heitt á könnunni og hlökkum við til að sjá sem flestar perlur. \nKOMIÐ OG PERLIÐ MEÐ KRAFTI ♥
URL:https://kraftur.org/vidburdur/perlad-med-krafti-a-kexinu/
LOCATION:KEX hostel\, Skúlagata 28\, Reykjavík\, Reykjavík\, 101\, Iceland
ATTACH;FMTTYPE=image/jpeg:https://kraftur.org/wp-content/uploads/2017/01/FB_cover-2.jpg
END:VEVENT
BEGIN:VEVENT
DTSTART;TZID=UTC:20170125T200000
DTEND;TZID=UTC:20170125T220000
DTSTAMP:20260420T204228
CREATED:20161212T012852Z
LAST-MODIFIED:20161212T012852Z
UID:441-1485374400-1485381600@kraftur.org
SUMMARY:Kaffihúsakvöld Krafts
DESCRIPTION:Verður haldið miðvikudaginn 25.janúar kl. 20. Ætlum að hittast á Stofunni kaffihúsi. Vettvangur fyrir ungt fólk sem greinst hefur með krabbamein og aðstandendur til að hitta fólk í svipuðum aðstæðum. Fulltrúar frá Krafti verða á staðnum og taka vel á móti ykkur 🙂
URL:https://kraftur.org/vidburdur/kaffihusakvold-krafts-2/
END:VEVENT
BEGIN:VEVENT
DTSTART;TZID=UTC:20170126T180000
DTEND;TZID=UTC:20170126T220000
DTSTAMP:20260420T204228
CREATED:20170110T194319Z
LAST-MODIFIED:20170110T194319Z
UID:1078-1485453600-1485468000@kraftur.org
SUMMARY:Fimleikar í Björk með ungliðahópnum
DESCRIPTION:Fimmtudaginn 26. janúar kl. 19:45 ætlum við að hittast í Fimleikafélaginu Björk\, Haukahrauni 1\, 220 Hafnarfirði. Við ætlum að skella okkur í skemmtilegar fimleikaæfingar og hafa gaman 🙂 \nÁhugasamir getað skráð sig með því senda tölvupóst á kristjan.fridriks@gmail.com. Einnig er ungliðahópurinn með Facebookhóp þar sem hægt er að fylgjast með dagskránni.\nMunið eftir að koma í þægilegum íþróttafötum. \nSjáumst næsta fimmtudag.
URL:https://kraftur.org/vidburdur/fimleikar-bjork-med-unglidahopnum/
LOCATION:Fimleikafélagið Björk\, Haukahraun 1\, Hafnarfjörður\, 220\, Iceland
ATTACH;FMTTYPE=image/jpeg:https://kraftur.org/wp-content/uploads/2017/01/fimleikar_teikning-2.jpg
END:VEVENT
BEGIN:VEVENT
DTSTART;TZID=UTC:20170130T170000
DTEND;TZID=UTC:20170130T220000
DTSTAMP:20260420T204228
CREATED:20170127T132232Z
LAST-MODIFIED:20170127T132232Z
UID:3538-1485795600-1485813600@kraftur.org
SUMMARY:Perlustund með Krafti
DESCRIPTION:Vegna mikillar eftirspurnar af armböndunum okkar verður perlustund með Krafti mánudaginn næstkomandi. Ætlum við að perla saman í húskynnum Krafts\, Ráðgjafarþjónustu Krabbameinsfélagsins og óskum eftir ykkar aðstoð! \nArmböndin eru með áletruninni „Lífið er núna“ og eru litrík og falleg og auðveld í samsetningu svo allir geta tekið þátt. Þau eru öll perluð í sjálfboðavinnu og því óskum við eftir kröftugum sjálfboðaliðum til að taka þátt í þessu skemmtilega verkefni með okkur. \nSjálboðaliðar geta komið á milli kl. 17 og 22 í Ráðgjafarþjónustu Krabbameinsfélagsins og perlað með okkur. \nÞað mun vera heitt á könnunni\, hlökkum til að sjá ykkur. \nKOMIÐ OG PERLIÐ MEÐ KRAFTI ♥
URL:https://kraftur.org/vidburdur/perlustund-med-krafti/
LOCATION:Kraftur  – Stuðningsfélag fyrir ungt fólk sem greinst hefur með krabbamein og aðstandendur\, Skógarhlíð 8\, Reykjavík\, Reykjavík\, 105\, Iceland
ATTACH;FMTTYPE=image/jpeg:https://kraftur.org/wp-content/uploads/2017/01/16179484_1245259722230823_1841975653141498398_o-2.jpg
END:VEVENT
END:VCALENDAR