BEGIN:VCALENDAR
VERSION:2.0
PRODID:-//Kraftur - ECPv6.15.15//NONSGML v1.0//EN
CALSCALE:GREGORIAN
METHOD:PUBLISH
X-ORIGINAL-URL:https://kraftur.org
X-WR-CALDESC:Viðburðir í Kraftur
REFRESH-INTERVAL;VALUE=DURATION:PT1H
X-Robots-Tag:noindex
X-PUBLISHED-TTL:PT1H
BEGIN:VTIMEZONE
TZID:UTC
BEGIN:STANDARD
TZOFFSETFROM:+0000
TZOFFSETTO:+0000
TZNAME:UTC
DTSTART:20170101T000000
END:STANDARD
END:VTIMEZONE
BEGIN:VEVENT
DTSTART;TZID=UTC:20180109T173000
DTEND;TZID=UTC:20180109T183000
DTSTAMP:20260421T054339
CREATED:20180102T173701Z
LAST-MODIFIED:20180102T173701Z
UID:1202853-1515519000-1515522600@kraftur.org
SUMMARY:Æfing hjá FítonsKrafti
DESCRIPTION:FítonsKraftur er endurhæfing í formi hreyfingar og útivistar fyrir ungt fólk sem greinst hefur með krabbamein.\nÆfingar eru í Heilsuborg 2x í viku undir handleiðslu Atla Más Sveinssonar íþróttafræðings. Frekari upplýsingar og skráning má finna hér.
URL:https://kraftur.org/vidburdur/aefing-hja-fitonskrafti-4/
LOCATION:Heilsuborg\, Bíldshöfði 9\, Reykjavík\, 110\, Iceland
END:VEVENT
BEGIN:VEVENT
DTSTART;TZID=UTC:20180103T200000
DTEND;TZID=UTC:20180103T220000
DTSTAMP:20260421T054339
CREATED:20180102T174435Z
LAST-MODIFIED:20180102T174435Z
UID:1202905-1515009600-1515016800@kraftur.org
SUMMARY:Kaffihúsakvöld Krafts
DESCRIPTION:Kaffihúsakvöld Krafts eru alltaf haldin fyrsta miðvikudag hvers mánaðar kl. 20. Þennan miðvikudag ætlum við að hittast í Skógarhlíðinni\, Ráðgjafarþjónustu Krabbameinsfélagsins þar sem Kraftur er til húsa. \nKaffihúsakvöldin er vettvangur fyrir ungt fólk sem greinst hefur með krabbamein og aðstandendur til að hitta fólk í svipuðum aðstæðum. Fulltrúar frá Krafti taka vel á móti ykkur yfir rjúkandi heitum kaffibolla 🙂 \nEf þið hafið einhverjar spurningar getið þið haft samband í síma Krafts 866-9600 \nSjáumst í Krafti yfir rjúkandi heitum bolla í kósý stemmingu! \nHér er viðburðurinn á Facebook.
URL:https://kraftur.org/vidburdur/kaffihusakvold-krafts-4/
LOCATION:Kraftur  – Stuðningsfélag fyrir ungt fólk sem greinst hefur með krabbamein og aðstandendur\, Skógarhlíð 8\, Reykjavík\, Reykjavík\, 105\, Iceland
END:VEVENT
BEGIN:VEVENT
DTSTART;TZID=UTC:20180405T173000
DTEND;TZID=UTC:20180405T183000
DTSTAMP:20260421T054339
CREATED:20180322T153732Z
LAST-MODIFIED:20180322T153732Z
UID:1216302-1522949400-1522953000@kraftur.org
SUMMARY:FítonsYoga
DESCRIPTION:Ykkur er boðið í jóga! \nFimmtudaginn 5.apríl frá kl. 17:30 – 18:30 ætlar Elín Skúladóttir félagsmaður í Krafti og jógakennari að leiða okkur í gegnum mjúkt vinyasa flæði\, þar sem lögð verður áhersla á góðar djúpar teygjur\, öndun og djúpa slökun í lokin. \nElín Skúladóttir hefur kennt yoga í rúm tíu ár. Hún lærði yoga í Bretlandi og sigldi fyrst um sinn um höfin blá og kenndi yoga á skemmtiferðarskipi. Eftir að hún kom í land hefur hún kennt hot yoga í heimabæ sínum\, Hafnarfirði. Elín er meðlimur Krafts en hún greindist með brjóstakrabbamein snemma árs 2017.\nYoga tíminn verður í vinyasa stíl\, það við flæðum úr einni stöðu í þá næstu. Við helgum tímann kraftinum sem er ríflegur í félagsmönnum krafts því við vitum að það þarf kraft til að takast á við krabbamein.\nTíminn hentar bæði byrjendum sem lengra komnum svo allir ættu að geta tekið þátt á sínum forsendum. \nÞetta er opinn viðburður á vegum FítonsKrafts svo allir félagsmenn eru velkomnir. \nAthugið að tíminn verður í Ráðgjafarþjónustu Krabbameinsfélagsins í þetta skipti. \nHlökkum til að sjá ykkur 🙂
URL:https://kraftur.org/vidburdur/fitonsyoga-2/
LOCATION:Kraftur  – Stuðningsfélag fyrir ungt fólk sem greinst hefur með krabbamein og aðstandendur\, Skógarhlíð 8\, Reykjavík\, Reykjavík\, 105\, Iceland
ATTACH;FMTTYPE=image/jpeg:https://kraftur.org/wp-content/uploads/2018/03/Fitonsjoga_585x300-1.jpg
END:VEVENT
BEGIN:VEVENT
DTSTART;TZID=UTC:20180405T193000
DTEND;TZID=UTC:20180405T220000
DTSTAMP:20260421T054339
CREATED:20180102T182301Z
LAST-MODIFIED:20180102T182301Z
UID:1202927-1522956600-1522965600@kraftur.org
SUMMARY:Bingókvöld - Ungliðahópurinn
DESCRIPTION:Bingókvöld Ungliðahópsins verður haldið fimmtudaginn 5.apríl.\nFrekari upplýsingar um viðburðinn má finna inn á Facebookhóp Ungliðahópsins. \nUngliðahópurinn er fyrir ungt fólk sem greinst hefur með krabbamein á aldrinum 18-29 ára og aðstandendur. Hópurinn hittist tvisvar sinnum í mánuði og er samstarfsverkefni Krafts\, Ljóssins og SKB.\nUmsjónarmaður hópsins er Kristján Friðriksson\, s: 866 2826 og tölvupóstur: kristjan.fridriks@gmail.com
URL:https://kraftur.org/vidburdur/bingokvold-unglidahopurinn/
ATTACH;FMTTYPE=image/jpeg:https://kraftur.org/wp-content/uploads/2018/01/bingo-1.jpg
END:VEVENT
BEGIN:VEVENT
DTSTART;TZID=UTC:20180109T173000
DTEND;TZID=UTC:20180109T183000
DTSTAMP:20260421T054339
CREATED:20180102T173701Z
LAST-MODIFIED:20180102T173701Z
UID:1202853-1515519000-1515522600@kraftur.org
SUMMARY:Æfing hjá FítonsKrafti
DESCRIPTION:FítonsKraftur er endurhæfing í formi hreyfingar og útivistar fyrir ungt fólk sem greinst hefur með krabbamein.\nÆfingar eru í Heilsuborg 2x í viku undir handleiðslu Atla Más Sveinssonar íþróttafræðings. Frekari upplýsingar og skráning má finna hér.
URL:https://kraftur.org/vidburdur/aefing-hja-fitonskrafti-4/
LOCATION:Heilsuborg\, Bíldshöfði 9\, Reykjavík\, 110\, Iceland
END:VEVENT
BEGIN:VEVENT
DTSTART;TZID=UTC:20180111T173000
DTEND;TZID=UTC:20180111T183000
DTSTAMP:20260421T054339
CREATED:20180102T173958Z
LAST-MODIFIED:20180102T173958Z
UID:1202879-1515691800-1515695400@kraftur.org
SUMMARY:Æfing hjá FítonsKrafti
DESCRIPTION:FítonsKraftur er endurhæfing í formi hreyfingar og útivistar fyrir ungt fólk sem greinst hefur með krabbamein.\nÆfingar eru í Heilsuborg 2x í viku undir handleiðslu Atla Más Sveinssonar íþróttafræðings. Frekari upplýsingar og skráning má finna hér.
URL:https://kraftur.org/vidburdur/aefing-hja-fitonskrafti-5/
LOCATION:Heilsuborg\, Bíldshöfði 9\, Reykjavík\, 110\, Iceland
END:VEVENT
BEGIN:VEVENT
DTSTART;TZID=UTC:20180414T120000
DTEND;TZID=UTC:20180414T150000
DTSTAMP:20260421T054339
CREATED:20180228T210638Z
LAST-MODIFIED:20180228T210638Z
UID:1215606-1523707200-1523718000@kraftur.org
SUMMARY:Spinning og spa með FítonsKrafti
DESCRIPTION:FítonsKraftur ætlar að skella sér í spinning og baðstofuna í Laugum og þér er boðið með.\nÆtlum við að hittast í anddyrinu á World class Laugum kl. 12.\nJenný Þórunn félagsmaður og spinningkennari ætlar að leiða okkur í gegnum skemmtilegan spinningtíma sem allir ættu að geta tekið þátt í.\nÞetta er opinn æfing hjá FítonsKrafti fyrir alla félagsmenn þeim að kostnaðarlausu. Þeir sem hafa áhuga á að verða með láta Atla\, þjálfara\, vita í síma: 6632252 eða með því að senda tölvupóst á fitonskraftur@kraftur.org. \nHér má einnig sjá meira um starfsemi FítonsKrafts og Facebook hóp sem hægt er að óska eftir inngöngu.
URL:https://kraftur.org/vidburdur/spinning-og-spa-med-fitonskrafti/
LOCATION:World class Laugum\, Sundlaugarvegur\, Reykjavík\, Reykjavík\, 105\, Iceland
ATTACH;FMTTYPE=image/png:https://kraftur.org/wp-content/uploads/2018/02/Spinning-og-spa_Fitonskraftur-2.png
END:VEVENT
BEGIN:VEVENT
DTSTART;TZID=UTC:20180417T171500
DTEND;TZID=UTC:20180417T183000
DTSTAMP:20260421T054339
CREATED:20180412T154401Z
LAST-MODIFIED:20180412T154401Z
UID:1216760-1523985300-1523989800@kraftur.org
SUMMARY:Matarræði í veikindum - fyrirlestur
DESCRIPTION:Skiptir máli hvað við borðum þegar við veikjumst er spurning sem margir velta fyrir sér.\nJóhanna E. Torfadottir\, næringar- og lýðheilsufræðingur hjá Miðstöð í lýðheilsuvísindum við Háskóla Íslands mun kappkosta við að svara þessari spurningu á fyrirlestrinum \nFyrirlesturinn mun vera næstkomandi þriðjudag 17.apríl kl. 17:15 í húsnæði Ráðgjafarþjónustu Krabbameinsfélagsins\, Skógarhlíð 8.\nEr þetta fimmti fyrirlesturinn í mánaðarlegri fyrirlestraröð Krafts – Ungt fólk og krabbamein. \nLéttar veitingar í boði og opnar umræður í lokin.
URL:https://kraftur.org/vidburdur/matarraedi-veikindum-fyrirlestur/
LOCATION:Kraftur  – Stuðningsfélag fyrir ungt fólk sem greinst hefur með krabbamein og aðstandendur\, Skógarhlíð 8\, Reykjavík\, Reykjavík\, 105\, Iceland
ATTACH;FMTTYPE=image/png:https://kraftur.org/wp-content/uploads/2018/04/Mataraedi-i-veikindum-04-1.png
END:VEVENT
BEGIN:VEVENT
DTSTART;TZID=UTC:20180109T173000
DTEND;TZID=UTC:20180109T183000
DTSTAMP:20260421T054339
CREATED:20180102T173701Z
LAST-MODIFIED:20180102T173701Z
UID:1202853-1515519000-1515522600@kraftur.org
SUMMARY:Æfing hjá FítonsKrafti
DESCRIPTION:FítonsKraftur er endurhæfing í formi hreyfingar og útivistar fyrir ungt fólk sem greinst hefur með krabbamein.\nÆfingar eru í Heilsuborg 2x í viku undir handleiðslu Atla Más Sveinssonar íþróttafræðings. Frekari upplýsingar og skráning má finna hér.
URL:https://kraftur.org/vidburdur/aefing-hja-fitonskrafti-4/
LOCATION:Heilsuborg\, Bíldshöfði 9\, Reykjavík\, 110\, Iceland
END:VEVENT
BEGIN:VEVENT
DTSTART;TZID=UTC:20180417T193000
DTEND;TZID=UTC:20180417T220000
DTSTAMP:20260421T054339
CREATED:20180102T182951Z
LAST-MODIFIED:20180102T182951Z
UID:1202931-1523993400-1524002400@kraftur.org
SUMMARY:Sund og matur - Ungliðahópurinn
DESCRIPTION:Ungliðahópurinn ætlar að skella sér í sund og út að borða þri. 17.apríl þar sem Sumardagurinn fyrsti er 19.apríl.\nFrekari upplýsingar um viðburðinn má finna inn á Facebookhóp Ungliðahópsins. \nUngliðahópurinn er fyrir ungt fólk sem greinst hefur með krabbamein á aldrinum 18-29 ára og aðstandendur. Hópurinn hittist tvisvar sinnum í mánuði og er samstarfsverkefni Krafts\, Ljóssins og SKB.\nUmsjónarmaður hópsins er Kristján Friðriksson\, s: 866 2826 og tölvupóstur: kristjan.fridriks@gmail.com
URL:https://kraftur.org/vidburdur/sund-og-matur-unglidahopurinn/
ATTACH;FMTTYPE=image/jpeg:https://kraftur.org/wp-content/uploads/2016/11/IMG_0513-scaled.jpg
END:VEVENT
BEGIN:VEVENT
DTSTART;TZID=UTC:20180111T173000
DTEND;TZID=UTC:20180111T183000
DTSTAMP:20260421T054339
CREATED:20180102T173958Z
LAST-MODIFIED:20180102T173958Z
UID:1202879-1515691800-1515695400@kraftur.org
SUMMARY:Æfing hjá FítonsKrafti
DESCRIPTION:FítonsKraftur er endurhæfing í formi hreyfingar og útivistar fyrir ungt fólk sem greinst hefur með krabbamein.\nÆfingar eru í Heilsuborg 2x í viku undir handleiðslu Atla Más Sveinssonar íþróttafræðings. Frekari upplýsingar og skráning má finna hér.
URL:https://kraftur.org/vidburdur/aefing-hja-fitonskrafti-5/
LOCATION:Heilsuborg\, Bíldshöfði 9\, Reykjavík\, 110\, Iceland
END:VEVENT
BEGIN:VEVENT
DTSTART;TZID=UTC:20180421T110000
DTEND;TZID=UTC:20180421T150000
DTSTAMP:20260421T054339
CREATED:20180413T011508Z
LAST-MODIFIED:20180413T011508Z
UID:1216779-1524308400-1524322800@kraftur.org
SUMMARY:Perlað af Krafti með ÍBV og Vestmannaeyjum
DESCRIPTION:Kraftur ætlar að perla með Eyjamönnum og ÍBV laugardaginn 21.apríl milli kl. 11 – 15 í Höllinni Vestmannaeyjum. \n\n\n \n\n\nVerður þetta fyrsti perluviðburður félagsins þar sem perluð verða ný armbönd í íslensku fánalitunum. Armböndin verða seld í aðdraganda að HM og verða öll perluð af kröftugum stuðningsmönnum íslenska landsliðsins 🙂 \n\n\n \n\n\nÍBV og Vestmannaeyjar ætla að hefja leikana þann 21.apríl í Höllinni Vestmannaeyjum og perla af Krafti!\n\n\nArmböndin eru með áletruninni „Lífið er núna“ og eru auðveld í samsetningu svo allir geta tekið þátt\, börn sem fullorðnir.\n\n\n \n\n\nVið hvetjum alla eyjamenn sem og leikmenn og stuðningsmenn ÍBV að taka þátt í þessu skemmtilega verkefni með okkur.\n\n\nÖll armbönd eru perluð í sjálfboðavinnu og því mikil hugsjón bakvið hvert armband ♥ \n\n\nAllur ágóði af sölu armbandanna rennur til Krafts – stuðningsfélag fyrir ungt fólk sem greinst hefur með krabbmein og aðstandendur\n\n\n \n\n\nNýju armböndin í íslensku fánalitunum verða til sölu á staðnum. \n\n\n \n\n\nÞað mun vera heitt á könnunni og tökum vel á móti ykkur 🙂\n\n\n \n\n\nKOMIÐ OG PERLIÐ AF KRAFTI ♥
URL:https://kraftur.org/vidburdur/perlad-af-krafti-med-ibv-og-vestmannaeyjum/
LOCATION:Höllin Vestmannaeyjum\, Birkihlíð 14\, Vestmannaeyjum\, Vestmannaeyjum\, 900\, Iceland
ATTACH;FMTTYPE=image/jpeg:https://kraftur.org/wp-content/uploads/2018/04/12an3-2.jpg
END:VEVENT
BEGIN:VEVENT
DTSTART;TZID=UTC:20180109T173000
DTEND;TZID=UTC:20180109T183000
DTSTAMP:20260421T054339
CREATED:20180102T173701Z
LAST-MODIFIED:20180102T173701Z
UID:1202853-1515519000-1515522600@kraftur.org
SUMMARY:Æfing hjá FítonsKrafti
DESCRIPTION:FítonsKraftur er endurhæfing í formi hreyfingar og útivistar fyrir ungt fólk sem greinst hefur með krabbamein.\nÆfingar eru í Heilsuborg 2x í viku undir handleiðslu Atla Más Sveinssonar íþróttafræðings. Frekari upplýsingar og skráning má finna hér.
URL:https://kraftur.org/vidburdur/aefing-hja-fitonskrafti-4/
LOCATION:Heilsuborg\, Bíldshöfði 9\, Reykjavík\, 110\, Iceland
END:VEVENT
BEGIN:VEVENT
DTSTART;TZID=UTC:20180424T180000
DTEND;TZID=UTC:20180424T193000
DTSTAMP:20260421T054339
CREATED:20180413T020703Z
LAST-MODIFIED:20180413T020703Z
UID:1216783-1524592800-1524598200@kraftur.org
SUMMARY:Aðalfundur Krafts 2018
DESCRIPTION:Aðalfundur Krafts verður haldinn þriðjudaginn 24. apríl í Ráðgjafarþjónustu Krabbameinsfélagsins\, Skógarhlíð 8 og hefst kl. 18:00. \nDagskrá fundarins er eftirfarandi: \n1. Kosning fundarstjóra og fundarritara.\n2. Skýrsla stjórnar um starfsemi liðins starfsárs.\n3. Endurskoðaðir reikningar félagsins lagðir fram til samþykktar.\n4. Lagabreytingar.\n5. Kjör tveggja manna í stjórn til tveggja ára og tveggja varamanna til eins árs.\n6. Kjör þriggja fulltrúa í stjórn Neyðarsjóðsins\n7. Kjör löggilts endurskoðanda reikninga félagsins.\n8. Ákvörðun um félagsgjald\n9. Önnur mál. \nAtkvæðisrétt á aðalfundi hafa skuldlausir félagsmenn. \nÓskað er eftir framboðum til stjórnar samkvæmt dagskrá. Sem fyrr segir er óskað eftir tveimur aðalmönnum í stjórn og tveimur varamönnum. \nFramboð skulu berast til framkvæmdastjóra á netfangið hulda@kraftur.org þar sem fram kemur nafn\, kennitala og upplýsingar um viðkomandi.\nFramboð skulu berast eigi síðar en sun. 22.apríl.  \nVið hvetjum alla félagsmenn til að mæta á aðalfund Krafts.
URL:https://kraftur.org/vidburdur/adalfundur-krafts-2018/
LOCATION:Kraftur  – Stuðningsfélag fyrir ungt fólk sem greinst hefur með krabbamein og aðstandendur\, Skógarhlíð 8\, Reykjavík\, Reykjavík\, 105\, Iceland
ATTACH;FMTTYPE=image/jpeg:https://kraftur.org/wp-content/uploads/2017/01/75A5605net-2.jpg
END:VEVENT
BEGIN:VEVENT
DTSTART;TZID=UTC:20180111T173000
DTEND;TZID=UTC:20180111T183000
DTSTAMP:20260421T054339
CREATED:20180102T173958Z
LAST-MODIFIED:20180102T173958Z
UID:1202879-1515691800-1515695400@kraftur.org
SUMMARY:Æfing hjá FítonsKrafti
DESCRIPTION:FítonsKraftur er endurhæfing í formi hreyfingar og útivistar fyrir ungt fólk sem greinst hefur með krabbamein.\nÆfingar eru í Heilsuborg 2x í viku undir handleiðslu Atla Más Sveinssonar íþróttafræðings. Frekari upplýsingar og skráning má finna hér.
URL:https://kraftur.org/vidburdur/aefing-hja-fitonskrafti-5/
LOCATION:Heilsuborg\, Bíldshöfði 9\, Reykjavík\, 110\, Iceland
END:VEVENT
END:VCALENDAR