BEGIN:VCALENDAR
VERSION:2.0
PRODID:-//Kraftur - ECPv6.15.15//NONSGML v1.0//EN
CALSCALE:GREGORIAN
METHOD:PUBLISH
X-ORIGINAL-URL:https://kraftur.org
X-WR-CALDESC:Viðburðir í Kraftur
REFRESH-INTERVAL;VALUE=DURATION:PT1H
X-Robots-Tag:noindex
X-PUBLISHED-TTL:PT1H
BEGIN:VTIMEZONE
TZID:UTC
BEGIN:STANDARD
TZOFFSETFROM:+0000
TZOFFSETTO:+0000
TZNAME:UTC
DTSTART:20170101T000000
END:STANDARD
END:VTIMEZONE
BEGIN:VEVENT
DTSTART;TZID=UTC:20180109T173000
DTEND;TZID=UTC:20180109T183000
DTSTAMP:20260421T074115
CREATED:20180102T173701Z
LAST-MODIFIED:20180102T173701Z
UID:1202853-1515519000-1515522600@kraftur.org
SUMMARY:Æfing hjá FítonsKrafti
DESCRIPTION:FítonsKraftur er endurhæfing í formi hreyfingar og útivistar fyrir ungt fólk sem greinst hefur með krabbamein.\nÆfingar eru í Heilsuborg 2x í viku undir handleiðslu Atla Más Sveinssonar íþróttafræðings. Frekari upplýsingar og skráning má finna hér.
URL:https://kraftur.org/vidburdur/aefing-hja-fitonskrafti-4/
LOCATION:Heilsuborg\, Bíldshöfði 9\, Reykjavík\, 110\, Iceland
END:VEVENT
BEGIN:VEVENT
DTSTART;TZID=UTC:20180103T200000
DTEND;TZID=UTC:20180103T220000
DTSTAMP:20260421T074115
CREATED:20180102T174435Z
LAST-MODIFIED:20180102T174435Z
UID:1202905-1515009600-1515016800@kraftur.org
SUMMARY:Kaffihúsakvöld Krafts
DESCRIPTION:Kaffihúsakvöld Krafts eru alltaf haldin fyrsta miðvikudag hvers mánaðar kl. 20. Þennan miðvikudag ætlum við að hittast í Skógarhlíðinni\, Ráðgjafarþjónustu Krabbameinsfélagsins þar sem Kraftur er til húsa. \nKaffihúsakvöldin er vettvangur fyrir ungt fólk sem greinst hefur með krabbamein og aðstandendur til að hitta fólk í svipuðum aðstæðum. Fulltrúar frá Krafti taka vel á móti ykkur yfir rjúkandi heitum kaffibolla 🙂 \nEf þið hafið einhverjar spurningar getið þið haft samband í síma Krafts 866-9600 \nSjáumst í Krafti yfir rjúkandi heitum bolla í kósý stemmingu! \nHér er viðburðurinn á Facebook.
URL:https://kraftur.org/vidburdur/kaffihusakvold-krafts-4/
LOCATION:Kraftur  – Stuðningsfélag fyrir ungt fólk sem greinst hefur með krabbamein og aðstandendur\, Skógarhlíð 8\, Reykjavík\, Reykjavík\, 105\, Iceland
END:VEVENT
BEGIN:VEVENT
DTSTART;TZID=UTC:20180503T150000
DTEND;TZID=UTC:20180503T173500
DTSTAMP:20260421T074115
CREATED:20180419T222442Z
LAST-MODIFIED:20180419T222442Z
UID:1216966-1525359600-1525368900@kraftur.org
SUMMARY:Málþing: Endurhæfing alla leið
DESCRIPTION:Endurhæfingarteymi krabbameinsgreindra á Landspítala\, Krabbameinsfélag Íslands\, Ljósið\, Kraftur\, Heilsustofnun NLFÍ og Reykjalundur boða til málþings um endurhæfingu fólks sem greinst hefur með krabbamein. \n\nMálþingið fer fram í hátíðarsal Háskóla Íslands fimmtudaginn 3. maí 2018 kl. 15:00. \nDagskrá málþings:\n\n\n\n\n\n 15:00\nÁvarp og setning málþings\nAlma Möller landlæknir\n\n\n 15:10\nMultidisciplinary care is essential in the rehabilitation of the cancer patients during and after treatment. Experiences from Denmark.\n– Hennar erindi fer fram á ensku \nSusanne O. Dalton danskur sérfræðingur í endurhæfingu krabbameina\n\n\n 15:50\nHlutverk endurhæfingar í meðferð við krabbameinum – hver er staðan?\nAgnes Smáradóttir sérfræðingur í krabbameinslækningum\n\n\n 16:15\nKaffihlé\n\n\n\n 16:30\nReynslusaga – 9 ár í endurhæfingu; að lifa með krabbameini\nEinar Magnússon\n\n\n 16:45\nReynslusaga – Endurhæfingin mín; vangaveltur í baksýnisspegli\nJónatan Jónatansson\n\n\n 17:00\nPallborðsumræður\n\n\n\n 17:35\nSamantekt af hálfu fundarstjóra\nFundarstjóri: Sigrún Gunnarsdóttir\n\n\n\n\nÞátttakendur í pallborðsumræðum:\n\nSvandís Svavarsdóttir\, heilbrigðisráðherra\nMagnús Ólason\, framkvæmdastjóri lækninga á Reykjalundi\nIngvar Þóroddsson\, yfirlæknir endurhæfingadeilda á Kristnesi á Akureyri\nErna Magnúsdóttir\, forstöðukona Ljóssins\nHalla Þorvaldsdóttir\, framkvæmdastjóri Krabbameinsfélagsins\nAgnes Smáradóttir\, sérfræðingur í krabbameinslækningum LSH\nMargrét Grímsdóttir framkvæmdastjóri hjúkrunar á Heilsustofnun NLFÍ.
URL:https://kraftur.org/vidburdur/malthing-endurhaefing-alla-leid/
LOCATION:Háskóli Íslands\, Sæmundargata 2\, Reykjavík\, Reykjavík\, 101\, Iceland
ATTACH;FMTTYPE=image/jpeg:https://kraftur.org/wp-content/uploads/2018/04/endurhaefing-banner-nyr-1-1.jpg
END:VEVENT
BEGIN:VEVENT
DTSTART;TZID=UTC:20180111T173000
DTEND;TZID=UTC:20180111T183000
DTSTAMP:20260421T074115
CREATED:20180102T173958Z
LAST-MODIFIED:20180102T173958Z
UID:1202879-1515691800-1515695400@kraftur.org
SUMMARY:Æfing hjá FítonsKrafti
DESCRIPTION:FítonsKraftur er endurhæfing í formi hreyfingar og útivistar fyrir ungt fólk sem greinst hefur með krabbamein.\nÆfingar eru í Heilsuborg 2x í viku undir handleiðslu Atla Más Sveinssonar íþróttafræðings. Frekari upplýsingar og skráning má finna hér.
URL:https://kraftur.org/vidburdur/aefing-hja-fitonskrafti-5/
LOCATION:Heilsuborg\, Bíldshöfði 9\, Reykjavík\, 110\, Iceland
END:VEVENT
BEGIN:VEVENT
DTSTART;TZID=UTC:20180505T110000
DTEND;TZID=UTC:20180505T130000
DTSTAMP:20260421T074115
CREATED:20180501T202148Z
LAST-MODIFIED:20180501T202148Z
UID:1217188-1525518000-1525525200@kraftur.org
SUMMARY:Ganga að Búrfellsgjá - FítonsKraftur
DESCRIPTION:Ykkur er boðið með í göngu á laugardaginn 🙂 \nNæstkomandi laugardag 5.maí kl. 11 til 13 ætlar FítonsKraftur að labba upp á Búrfellsgjá. Gangan er þægileg\, þar sem ekki er mikil hækkun og ætti því að henta flestum. Allir velkomnir\, vinir\, fjölskylda og gæludýr 🙂 \nTil að komast á upphafsstaðinn er keyrt að Vífilsstaðavatni og beygt til hægri inn á Elliðavatnsveg. Þá er keyrður smá spölur\, beygt inn á Heiðmerkurveg og haldið áfram. Vegurinn breytist i malarveg en stuttu eftir að malbiki sleppur kemur kröpp beygja á vinstri hönd og þar er að finna lítið bílaplan þar sem hópurinn hittist.\nEf þið týnist getið þið haft samband við Atla þjálfara í síma: 663-2252
URL:https://kraftur.org/vidburdur/ganga-ad-burfellsgja-fitonskraftur/
ATTACH;FMTTYPE=image/png:https://kraftur.org/wp-content/uploads/2018/05/ganga_web2-2.png
END:VEVENT
BEGIN:VEVENT
DTSTART;TZID=UTC:20180506T130000
DTEND;TZID=UTC:20180506T170000
DTSTAMP:20260421T074115
CREATED:20180501T201249Z
LAST-MODIFIED:20180501T201249Z
UID:1217183-1525611600-1525626000@kraftur.org
SUMMARY:Perlað af Krafti með Akureyringum
DESCRIPTION:Akureyringar verða við áskorun Eyjamanna.\nMunu Akureyringar hreppa Perlubikarinn? \nKraftur leggur leið sína norður og perlar með Akureyringum\, ÍBA\, Þór og KA í Íþróttahöllinni á Akureyri sunnudaginn næstkomandi 6.maí frá kl. 13-17. \nVið skorum á alla Akureyringa að mæta á svæðið til þess að ná perlubikarnum af Eyjamönnum.\nArmböndin eru í íslensku fánalitunum og verða seld til stuðnings Krafti og munu einnig sýna samstöðu með íslenska fótboltaliðinu á HM. Armböndin eru með áletruninni „Lífið er núna“ og eru auðveld í samsetningu svo að allir geta tekið þátt\, börn sem fullorðnir. \nEyjamenn perluðu 1538 armbönd á fjórum tímum og þurfa Akureyringar að ná því til að eiga möguleika á að hreppa perlubikarinn. Perlubikarinn hlljóta þeir viðburðarhaldarar sem að ná að perla sem flest armbönd. \nVið hvetjum alla Akureyringa sem og leikmenn og stuðningsmenn KA\, Þór og ÍBA að taka þátt í þessu skemmtilega verkefni með okkur. Öll armböndin eru perluð í sjálfboðavinnu og því mikil hugsjón bakvið hvert armband. Allur ágóði af sölu armbandanna rennur til Krafts – stuðningsfélag fyrir ungt fólk sem greinst hefur með krabbamein og aðstandendur og er hægt að kaupa armböndin líka strax á staðnum. \nÞað verður að sjálfsögðu heitt á könnunni og hlökkum við til að sjá ykkur sem flest \nKOMIÐ OG PERLIÐ AF KRAFTI ♥
URL:https://kraftur.org/vidburdur/perlad-af-krafti-med-akureyringum/
LOCATION:Íþróttahöllin Akureyri\, Skólastíg 1\, Akureyri\, 600\, 600\, Iceland
ATTACH;FMTTYPE=image/png:https://kraftur.org/wp-content/uploads/2018/05/FB-event-armbond-i-solu-nytt-2.png
END:VEVENT
BEGIN:VEVENT
DTSTART;TZID=UTC:20180109T173000
DTEND;TZID=UTC:20180109T183000
DTSTAMP:20260421T074115
CREATED:20180102T173701Z
LAST-MODIFIED:20180102T173701Z
UID:1202853-1515519000-1515522600@kraftur.org
SUMMARY:Æfing hjá FítonsKrafti
DESCRIPTION:FítonsKraftur er endurhæfing í formi hreyfingar og útivistar fyrir ungt fólk sem greinst hefur með krabbamein.\nÆfingar eru í Heilsuborg 2x í viku undir handleiðslu Atla Más Sveinssonar íþróttafræðings. Frekari upplýsingar og skráning má finna hér.
URL:https://kraftur.org/vidburdur/aefing-hja-fitonskrafti-4/
LOCATION:Heilsuborg\, Bíldshöfði 9\, Reykjavík\, 110\, Iceland
END:VEVENT
BEGIN:VEVENT
DTSTART;TZID=UTC:20180111T173000
DTEND;TZID=UTC:20180111T183000
DTSTAMP:20260421T074115
CREATED:20180102T173958Z
LAST-MODIFIED:20180102T173958Z
UID:1202879-1515691800-1515695400@kraftur.org
SUMMARY:Æfing hjá FítonsKrafti
DESCRIPTION:FítonsKraftur er endurhæfing í formi hreyfingar og útivistar fyrir ungt fólk sem greinst hefur með krabbamein.\nÆfingar eru í Heilsuborg 2x í viku undir handleiðslu Atla Más Sveinssonar íþróttafræðings. Frekari upplýsingar og skráning má finna hér.
URL:https://kraftur.org/vidburdur/aefing-hja-fitonskrafti-5/
LOCATION:Heilsuborg\, Bíldshöfði 9\, Reykjavík\, 110\, Iceland
END:VEVENT
BEGIN:VEVENT
DTSTART;TZID=UTC:20180512T120000
DTEND;TZID=UTC:20180512T160000
DTSTAMP:20260421T074115
CREATED:20180505T171221Z
LAST-MODIFIED:20180505T171221Z
UID:1217285-1526126400-1526140800@kraftur.org
SUMMARY:Perlað af Krafti fyrir Ísland
DESCRIPTION:Ná stuðningsmenn að setja Íslandsmet? \nTólfan og Kraftur koma saman og perla armbönd til stuðnings ungu fólki sem greinst hefur með krabbamein og aðstandendum. \nMætið á völlinn og leggið ykkar af mörkum til að perla fyrir Kraft og sýna samstöðu með íslenska landsliðinu fyrir HM. \nFram koma:\n– Hreimur\n– Stefanía Svavars\n– Karlakórinn Esja\n– Sóli Hólm\n– Landsliðsþjálfarar etja keppni í perlun armbanda\n– Gummi Ben\n– Þekktir íþróttamenn verða á svæðinu \nFrábær upphitun og skemmtun fyrir HM – fyrir alla fjölskylduna þar sem sannkölluð þjóðhátíðarstemning mun verða í Laugardalnum \nÁFRAM ÍSLAND – HÚ!
URL:https://kraftur.org/vidburdur/perlad-af-krafti-fyrir-island/
LOCATION:Stúkan Laugardalsvelli\, Laugardalsvöllur\, Reykjavík\, Reykjavík\, 104\, Iceland
ATTACH;FMTTYPE=image/png:https://kraftur.org/wp-content/uploads/2018/05/FB-Event-maettu-a-vollinn-2.png
END:VEVENT
BEGIN:VEVENT
DTSTART;TZID=UTC:20180109T173000
DTEND;TZID=UTC:20180109T183000
DTSTAMP:20260421T074115
CREATED:20180102T173701Z
LAST-MODIFIED:20180102T173701Z
UID:1202853-1515519000-1515522600@kraftur.org
SUMMARY:Æfing hjá FítonsKrafti
DESCRIPTION:FítonsKraftur er endurhæfing í formi hreyfingar og útivistar fyrir ungt fólk sem greinst hefur með krabbamein.\nÆfingar eru í Heilsuborg 2x í viku undir handleiðslu Atla Más Sveinssonar íþróttafræðings. Frekari upplýsingar og skráning má finna hér.
URL:https://kraftur.org/vidburdur/aefing-hja-fitonskrafti-4/
LOCATION:Heilsuborg\, Bíldshöfði 9\, Reykjavík\, 110\, Iceland
END:VEVENT
BEGIN:VEVENT
DTSTART;TZID=UTC:20180111T173000
DTEND;TZID=UTC:20180111T183000
DTSTAMP:20260421T074115
CREATED:20180102T173958Z
LAST-MODIFIED:20180102T173958Z
UID:1202879-1515691800-1515695400@kraftur.org
SUMMARY:Æfing hjá FítonsKrafti
DESCRIPTION:FítonsKraftur er endurhæfing í formi hreyfingar og útivistar fyrir ungt fólk sem greinst hefur með krabbamein.\nÆfingar eru í Heilsuborg 2x í viku undir handleiðslu Atla Más Sveinssonar íþróttafræðings. Frekari upplýsingar og skráning má finna hér.
URL:https://kraftur.org/vidburdur/aefing-hja-fitonskrafti-5/
LOCATION:Heilsuborg\, Bíldshöfði 9\, Reykjavík\, 110\, Iceland
END:VEVENT
BEGIN:VEVENT
DTSTART;TZID=UTC:20180517T193000
DTEND;TZID=UTC:20180517T220000
DTSTAMP:20260421T074115
CREATED:20180102T183237Z
LAST-MODIFIED:20180102T183237Z
UID:1202933-1526585400-1526594400@kraftur.org
SUMMARY:Grillkvöld hjá Ungliðahópnum
DESCRIPTION:Grillkvöld verður hjá Ungliðahópnum þann 17.maí. Mæting kl kl. 19:30 í Ljósinu og verður grillað saman í góðum félagsskap. Vonandi verða veðurguðirnir með okkur í liði og sólin fær að skína 🙂\nFrekari upplýsingar um viðburðinn má finna inn á Facebookhóp Ungliðahópsins. \nUngliðahópurinn er fyrir ungt fólk sem greinst hefur með krabbamein á aldrinum 18-29 ára og aðstandendur. Hópurinn hittist tvisvar sinnum í mánuði og er samstarfsverkefni Krafts\, Ljóssins og SKB.\nUmsjónarmaður hópsins er Kristján Friðriksson\, s: 866 2826 og tölvupóstur: kristjan.fridriks@gmail.com
URL:https://kraftur.org/vidburdur/1202933/
ATTACH;FMTTYPE=image/jpeg:https://kraftur.org/wp-content/uploads/2017/09/LIF_svart-e1535669657158-2.jpg
END:VEVENT
BEGIN:VEVENT
DTSTART;TZID=UTC:20180522T171500
DTEND;TZID=UTC:20180522T183000
DTSTAMP:20260421T074115
CREATED:20180508T185406Z
LAST-MODIFIED:20180508T185406Z
UID:1218067-1527009300-1527013800@kraftur.org
SUMMARY:Hver er réttur minn í veikindum? - Fyrirlestur
DESCRIPTION:Hvað þarf ég að borga? Hvað þarf ég að vita? Hver er réttur minn  í veikindum? \nNæsti fyrirlestur i fyrirlestaröð Krafts „Ungt fólk og krabbamein“ verður haldinn þriðjudaginn 22. maí kl 17.15 í húsakynnum Krafts\, Krabbameinsfélaginu\, Skógarhlíð 8\, Reykjavík. \nArnar Þór Sveinsson\, hagfræðingur hjá velferðarráðuneytinu\, fjallar um greiðsluþátttöku sjúklinga í heilbrigðiskerfinu og Guðrún Björg Elíasdóttir\, lyfjafræðingur og deildarstjóri lyfjadeildar hjá Sjúkratryggingum Íslands\, fjallar um greiðsluþátttöku sjúklinga í lyfjakaupum. \nGunnjóna Una Guðmundsdóttir\, félagsráðgjafi\, fjallar um fjármál\, félagsleg réttindi\, endurhæfingu og önnur úrræði sem í boði eru fyrir krabbameinsgreinda. \nAllir velkomnir á meðan húsrúm leyfir.
URL:https://kraftur.org/vidburdur/hver-er-rettur-minn-veikindum-fyrirlestur/
LOCATION:Kraftur  – Stuðningsfélag fyrir ungt fólk sem greinst hefur með krabbamein og aðstandendur\, Skógarhlíð 8\, Reykjavík\, Reykjavík\, 105\, Iceland
ATTACH;FMTTYPE=image/png:https://kraftur.org/wp-content/uploads/2018/05/Hvad-hvad-hver-web-2.png
END:VEVENT
BEGIN:VEVENT
DTSTART;TZID=UTC:20180109T173000
DTEND;TZID=UTC:20180109T183000
DTSTAMP:20260421T074115
CREATED:20180102T173701Z
LAST-MODIFIED:20180102T173701Z
UID:1202853-1515519000-1515522600@kraftur.org
SUMMARY:Æfing hjá FítonsKrafti
DESCRIPTION:FítonsKraftur er endurhæfing í formi hreyfingar og útivistar fyrir ungt fólk sem greinst hefur með krabbamein.\nÆfingar eru í Heilsuborg 2x í viku undir handleiðslu Atla Más Sveinssonar íþróttafræðings. Frekari upplýsingar og skráning má finna hér.
URL:https://kraftur.org/vidburdur/aefing-hja-fitonskrafti-4/
LOCATION:Heilsuborg\, Bíldshöfði 9\, Reykjavík\, 110\, Iceland
END:VEVENT
BEGIN:VEVENT
DTSTART;TZID=UTC:20180111T173000
DTEND;TZID=UTC:20180111T183000
DTSTAMP:20260421T074115
CREATED:20180102T173958Z
LAST-MODIFIED:20180102T173958Z
UID:1202879-1515691800-1515695400@kraftur.org
SUMMARY:Æfing hjá FítonsKrafti
DESCRIPTION:FítonsKraftur er endurhæfing í formi hreyfingar og útivistar fyrir ungt fólk sem greinst hefur með krabbamein.\nÆfingar eru í Heilsuborg 2x í viku undir handleiðslu Atla Más Sveinssonar íþróttafræðings. Frekari upplýsingar og skráning má finna hér.
URL:https://kraftur.org/vidburdur/aefing-hja-fitonskrafti-5/
LOCATION:Heilsuborg\, Bíldshöfði 9\, Reykjavík\, 110\, Iceland
END:VEVENT
BEGIN:VEVENT
DTSTART;TZID=UTC:20180109T173000
DTEND;TZID=UTC:20180109T183000
DTSTAMP:20260421T074115
CREATED:20180102T173701Z
LAST-MODIFIED:20180102T173701Z
UID:1202853-1515519000-1515522600@kraftur.org
SUMMARY:Æfing hjá FítonsKrafti
DESCRIPTION:FítonsKraftur er endurhæfing í formi hreyfingar og útivistar fyrir ungt fólk sem greinst hefur með krabbamein.\nÆfingar eru í Heilsuborg 2x í viku undir handleiðslu Atla Más Sveinssonar íþróttafræðings. Frekari upplýsingar og skráning má finna hér.
URL:https://kraftur.org/vidburdur/aefing-hja-fitonskrafti-4/
LOCATION:Heilsuborg\, Bíldshöfði 9\, Reykjavík\, 110\, Iceland
END:VEVENT
BEGIN:VEVENT
DTSTART;TZID=UTC:20180111T173000
DTEND;TZID=UTC:20180111T183000
DTSTAMP:20260421T074115
CREATED:20180102T173958Z
LAST-MODIFIED:20180102T173958Z
UID:1202879-1515691800-1515695400@kraftur.org
SUMMARY:Æfing hjá FítonsKrafti
DESCRIPTION:FítonsKraftur er endurhæfing í formi hreyfingar og útivistar fyrir ungt fólk sem greinst hefur með krabbamein.\nÆfingar eru í Heilsuborg 2x í viku undir handleiðslu Atla Más Sveinssonar íþróttafræðings. Frekari upplýsingar og skráning má finna hér.
URL:https://kraftur.org/vidburdur/aefing-hja-fitonskrafti-5/
LOCATION:Heilsuborg\, Bíldshöfði 9\, Reykjavík\, 110\, Iceland
END:VEVENT
BEGIN:VEVENT
DTSTART;TZID=UTC:20180531T193000
DTEND;TZID=UTC:20180531T220000
DTSTAMP:20260421T074115
CREATED:20180102T183628Z
LAST-MODIFIED:20180102T183628Z
UID:1202936-1527795000-1527804000@kraftur.org
SUMMARY:Óvissuferð - Ungliðahópurinn
DESCRIPTION:Síðasti hittingur vetrarins verður Óvissuferð og verður haldin fim. 31.maí. Óvissuferðin hefur slegið í gegn síðustu ár og verður þessi ekkert undanskilin 🙂  Nánari dagskrá auglýst þegar nær dregur.\nFrekari upplýsingar um viðburðinn má finna inn á Facebookhóp Ungliðahópsins. \nUngliðahópurinn er fyrir ungt fólk sem greinst hefur með krabbamein á aldrinum 18-29 ára og aðstandendur. Hópurinn hittist tvisvar sinnum í mánuði og er samstarfsverkefni Krafts\, Ljóssins og SKB.\nUmsjónarmaður hópsins er Kristján Friðriksson\, s: 866 2826 og tölvupóstur: kristjan.fridriks@gmail.com
URL:https://kraftur.org/vidburdur/ovissuferd-unglidahopurinn/
ATTACH;FMTTYPE=image/jpeg:https://kraftur.org/wp-content/uploads/2017/09/LIF_svart-e1535669657158-2.jpg
END:VEVENT
END:VCALENDAR