BEGIN:VCALENDAR
VERSION:2.0
PRODID:-//Kraftur - ECPv6.15.15//NONSGML v1.0//EN
CALSCALE:GREGORIAN
METHOD:PUBLISH
X-ORIGINAL-URL:https://kraftur.org
X-WR-CALDESC:Viðburðir í Kraftur
REFRESH-INTERVAL;VALUE=DURATION:PT1H
X-Robots-Tag:noindex
X-PUBLISHED-TTL:PT1H
BEGIN:VTIMEZONE
TZID:UTC
BEGIN:STANDARD
TZOFFSETFROM:+0000
TZOFFSETTO:+0000
TZNAME:UTC
DTSTART:20180101T000000
END:STANDARD
END:VTIMEZONE
BEGIN:VEVENT
DTSTART;TZID=UTC:20190821T173000
DTEND;TZID=UTC:20190821T193000
DTSTAMP:20260422T223714
CREATED:20190813T183150Z
LAST-MODIFIED:20190813T183150Z
UID:1239308-1566408600-1566415800@kraftur.org
SUMMARY:Að klífa brattann - Vatnahringurinn í Heiðmörk
DESCRIPTION:Miðvikudaginn 21. ágúst ætlar gönguhópurinn Að klífa brattann að ganga Vatnahringinn í Heiðmörkinni. \nHittumst klukkan 17:30 á bílastæðinu við Helluvatn. Best er að fara inn í Heiðmörkina Rauðhólameginn og keyra beina leið þar til þú kemur að brú hjá Helluvatni\, ferð yfir brúna og þar er bílastæði þér að vinstri hönd. \nVatnahringurinn er 7\,5 km langur og tekur gangan um 2 klukkustundir. Gengið er eftir göngustígum í skóglendinu sem og meðferð vatninu. Frábær ganga fyrir fyrir alla til að geta tekið þátt 🙂 Kraftsfélagar\, fjölskyldur þeirra\, börn og vinir eru hjartanlega velkomin. \nAð klífa brattann er gönguhópur sem Kraftskonurnar Ragnheiður Guðmundsdótttir og G. Sigríður Ágústsdóttir leiða en þær hafa báðar notað útivist og fjallgöngur sér til endurhæfingar og sjálfseflingar í veikindum sínum. \nGöngurnar henta öllum þeim sem hafa áhuga á að kynna sér göngur og íslenska náttúru og njóta þess að vera í hópi meðal jafningja. \nRagnheiður (sími: 663-9360) og Sirrý (sími: 660-4407) \nÞú getur fylgst með okkur á Facebook og beðið um inngöngu í hópinn hér: https://www.facebook.com/groups/472685906595268/ \nHér er mynd af Heiðmörk og gönguleiðinni til að átta sig betur
URL:https://kraftur.org/vidburdur/ad-klifa-brattann-vatnahringurinn-heidmork/
LOCATION:helluvatn Heiðmörk\, Iceland
ATTACH;FMTTYPE=image/jpeg:https://kraftur.org/wp-content/uploads/2019/06/að-klífa-brattann.jpg
END:VEVENT
BEGIN:VEVENT
DTSTART;TZID=UTC:20190824T083000
DTEND;TZID=UTC:20190824T113000
DTSTAMP:20260422T223714
CREATED:20190813T190349Z
LAST-MODIFIED:20190813T190349Z
UID:1239321-1566635400-1566646200@kraftur.org
SUMMARY:Vertu með í Klappliði Krafts
DESCRIPTION:Við hvetjum ykkur til að mæta með læti laugardaginn 24.ágúst og hvetja þá fjölmörgu hlaupara sem hlaupa fyrir Kraft í Reykjavíkurmaraþoninu. \nVið verðum með hvatningarstöð á Ægissíðu við Dunhaga. Þetta mun örugglega ekki fara fram hjá ykkur þar sem við verðum merkt litum og lógoum og verðum að sjálfsögðu með læti \nMaraþonið og 1/2 maraþonið er ræst kl. 8:40 og 10 km. hlaupið er ræst kl. 9:35 svo gott er að mæta ekki mikið seinna en kl. 10. Við verðum mætt kl. 8:30 fyrir „early birds“. \nBoðið verður upp á kaffi og með’ðí fyrir hvatningarliðið okkar 🙂 \nMinnum ykkur á lokanir gatna vegna maraþonsins en upplýsingar um það má finna hér: https://www.rmi.is/truflun-a-umferd eða hér: http://menningarnott.is/sites/default/files/skjol/hof_krt_hatidarsvedi_menningarnott_0618_islenska_v2_0.pdf \nFrekari upplýsingar veitir Hrefna hjá Krafti í síma 866 9698 – endilega meldaðu þig á Facebook. \nHlökkum til að sjá ykkur sem flest 🙂
URL:https://kraftur.org/vidburdur/vertu-med-klapplidi-krafts/
LOCATION:dunhagi\, Ægissíða við Dunhaga\, Reykjavík\, 101\, Iceland
ATTACH;FMTTYPE=image/jpeg:https://kraftur.org/wp-content/uploads/2019/08/20190824-100917-2.jpg
END:VEVENT
BEGIN:VEVENT
DTSTART;TZID=UTC:20190824T140000
DTEND;TZID=UTC:20190824T150000
DTSTAMP:20260422T223714
CREATED:20190807T154549Z
LAST-MODIFIED:20190807T154549Z
UID:1239077-1566655200-1566658800@kraftur.org
SUMMARY:Opnun ljósmyndasýningar - Skapa fötin manninn?
DESCRIPTION:Á Menningarnótt þann 24. ágúst klukkan 14:00 munum við opna ljósmyndasýninguna – Skapa fötin manninn? – fyrir utan Hörpuna í Reykjavík. Við bjóðum alla landsmenn hjartanlega velkomna á sýninguna en hún mun standa fram yfir miðjan september. \nKári Sverriss ljósmyndari og Kraftur hafa tekið höndum saman og sett upp ljósmyndasýningu þar sem módelin eru ungt fólk sem greinst hefur með krabbamein. Módelin eru öll stíleseruð af Sigrúnu Ástu Jörgensen og eru í tískufatnaði frá ýmsum aðilum.   \n Við vörpum fram spurningunni „Skapa fötin manninn?“ þar sem við erum að velta því fyrir okkur hvað er það sem grípur athygli okkar fyrst. Eru það fötin\, ör eða annað? Oft reyna þeir sem bera ör eða merki þess að hafa gengið í gegnum erfiðleika  að fela merki þess með fatnaði eða fylgihlutum. En með þessari sýningu langar Kára að gera akkúrat öfugt þ.e. opna fyrir örin eða gera þau sýnileg í bland við fatnað. Þannig að fólk geti borið örin með stolti þar sem þau eru vitnisburður um þeirra sigra en ekki eitthvað sem það á að fela.  \nLjósmyndasýningin er hluti af afmælisári Krafts en í ár fögnum við 20 ára starfsafmæli. Í hverjum mánuði þetta árið erum við með vitundarvakningu eða einhvern viðburð fyrir félagsmenn sem og aðra til að fagna þessum merka áfanga. Ljósmyndasýningin er viðburður ágústmánaðar og verða ljósmyndirnar til sýnis á útistöndum fyrir framan Hörpuna. 
URL:https://kraftur.org/vidburdur/opnun-ljosmyndasyningarinnar-skapa-fotin-manninn/
LOCATION:Harpa\, Austurbakka 2\, Reykjavík\, Reykjavík\, 101\, Iceland
ATTACH;FMTTYPE=image/jpeg:https://kraftur.org/wp-content/uploads/2019/08/banner_ljosmyndasyning_web-event_lit-scaled.jpg
END:VEVENT
BEGIN:VEVENT
DTSTART;TZID=UTC:20190826T170000
DTEND;TZID=UTC:20190826T183000
DTSTAMP:20260422T223714
CREATED:20190807T191029Z
LAST-MODIFIED:20190807T191029Z
UID:1239109-1566838800-1566844200@kraftur.org
SUMMARY:StelpuKraftur hefst á ný
DESCRIPTION:StelpuKraftur hefst á ný eftir sumarfrí 26. ágúst næstkomandi þar sem við ætlum að hittast í húsakynnum Krafts Skógarhlíð 8\,spjalla saman og stilla saman strengi fyrir haustið. StelpuKraftur er stuðningshópur fyrir ungar konur á aldrinum 18-45 ára sem greinst hafa með krabbamein. \nÞegar maður er ungur og greinist með krabbamein er svo gott að geta hitt jafningja í sömu sporum\, deila reynslu og fá stuðning frá hvor öðrum. Einstaklinga sem hafa skilning sem einungis fæst með því að upplifa hlutina sjálfur. \nHópurinn hittist annan hvern mánudag klukkan 17:00 í húsnæði Krafts að Skógarhlíð 8. Umsjónarmaður með hópnum er Elín Kristín Klar\, ráðgjafi. \nÞú getur sótt um inngöngu í Facebook hóp StelpuKrafts hér \n  \n 
URL:https://kraftur.org/vidburdur/stelpukraftur-2/
LOCATION:Kraftur  – Stuðningsfélag fyrir ungt fólk sem greinst hefur með krabbamein og aðstandendur\, Skógarhlíð 8\, Reykjavík\, Reykjavík\, 105\, Iceland
ATTACH;FMTTYPE=image/jpeg:https://kraftur.org/wp-content/uploads/2019/06/stelpukraftur.jpg
END:VEVENT
END:VCALENDAR