BEGIN:VCALENDAR
VERSION:2.0
PRODID:-//Kraftur - ECPv6.15.15//NONSGML v1.0//EN
CALSCALE:GREGORIAN
METHOD:PUBLISH
X-WR-CALNAME:Kraftur
X-ORIGINAL-URL:https://kraftur.org
X-WR-CALDESC:Viðburðir í Kraftur
REFRESH-INTERVAL;VALUE=DURATION:PT1H
X-Robots-Tag:noindex
X-PUBLISHED-TTL:PT1H
BEGIN:VTIMEZONE
TZID:UTC
BEGIN:STANDARD
TZOFFSETFROM:+0000
TZOFFSETTO:+0000
TZNAME:UTC
DTSTART:20190101T000000
END:STANDARD
END:VTIMEZONE
BEGIN:VEVENT
DTSTART;TZID=UTC:20200708T200000
DTEND;TZID=UTC:20200708T220000
DTSTAMP:20260425T201218
CREATED:20200623T144342Z
LAST-MODIFIED:20200623T144342Z
UID:1250966-1594238400-1594245600@kraftur.org
SUMMARY:Kvöldvaka við varðeld - Krabbamein fer ekki í frí
DESCRIPTION:Miðvikudaginn 8. júlí ætlar Kraftur að vera með kvöldvöku við varðeld við Elliðavatn undir yfirskriftinni Krabbamein fer ekki í frí.\n\n\n \n\n\nVið verðum í fallegu rjóðri við Elliðavatnsbæ og hægt er að leggja þar. Við munum kveikja varðeld og vera með kósý kvöldvöku þar sem við syngjum saman og njótum líðandi stundar. Trúbator mun koma og halda uppi stemningunni með gítarspili og söng.\n\n\n \n\n\nNú er um að gera að koma saman með vinum og fjölskyldu\, njóta og syngja. Ekki þarf sönghæfileika til að taka þátt heldur snýst þetta um samveruna.\n\n\n \n\n\nEndilega meldið ykkur  á Facebook viðburðinn til að við vitum hversu margir eru að koma.\n\n\nÍ sumar stendur Kraftur fyrir þremur viðburðum undir yfirskriftinni Krabbamein fer ekki í frí fyrir félagsmenn sína þar sem við höfum að megin markmiði að koma saman\, njóta útivistar og líðandi stundar. Viðburðirnir eru bæði fyrir fólk sem hefur greinst með krabbamein sem og aðstandendur og er tilvalin stund fyrir vini og fjölskyldu að koma saman.\n\n \n\n\nKrabbamein fer ekki í frí er vitundarvakning Krafts sem snýr að því að þótt fólk fari í sumarfrí þá fer krabbamein ekki í frí. Oft getur verið minni starfsemi og þjónusta yfir sumartímann hjá þjónustuaðilum sem sinna krabbameinsgreindum og aðstandendum. Við hjá Krafti höfum því tekið saman opnunartíma hjá ýmsum aðilum. Þótt þjónustan sé takmarkaðri þá skiptir máli að vita hvert maður getur leitað sér læknishjálpar\, ráðgjafar og stuðnings.
URL:https://kraftur.org/vidburdur/kvoldvaka-vid-vardeld-krabbamein-fer-ekki-fri/
LOCATION:Elliðavatnsbær\, Iceland
ATTACH;FMTTYPE=image/jpeg:https://kraftur.org/wp-content/uploads/2020/06/Banner_juni_kvoldvaka.jpg
END:VEVENT
BEGIN:VEVENT
DTSTART;TZID=UTC:20200715T171500
DTEND;TZID=UTC:20200715T190000
DTSTAMP:20260425T201218
CREATED:20200228T105723Z
LAST-MODIFIED:20200228T105723Z
UID:1247425-1594833300-1594839600@kraftur.org
SUMMARY:Að klífa brattann - Hobbitastígur
DESCRIPTION:Leitin af hringnum mun eiga sér stað 15. júlí næstkomandi þar sem við munum labba saman um ævintýraheim Heiðmerkur nánar tiltekið Hobbitastíginn þar sem við röltum um skóglendi\, flatlendi og hraunbreiður. Ótrúlega skemmtileg leið sem hentar háum sem lágum þetta er um 4-5 km en rosalega margbreytileg leið og við meira að segja förum fram hjá Maríuhellum. \nKomum saman og njótum þess að vera úti að hreyfa okkur í fallegri náttúru í útjaðri Reykjavíkur. \nVið munum hittast á bílastæðinu rétt áður en þú kemur að hliðina að Heiðmörk – nánar tiltekið þessu bílastæði hér  \nAð klífa brattann er gönguhópur fyrir krabbameinsgreinda og aðstandendur sem Kraftskonurnar Ragnheiður Guðmundsdóttir og G.sigríður Ágústsdóttir leiða en þær hafa báðar notað útivist og fjallgöngur sér til endurhæfingar og sjálfseflingar í veikindum sínum. \nGöngurnar henta öllum þeim sem hafa áhuga á að kynna sér göngur og íslenska náttúru og njóta þess að vera í hópi meðal jafningja. \nKraftsfélagar\, fjölskyldur þeirra\, börn og vinir eru hjartanlega velkomin. Endilega meldið ykkur á Facebook viðburðinum \nRagnheiður (sími: 663-9360) og Sirrý (sími: 660-4407)
URL:https://kraftur.org/vidburdur/ad-klifa-brattann-hobbitastigur/
ATTACH;FMTTYPE=image/jpeg:https://kraftur.org/wp-content/uploads/2019/09/Banner_ad_klifa_brattann.jpg
END:VEVENT
BEGIN:VEVENT
DTSTART;TZID=UTC:20200722T171500
DTEND;TZID=UTC:20200722T191500
DTSTAMP:20260425T201218
CREATED:20200623T144819Z
LAST-MODIFIED:20200623T144819Z
UID:1250972-1595438100-1595445300@kraftur.org
SUMMARY:Frisbígolf á Klambratúni - Krabbamein fer ekki í frí
DESCRIPTION:Miðvikudaginn 22. júlí ætlar Kraftur að vera með Frísbígolf á Klambratúni undir yfirskriftinni Krabbamein fer ekki í frí.  \nVið ætlum við að hittast klukkan 17:15 hjá bílastæðinu við Kjarvalsstaði. Við munum síðan rölta saman inn á túnið í frísbígolf. Þú þarft ekkert að kunna leikinn heldur förum við yfir reglurnar og höfum svo gaman saman en aðal markmiðið er ekki að vinna heldur að koma saman og njóta líðandi stundar og vonandi góða veðursins 🙂 \nEndilega meldið ykkur hér á Facebook til að við vitum hversu margir eru að koma. \nÍ sumar stendur Kraftur fyrir þremur viðburðum undir yfirskriftinni Krabbamein fer ekki í frí fyrir félagsmenn sína þar sem við höfum að megin markmiði að koma saman\, njóta útivistar og líðandi stundar. Viðburðirnir eru bæði fyrir fólk sem hefur greinst með krabbamein sem og aðstandendur og er tilvalin stund fyrir vini og fjölskyldu að koma saman. \nKrabbamein fer ekki í frí er vitundarvakning Krafts sem snýr að því að þótt fólk fari í sumarfrí þá fer krabbamein ekki í frí. Oft getur verið minni starfsemi og þjónusta yfir sumartímann hjá þjónustuaðilum sem sinna krabbameinsgreindum og aðstandendum. Við hjá Krafti höfum því tekið saman opnunartíma hjá ýmsum aðilum. Þótt þjónustan sé takmarkaðri þá skiptir máli að vita hvert maður getur leitað sér læknishjálpar\, ráðgjafar og stuðnings.
URL:https://kraftur.org/vidburdur/frisbigolf-klambratuni-krabbamein-fer-ekki-fri/
LOCATION:klambratún\, Flókatún 24\, Reykjavík\, 105\, Iceland
ATTACH;FMTTYPE=image/jpeg:https://kraftur.org/wp-content/uploads/2020/06/Banner_juni_frisbigolf.jpg
END:VEVENT
END:VCALENDAR