BEGIN:VCALENDAR
VERSION:2.0
PRODID:-//Kraftur - ECPv6.15.15//NONSGML v1.0//EN
CALSCALE:GREGORIAN
METHOD:PUBLISH
X-WR-CALNAME:Kraftur
X-ORIGINAL-URL:https://kraftur.org
X-WR-CALDESC:Viðburðir í Kraftur
REFRESH-INTERVAL;VALUE=DURATION:PT1H
X-Robots-Tag:noindex
X-PUBLISHED-TTL:PT1H
BEGIN:VTIMEZONE
TZID:UTC
BEGIN:STANDARD
TZOFFSETFROM:+0000
TZOFFSETTO:+0000
TZNAME:UTC
DTSTART:20190101T000000
END:STANDARD
END:VTIMEZONE
BEGIN:VEVENT
DTSTART;TZID=UTC:20200907T200000
DTEND;TZID=UTC:20200907T220000
DTSTAMP:20260425T170558
CREATED:20200831T103330Z
LAST-MODIFIED:20200831T103330Z
UID:1252253-1599508800-1599516000@kraftur.org
SUMMARY:StelpuKraftur - Stuðningshópur
DESCRIPTION:Þegar maður er ungur og greinist með krabbamein skiptir svo miklu máli að vita hvert maður getur leitað og maður standi ekki einn í baráttunni.\n\n\nStelpuKraftur er stuðningshópur fyrir ungar konur á aldrinum 18 – 45 ára sem greinst hafa með krabbamein. Hópurinn hittist annan hvern mánudag kl. 17 ýmist í húskynnum Krafts\, Skógarhlíð 8\, eða annarsstaðar. \nDagskrá – september\nMán. 7. september – Hittingur í Skógarhlíðinni\n\nVið ætlum að njóta þess að hittast í Skógarhlíðinni og eiga huggulega stund saman á nýja árinu. Hittumst í húsnæði Ráðgjafarþjónustunnar í Skógarhlíð 8.\n\nMán. 21. september – Hittingur í Skógarhlíðinni\n\nStaður og stund auglýst síðar\n\nUmsjón með hópnum hefur\, Elín Kristín Klar\, ráðgjafi\, og Hulda Hjálmarsdóttir\, starfsmaður og félagsmaður hjá Krafti. \nFrekari upplýsingar og hægt að óska eftir inngöngu í FB – hóp StelpuKrafts. 
URL:https://kraftur.org/vidburdur/stelpukraftur-studningshopur-5/
LOCATION:Kraftur  – Stuðningsfélag fyrir ungt fólk sem greinst hefur með krabbamein og aðstandendur\, Skógarhlíð 8\, Reykjavík\, Reykjavík\, 105\, Iceland
ATTACH;FMTTYPE=image/jpeg:https://kraftur.org/wp-content/uploads/2020/06/Banner_stelpuKraftur_studningshopur.jpg
END:VEVENT
BEGIN:VEVENT
DTSTART;TZID=UTC:20200913T140000
DTEND;TZID=UTC:20200913T160000
DTSTAMP:20260425T170558
CREATED:20200901T090336Z
LAST-MODIFIED:20200901T090336Z
UID:1252288-1600005600-1600012800@kraftur.org
SUMMARY:AFLÝST - SUP á Hafravatni - FítonsKraftur
DESCRIPTION:ATH! AFLÝST VEGNA VEÐURS! Ný tímasetning verður auglýst með fyrirvara.  \nVið fáum æðislegt tækifæri til að prufa SUP eða stand um paddle board laugardaginn 12.september á Hafravatni. Þetta er tilvalið tækifæri fyrir alla sem hafa viljað prófa SUP að koma og kynna sér það.\nLeiðbeinendur eru með góða reynslu úr SUP sportinu og hafa stundað vatnasport frá ungaaldri og því alveg eðal kennsla í boði. Hnitmiðað og skemmtilegt byrjendanámskeið fyrir alla fjölskylduna í öruggu umhverfi við Hafravatn. Þátttakendur fá tækifæri til að læra réttu handtökin\, meðhöndlun á búnaði\, öryggisatriði og hitta aðra þáttakendur sem eru að fóta sig í sportinu. \nKRÖFUR OG ÖRYGGISATRIÐI:\nÞátttakandi þarf að kunna að synda\nLámárks hæð 150 cm (nema þátttakandi komi með sinn eigin galla)\nHámarks hæð 200 cm (nema þátttakandi komi með sinn eigin galla)\nLámarks þyngd 50 kg (nema þátttakandi komi með sinn eigin galla)\nHámarks þyngd 120 kg (nema þátttakandi komi með sinn eigin galla)\nLámarks aldur 12 ára\nHámarks aldur 75 ára \nEndilega meldaður þig á viðburðinn á facebook en mikilvægt er að skrá sig hér svo allir fái rétta stærð af búnaði. \nHVAÐA BÚNAÐ ER GOTT AÐ TAKA MEÐ SÉR :\nUndirlag / Ull eða hlý föt til að vera í innan undir í þurrgallanum\nAuka flík ef eitthvað af fatnaðinum blotnar\nHlýa sokka\nHúfu\nHandklæði \nATH: Námskeiðin eru háð veðri og vind. Ef við þurfum að aflýsa vegna veðurs reynum við að finna aðra tímasetningu sem yrði þá auglýst síðar.
URL:https://kraftur.org/vidburdur/sup-a-hvaleyrarvatni/
LOCATION:Hafravatn\, Hafravatnsvegur\, Iceland
ATTACH;FMTTYPE=image/jpeg:https://kraftur.org/wp-content/uploads/2020/09/Banner_sept_fitonsKraftur_SUP-scaled.jpg
END:VEVENT
BEGIN:VEVENT
DTSTART;TZID=UTC:20200916T171500
DTEND;TZID=UTC:20200916T184500
DTSTAMP:20260425T170558
CREATED:20200902T162921Z
LAST-MODIFIED:20200902T162921Z
UID:1252286-1600276500-1600281900@kraftur.org
SUMMARY:Fræðslufyrirlestur - Lífshökk með Norminu 
DESCRIPTION:Hvernig væri að skella sér á skemmtilegan og fræðandi fyrirlestur þar sem stöllurnar Eva og Sylvía kenna okkur leiðir til að finna gleði og hamingju á óhefðbundinn hátt? Eva Mattadóttir og Sylvía Briem halda úti podcastinu Normið og taka þar fyrir allskonar umræður um mannlegt eðli og ræða á hráan máta. Þær hafa báðar endalausan áhuga á mannlegri hegðun og mikla reynslu í að þjálfa fólk í því að komast á betri stað í lífinu.  \nEva og Sylvía hafa sankað að sér allskonar tækjum og tólum og hafa sett saman í einn dúndur fyrirlestur.  Lífshökk fyrirlesturinn er skemmtilegur\, fræðandi og ferskur. Fyrirlestur sem enginn ætti að láta fram hjá sér fara.  \nAð sjálfsögðu verður farið eftir fyrirmælum sóttvarnarteymisins á svæðinu og verður allt gert til að halda tveggja metra reglunni. Spritt á staðnum. Fræðslufyrirlestrinum verður einnig streymt á netinu – hlekkur kemur inn í viðburðinn þegar nær dregur.  \nFyrirlesturinn er öllum opinn og er án endurgjalds. Allir hjartanlega velkomnir. Þú getur meldað þig hér á Facebook.
URL:https://kraftur.org/vidburdur/lifshokk-med-norminu/
LOCATION:Kraftur  – Stuðningsfélag fyrir ungt fólk sem greinst hefur með krabbamein og aðstandendur\, Skógarhlíð 8\, Reykjavík\, Reykjavík\, 105\, Iceland
ATTACH;FMTTYPE=image/jpeg:https://kraftur.org/wp-content/uploads/2020/08/Banner_sept_2_fyrirlestrarröð_lífshökk_web_dagsetning_app-scaled.jpg
END:VEVENT
BEGIN:VEVENT
DTSTART;TZID=UTC:20200919T110000
DTEND;TZID=UTC:20200919T123000
DTSTAMP:20260425T170558
CREATED:20200831T104602Z
LAST-MODIFIED:20200831T104602Z
UID:1252258-1600513200-1600518600@kraftur.org
SUMMARY:Að klífa brattann - Rauðavatn
DESCRIPTION:Laugardaginn 19.september\, ætlum við í skemmtilega göngu í kringum Rauðavatn. Falleg og skemmtileg leið sem er á flestra færi. Gengið verður í kringum vatnið þar sem stígar eru á jafnsléttu og lítið um hækkun\, en gott að hafa í huga að hluti gönguleiðarinnar er á malarstíg og þvi gott að vera í góðum skóm. Gangan tekur um klukkustund. Komum saman og njótum þess að vera úti að hreyfa okkur í fallegri náttúru í útjaðri Reykjavíkur. \nVið munum hittast á bílastæðinu hjá Olís við Suðurlandsveg þar sem er nóg af bílastæðum. \nVið hjá Krafti viljum að allir fari eftir fyrirmælum Almannavarna og minnum ykkur því á að virða 2 metra regluna. \nAð klífa brattann er gönguhópur fyrir krabbameinsgreinda og aðstandendur sem Kraftskonurnar Ragnheiður Guðmundsdóttir leiðir en hún hefur notað útivist og fjallgöngur sér til endurhæfingar og sjálfseflingar í veikindum sínum. \nGöngurnar henta öllum þeim sem hafa áhuga á að kynna sér göngur og íslenska náttúru og njóta þess að vera í hópi meðal jafningja. \nKraftsfélagar\, fjölskyldur þeirra\, börn og vinir eru hjartanlega velkomin. Endilega meldið ykkur á Facebook viðburðinum \nHægt er að ná í Ragnheiði í síma: 663-9360
URL:https://kraftur.org/vidburdur/ad-klifa-brattan-raudavatn/
ATTACH;FMTTYPE=image/jpeg:https://kraftur.org/wp-content/uploads/2020/06/Banner_ad_klifa_brattann.jpg
END:VEVENT
BEGIN:VEVENT
DTSTART;TZID=UTC:20200907T200000
DTEND;TZID=UTC:20200907T220000
DTSTAMP:20260425T170558
CREATED:20200831T103330Z
LAST-MODIFIED:20200831T103330Z
UID:1252253-1599508800-1599516000@kraftur.org
SUMMARY:StelpuKraftur - Stuðningshópur
DESCRIPTION:Þegar maður er ungur og greinist með krabbamein skiptir svo miklu máli að vita hvert maður getur leitað og maður standi ekki einn í baráttunni.\n\n\nStelpuKraftur er stuðningshópur fyrir ungar konur á aldrinum 18 – 45 ára sem greinst hafa með krabbamein. Hópurinn hittist annan hvern mánudag kl. 17 ýmist í húskynnum Krafts\, Skógarhlíð 8\, eða annarsstaðar. \nDagskrá – september\nMán. 7. september – Hittingur í Skógarhlíðinni\n\nVið ætlum að njóta þess að hittast í Skógarhlíðinni og eiga huggulega stund saman á nýja árinu. Hittumst í húsnæði Ráðgjafarþjónustunnar í Skógarhlíð 8.\n\nMán. 21. september – Hittingur í Skógarhlíðinni\n\nStaður og stund auglýst síðar\n\nUmsjón með hópnum hefur\, Elín Kristín Klar\, ráðgjafi\, og Hulda Hjálmarsdóttir\, starfsmaður og félagsmaður hjá Krafti. \nFrekari upplýsingar og hægt að óska eftir inngöngu í FB – hóp StelpuKrafts. 
URL:https://kraftur.org/vidburdur/stelpukraftur-studningshopur-5/
LOCATION:Kraftur  – Stuðningsfélag fyrir ungt fólk sem greinst hefur með krabbamein og aðstandendur\, Skógarhlíð 8\, Reykjavík\, Reykjavík\, 105\, Iceland
ATTACH;FMTTYPE=image/jpeg:https://kraftur.org/wp-content/uploads/2020/06/Banner_stelpuKraftur_studningshopur.jpg
END:VEVENT
BEGIN:VEVENT
DTSTART;TZID=UTC:20200922T173000
DTEND;TZID=UTC:20200922T190000
DTSTAMP:20260425T170558
CREATED:20200831T112335Z
LAST-MODIFIED:20200831T112335Z
UID:1252265-1600795800-1600801200@kraftur.org
SUMMARY:AðstandendaKraftur - Má ég vera í fyrsta sæti?
DESCRIPTION:Þriðjudaginn 22. september kl. 17:30 ætlum við að setja okkur í fyrsta sæti. \nFlesti þeir sem standa í þeim sporum að eiga aðstandanda sem er að glíma við lífsógandi sjúkdóm kannast við það að allt í einu er maður búinn að setja sjálfan sig í 2.\, 3. eða jafnvel 4.sæti. En hvernig getum við verið til staðar fyrir ástvin okkar þegar heilsan okkar fer hægt og rólega hrakandi\, því við gleymum að huga að okkur sjálfum. Við höfum fengið Sigrúnu Elvu Einarsdóttur sjúkraþjálfara í hóp með okkur sem ætlar að hjálpa okkur að finna leiðir til að setja okkur í fyrsta sæti\, því við þurfum að hafa heilsu og þrek til að vera til staðar \nVið ætlum að eiga rólega stund saman í húsnæði Ráðgjafaþjónustunnar og ætlum við að enda kvöldið á opnum umræðum þar sem öllum þeim sem vilja\, fá tækifæri til að kynna sig og deila sinni reynslu. \nVið þekkjum það öll sem lendum í þessum sporum hversu ómetanlegt það getur verið að tala við aðra sem hafa verið í svipuðum sporum\, AðstandendaKraftur var stofnaður af aðstandendum fyrir aðstandendur og hvetjum við alla til að mæta. \nÁttu eða hefur þú átt ástvin sem greinst hefur með krabbamein? Ef þú ert maki eða náinn aðstandandi getur það haft í för með sér verulegar breytingar á þínu lífi þar sem ýmsar spurningar geta vaknað og getur verið erfitt að vera til staðar fyrir þig og aðra á sama tíma. Það eru fleiri í þínum sporum. \nKomdu á opið kvöld hjá AðstandendaKrafti. Við verðum í Ráðgjafarþjónustu Krabbameinsfélagsins\, Skógarhlíð 8. Boðið verður upp á léttar veitingar. \nEndilega meldaðu þig hér \nHlökkum til að sjá þig ❤
URL:https://kraftur.org/vidburdur/adstandendakraftur-ma-eg-vera-fyrsta-saeti/
ATTACH;FMTTYPE=image/jpeg:https://kraftur.org/wp-content/uploads/2020/08/Banner_adstandandaKraftur.jpg
END:VEVENT
END:VCALENDAR