BEGIN:VCALENDAR
VERSION:2.0
PRODID:-//Kraftur - ECPv6.15.15//NONSGML v1.0//EN
CALSCALE:GREGORIAN
METHOD:PUBLISH
X-WR-CALNAME:Kraftur
X-ORIGINAL-URL:https://kraftur.org
X-WR-CALDESC:Viðburðir í Kraftur
REFRESH-INTERVAL;VALUE=DURATION:PT1H
X-Robots-Tag:noindex
X-PUBLISHED-TTL:PT1H
BEGIN:VTIMEZONE
TZID:UTC
BEGIN:STANDARD
TZOFFSETFROM:+0000
TZOFFSETTO:+0000
TZNAME:UTC
DTSTART:20190101T000000
END:STANDARD
END:VTIMEZONE
BEGIN:VEVENT
DTSTART;TZID=UTC:20201005T200000
DTEND;TZID=UTC:20201005T220000
DTSTAMP:20260423T062157
CREATED:20200929T153114Z
LAST-MODIFIED:20200929T153114Z
UID:1252890-1601928000-1601935200@kraftur.org
SUMMARY:StelpuKraftur - stuðningshópur
DESCRIPTION:StelpuKraftur er stuðningshópur fyrir ungar konur á aldrinum 18 – 45 ára sem greinst hafa með krabbamein. Hópurinn hittist annan hvern mánudag kl. 20 ýmist í húskynnum Krafts\, Skógarhlíð 8\, eða annarsstaðar. \nDagskrá – apríl\nÞriðjudagur 6.apríl – Rafrænn hittingur\n\nHittumst í rafrænum heimi og spjöllum um heima og geima\nAuglýst nánar inn á FB hóp StelpuKrafts\n\nMán. 19.apríl– hittingur annað hvort rafrænn eða í skógarhlíð\n\nHittingur í stafrænum heimum eða ef samkomutakmarkanir verða rýmkaðar í húsakynnum Krafts\, Skógarhlíð 8\nAuglýst nánar inn á FB hóp StelpuKrafts\n\nUmsjón með hópnum hefur Hulda Hjálmarsdóttir\, starfsmaður og félagsmaður hjá Krafti. \nFrekari upplýsingar og hægt að óska eftir inngöngu í FB – hóp StelpuKrafts.  \nÞegar maður er ungur og greinist með krabbamein skiptir svo miklu máli að vita hvert maður getur leitað og maður standi ekki einn í baráttunni.
URL:https://kraftur.org/vidburdur/stelpukraftur-studningshopur-6/
LOCATION:Kraftur  – Stuðningsfélag fyrir ungt fólk sem greinst hefur með krabbamein og aðstandendur\, Skógarhlíð 8\, Reykjavík\, Reykjavík\, 105\, Iceland
ATTACH;FMTTYPE=image/jpeg:https://kraftur.org/wp-content/uploads/2020/06/Banner_stelpuKraftur_studningshopur.jpg
END:VEVENT
BEGIN:VEVENT
DTSTART;TZID=UTC:20210113T203000
DTEND;TZID=UTC:20210113T220000
DTSTAMP:20260423T062157
CREATED:20210105T093953Z
LAST-MODIFIED:20210105T093953Z
UID:1255436-1610569800-1610575200@kraftur.org
SUMMARY:NorðanKraftur - Ný byrjun - Rafrænn hittingur
DESCRIPTION:NorðanKraftur er stuðningshópur fyrir ungt fólk (45 ára og yngri) sem greinst hefur með krabbamein og aðstandendur staðsettur á Akureyri. \nNorðanKraftur verður með sinn fyrsta rafræna hitting\, miðvikudaginn 13. janúar kl. 20.30. Þá verður kahoot sprell og spjall og tilvalið tækifæri til að „hittast“ og kynnast betur. \nSjá nánar hér.  \n____________________________________________ \nUmsjón með hópnum hefur Tinna Stefánsdóttir\, starfsmaður og félagsmaður hjá Krafti. \nFrekari upplýsingar eru inn á hópi NorðanKrafts – Hægt er að óska eftir inngöngu í hópinn hér.
URL:https://kraftur.org/vidburdur/nordankraftur-ny-byrjun-rafraenn-hittingur/
ATTACH;FMTTYPE=image/jpeg:https://kraftur.org/wp-content/uploads/2021/01/Bannera_NordanKraftur_1.jpg
END:VEVENT
BEGIN:VEVENT
DTSTART;TZID=UTC:20210114T200000
DTEND;TZID=UTC:20210114T220000
DTSTAMP:20260423T062157
CREATED:20210105T151336Z
LAST-MODIFIED:20210105T151336Z
UID:1255451-1610654400-1610661600@kraftur.org
SUMMARY:Fræðslufyrirlestur - Gerum árið 2021 að því besta hingað til
DESCRIPTION:Vilt þú ná hámarks árangri árið 2021 og verða besta útgáfan af þér? \nOkkur hjá MUNUM og Krafti langar að bjóða þér á netfyrirlestur sem getur hjálpað þér að skipuleggja árið með það að leiðarljósi að hámarka líkur á árangri og nýta tímann sem best með jákvætt hugarfar að vopni. \nFyrirlestrinum verður streymt á netinu og er nauðsynlegt að skrá sig hér. \nÁ fyrirlestrinum verður farið í hversu mikilvægt það er að kortleggja drauma sína og langanir og hvernig við hámörkum líkur á því að láta drauma okkar verða að veruleika. Farið verður markvisst í gegnum þau skref sem liggja að baki farsællar markmiðasetningar og farið yfir leiðir til þess að hámarka tímastjórnun með því að forgangsraða\, tileinka sér jákvæða hugsun á einfaldan hátt og hvernig megi nota MUNUM dagbókina sem ákveðið verkfæri í þessari vinnu. \nFyrirlesarar eru eigendur MUNUM\, Erla Björnsdóttir\, sálfræðingur og doktor í Líf- og læknavísindum Þóra Hrund Guðbrandsdóttir\, viðskipta- og markaðsfræðingur & markþjálfi. \nVonumst til að sjá sem flesta.
URL:https://kraftur.org/vidburdur/fraedslufyrirlestur-gerum-arid-2021-ad-thvi-besta-hingad-til/
ATTACH;FMTTYPE=image/jpeg:https://kraftur.org/wp-content/uploads/2021/01/banner_jan_2021_besta_web.jpg
END:VEVENT
BEGIN:VEVENT
DTSTART;TZID=UTC:20210116T110000
DTEND;TZID=UTC:20210116T123000
DTSTAMP:20260423T062157
CREATED:20210104T152529Z
LAST-MODIFIED:20210104T152529Z
UID:1255400-1610794800-1610800200@kraftur.org
SUMMARY:Að klífa brattann - Rauðavatn
DESCRIPTION:Laugardaginn 16. janúar\, ætlum við í skemmtilega nýárs göngu í kringum Rauðavatn. Falleg og skemmtileg leið sem er á flestra færi. Gengið verður í kringum vatnið þar sem stígar eru á jafnsléttu og lítið um hækkun\, en gott að hafa í huga að hluti gönguleiðarinnar er á malarstíg þar sem er nokkur hækkun\, og þvi gott að vera í góðum skóm. Gangan tekur um klukkustund. Komum saman og njótum þess að vera úti að hreyfa okkur í fallegri vetrarnáttúru í útjaðri Reykjavíkur. \nVið munum hittast á bílastæðinu hjá Olís við Suðurlandsveg þar sem er nóg af bílastæðum. \nVið hjá Krafti viljum að allir fari eftir fyrirmælum Almannavarna og minnum ykkur því á að virða 2 metra regluna. \nAð klífa brattann er gönguhópur fyrir krabbameinsgreinda og aðstandendur sem Kraftskonurnar Ragnheiður Guðmundsdóttir leiðir en hún hefur notað útivist og fjallgöngur sér til endurhæfingar og sjálfseflingar í veikindum sínum. \nGöngurnar henta öllum þeim sem hafa áhuga á að kynna sér göngur og íslenska náttúru og njóta þess að vera í hópi meðal jafningja. \nKraftsfélagar\, fjölskyldur þeirra\, börn og vinir eru hjartanlega velkomin. Endilega meldið ykkur á Facebook viðburðinum \nHægt er að ná í Ragnheiði í síma: 663-9360
URL:https://kraftur.org/vidburdur/ad-klifa-brattann-raudavatn/
LOCATION:Olís við Rauðavatn\, Norðlingabraut 7\, Reykjavík\, 110\, Iceland
ATTACH;FMTTYPE=image/jpeg:https://kraftur.org/wp-content/uploads/2020/06/Banner_ad_klifa_brattann.jpg
END:VEVENT
BEGIN:VEVENT
DTSTART;TZID=UTC:20201005T200000
DTEND;TZID=UTC:20201005T220000
DTSTAMP:20260423T062157
CREATED:20200929T153114Z
LAST-MODIFIED:20200929T153114Z
UID:1252890-1601928000-1601935200@kraftur.org
SUMMARY:StelpuKraftur - stuðningshópur
DESCRIPTION:StelpuKraftur er stuðningshópur fyrir ungar konur á aldrinum 18 – 45 ára sem greinst hafa með krabbamein. Hópurinn hittist annan hvern mánudag kl. 20 ýmist í húskynnum Krafts\, Skógarhlíð 8\, eða annarsstaðar. \nDagskrá – apríl\nÞriðjudagur 6.apríl – Rafrænn hittingur\n\nHittumst í rafrænum heimi og spjöllum um heima og geima\nAuglýst nánar inn á FB hóp StelpuKrafts\n\nMán. 19.apríl– hittingur annað hvort rafrænn eða í skógarhlíð\n\nHittingur í stafrænum heimum eða ef samkomutakmarkanir verða rýmkaðar í húsakynnum Krafts\, Skógarhlíð 8\nAuglýst nánar inn á FB hóp StelpuKrafts\n\nUmsjón með hópnum hefur Hulda Hjálmarsdóttir\, starfsmaður og félagsmaður hjá Krafti. \nFrekari upplýsingar og hægt að óska eftir inngöngu í FB – hóp StelpuKrafts.  \nÞegar maður er ungur og greinist með krabbamein skiptir svo miklu máli að vita hvert maður getur leitað og maður standi ekki einn í baráttunni.
URL:https://kraftur.org/vidburdur/stelpukraftur-studningshopur-6/
LOCATION:Kraftur  – Stuðningsfélag fyrir ungt fólk sem greinst hefur með krabbamein og aðstandendur\, Skógarhlíð 8\, Reykjavík\, Reykjavík\, 105\, Iceland
ATTACH;FMTTYPE=image/jpeg:https://kraftur.org/wp-content/uploads/2020/06/Banner_stelpuKraftur_studningshopur.jpg
END:VEVENT
BEGIN:VEVENT
DTSTART;TZID=UTC:20210126T173000
DTEND;TZID=UTC:20210126T190000
DTSTAMP:20260423T062157
CREATED:20210126T173002Z
LAST-MODIFIED:20210126T173002Z
UID:1255426-1611682200-1611687600@kraftur.org
SUMMARY:AðstandendaKraftur - Bless 2020 ... Halló 2021
DESCRIPTION:Þriðjudaginn 26.janúar klukkan 17:30 ætlum við að koma saman í rafræna heiminu á Teams og gera upp árið 2020 og undirbúa okkur undir árið 2021.\nHverjar eru þínar óskir og væntingar til komandi árs og hvað var það sem sem stóð upp úr á síðasta ári? \nÞessi hittingur verður því tileinkaður okkur\, við ætlum að eiga rólega stund og kynnast betur. Öllum er velkomið að henda fram hugsunum og pælingum og saman ætlum við að gefa hvort öðru tækifæri á að deila sinni reynslu. \nVið þekkjum það öll sem lendum í þessum sporum hversu ómetanlegt það getur verið að tala við aðra sem hafa verið í svipuðum sporum\, AðstandendaKraftur var stofnaður af aðstandendum fyrir aðstandendur og hvetjum við alla til að mæta. \nÁttu eða hefur þú átt ástvin sem greinst hefur með krabbamein? Ef þú ert maki eða náinn aðstandandi getur það haft í för með sér verulegar breytingar á þínu lífi þar sem ýmsar spurningar geta vaknað og getur verið erfitt að vera til staðar fyrir þig og aðra á sama tíma. Það eru fleiri í þínum sporum. \nKomdu á opið kvöld hjá AðstandendaKrafti. Við verðum á Teams og til þess að hægt sé að senda þér hlekka á viðburðinn þurfum við emailið þitt sem þú skráir hér \nHlökkum til að „sjá“ þig ❤
URL:https://kraftur.org/vidburdur/adstandendakraftur-bless-2020-hallo-2021/
LOCATION:Rafrænn hittingur\, Iceland
ATTACH;FMTTYPE=image/jpeg:https://kraftur.org/wp-content/uploads/2021/01/Banner_adstandandaKraftur.jpg
END:VEVENT
BEGIN:VEVENT
DTSTART;TZID=UTC:20210127T200000
DTEND;TZID=UTC:20210127T210000
DTSTAMP:20260423T062157
CREATED:20210120T230137Z
LAST-MODIFIED:20210120T230137Z
UID:1255747-1611777600-1611781200@kraftur.org
SUMMARY:NorðanKraftur - ganga upp á Fálkafell
DESCRIPTION:NorðanKraftur ætlar að skella sér í létta göngu upp að Fálkafelli.  \nGangan tekur um 30-40 mín. \n\nÞeir sem vilja taka þátt eru hvattir til að melda sig á facebook viðburð NorðanKrafts hér.\nNorðanKraftur er staðsettur á Akureyri og er stuðningshópur fyrir ungt fólk (45 ára og yngri) sem greinst hefur með krabbamein og aðstandendur. \n____________________________________________ \nUmsjón með hópnum hefur Tinna Stefánsdóttir\, starfsmaður og félagsmaður hjá Krafti. \nFrekari upplýsingar eru inn á hópi NorðanKrafts – Hægt er að óska eftir inngöngu í hópinn hér.
URL:https://kraftur.org/vidburdur/nordankraftur-ganga-upp-falkafell/
LOCATION:Akureyri\, Akureyri\, Akureyri\, Akureyri\, 600\, Iceland
ATTACH;FMTTYPE=image/jpeg:https://kraftur.org/wp-content/uploads/2021/01/Bannera_NordanKraftur_1.jpg
END:VEVENT
END:VCALENDAR