BEGIN:VCALENDAR
VERSION:2.0
PRODID:-//Kraftur - ECPv6.15.15//NONSGML v1.0//EN
CALSCALE:GREGORIAN
METHOD:PUBLISH
X-ORIGINAL-URL:https://kraftur.org
X-WR-CALDESC:Viðburðir í Kraftur
REFRESH-INTERVAL;VALUE=DURATION:PT1H
X-Robots-Tag:noindex
X-PUBLISHED-TTL:PT1H
BEGIN:VTIMEZONE
TZID:UTC
BEGIN:STANDARD
TZOFFSETFROM:+0000
TZOFFSETTO:+0000
TZNAME:UTC
DTSTART:20200101T000000
END:STANDARD
END:VTIMEZONE
BEGIN:VEVENT
DTSTART;VALUE=DATE:20210702
DTEND;VALUE=DATE:20210703
DTSTAMP:20260423T001213
CREATED:20200604T092945Z
LAST-MODIFIED:20200604T092945Z
UID:1250586-1625184000-1625270399@kraftur.org
SUMMARY:Sumarlokun
DESCRIPTION:Skrifstofa Krafts er opin alla mán. – fim. frá kl. 9-16. Lokað verður á föstudögum í júlí og dagana 28.júlí og 29.júlí. \nOpnunartími verður því sem hér segir á tímabilinu: \nMánudaga 9:00 til 16:00 \nÞriðjudaga 9:00 til 16:00 \nMiðvikudaga 9:00 til 16:00 \nFimmtudaga 9:00 til 16:00 \nFöstudaga lokað \nAlltaf er hægt að senda okkur tölvupóst á kraftur@kraftur.org og hringja í síma 866-9600 og við svörum við fyrsta tækifæri.
URL:https://kraftur.org/vidburdur/sumarlokun-krafts/
LOCATION:Kraftur  – Stuðningsfélag fyrir ungt fólk sem greinst hefur með krabbamein og aðstandendur\, Skógarhlíð 8\, Reykjavík\, Reykjavík\, 105\, Iceland
ATTACH;FMTTYPE=image/jpeg:https://kraftur.org/wp-content/uploads/2020/06/banner_juni_sumaropnun_2021-2.jpg
END:VEVENT
BEGIN:VEVENT
DTSTART;TZID=UTC:20210707T170000
DTEND;TZID=UTC:20210707T190000
DTSTAMP:20260423T001213
CREATED:20210630T113950Z
LAST-MODIFIED:20210630T113950Z
UID:1272489-1625677200-1625684400@kraftur.org
SUMMARY:Kubb á Klambratúni - Krabbamein fer ekki í frí
DESCRIPTION:Miðvikudaginn 7. júlí ætlar Kraftur að vera með Kubb á Klambratúni undir yfirskriftinni Krabbamein fer ekki í frí.  \nVið ætlum við að hittast klukkan 17:00 hjá bílastæðinu við Kjarvalsstaði. Við munum síðan rölta saman inn á túnið og skella okkur í kubb. Þú þarft ekkert að kunna leikinn heldur er hann mjög einfaldur og förum við yfir allar reglur á svæðinu en aðal markmiðið er að koma saman og njóta líðandi stundar. \nEndilega meldið ykkur hér á Facebook til að við vitum hversu margir eru að koma. \nÞetta er fyrsti viðburðurinn af þremur undir yfirskriftinni  Krabbamein fer ekki í frí  sem við höldum í júlí  fyrir félagsmenn okkar. Þar er megin markmiðið að koma saman\, njóta útivistar og líðandi stundar. Viðburðirnir eru bæði fyrir fólk sem hefur greinst með krabbamein sem og aðstandendur og er tilvalin stund fyrir vini og fjölskyldu að koma saman. \nKrabbamein fer ekki í frí er vitundarvakning Krafts sem snýr að því að þótt fólk fari í sumarfrí þá fer krabbamein ekki í frí. Oft getur verið minni starfsemi og þjónusta yfir sumartímann hjá þjónustuaðilum sem sinna krabbameinsgreindum og aðstandendum. Við hjá Krafti höfum því tekið saman opnunartíma hjá ýmsum aðilum. Þótt þjónustan sé takmarkaðri þá skiptir máli að vita hvert maður getur leitað sér læknishjálpar\, ráðgjafar og stuðnings.
URL:https://kraftur.org/vidburdur/kubb-a-klambratuni-krabbamein-fer-ekki-i-fri/
LOCATION:klambratún\, Flókatún 24\, Reykjavík\, 105\, Iceland
ATTACH;FMTTYPE=image/jpeg:https://kraftur.org/wp-content/uploads/2021/06/banner_krabbamein-fer-ekki-fri_kubb_web-2.jpg
END:VEVENT
BEGIN:VEVENT
DTSTART;VALUE=DATE:20210702
DTEND;VALUE=DATE:20210703
DTSTAMP:20260423T001213
CREATED:20200604T092945Z
LAST-MODIFIED:20200604T092945Z
UID:1250586-1625184000-1625270399@kraftur.org
SUMMARY:Sumarlokun
DESCRIPTION:Skrifstofa Krafts er opin alla mán. – fim. frá kl. 9-16. Lokað verður á föstudögum í júlí og dagana 28.júlí og 29.júlí. \nOpnunartími verður því sem hér segir á tímabilinu: \nMánudaga 9:00 til 16:00 \nÞriðjudaga 9:00 til 16:00 \nMiðvikudaga 9:00 til 16:00 \nFimmtudaga 9:00 til 16:00 \nFöstudaga lokað \nAlltaf er hægt að senda okkur tölvupóst á kraftur@kraftur.org og hringja í síma 866-9600 og við svörum við fyrsta tækifæri.
URL:https://kraftur.org/vidburdur/sumarlokun-krafts/
LOCATION:Kraftur  – Stuðningsfélag fyrir ungt fólk sem greinst hefur með krabbamein og aðstandendur\, Skógarhlíð 8\, Reykjavík\, Reykjavík\, 105\, Iceland
ATTACH;FMTTYPE=image/jpeg:https://kraftur.org/wp-content/uploads/2020/06/banner_juni_sumaropnun_2021-2.jpg
END:VEVENT
BEGIN:VEVENT
DTSTART;VALUE=DATE:20210702
DTEND;VALUE=DATE:20210703
DTSTAMP:20260423T001213
CREATED:20200604T092945Z
LAST-MODIFIED:20200604T092945Z
UID:1250586-1625184000-1625270399@kraftur.org
SUMMARY:Sumarlokun
DESCRIPTION:Skrifstofa Krafts er opin alla mán. – fim. frá kl. 9-16. Lokað verður á föstudögum í júlí og dagana 28.júlí og 29.júlí. \nOpnunartími verður því sem hér segir á tímabilinu: \nMánudaga 9:00 til 16:00 \nÞriðjudaga 9:00 til 16:00 \nMiðvikudaga 9:00 til 16:00 \nFimmtudaga 9:00 til 16:00 \nFöstudaga lokað \nAlltaf er hægt að senda okkur tölvupóst á kraftur@kraftur.org og hringja í síma 866-9600 og við svörum við fyrsta tækifæri.
URL:https://kraftur.org/vidburdur/sumarlokun-krafts/
LOCATION:Kraftur  – Stuðningsfélag fyrir ungt fólk sem greinst hefur með krabbamein og aðstandendur\, Skógarhlíð 8\, Reykjavík\, Reykjavík\, 105\, Iceland
ATTACH;FMTTYPE=image/jpeg:https://kraftur.org/wp-content/uploads/2020/06/banner_juni_sumaropnun_2021-2.jpg
END:VEVENT
BEGIN:VEVENT
DTSTART;TZID=UTC:20210721T200000
DTEND;TZID=UTC:20210721T220000
DTSTAMP:20260423T001213
CREATED:20210630T125144Z
LAST-MODIFIED:20210630T125144Z
UID:1272496-1626897600-1626904800@kraftur.org
SUMMARY:Kvöldvaka og varðeldur í Heiðmörk - Krabbamein fer ekki í frí
DESCRIPTION:Miðvikudaginn 21. júlí ætlar Kraftur að vera með kvöldvöku og varðeld í Heiðmörk undir yfirskriftinni Krabbamein fer ekki í frí.\n\n\n \n\n\nVið munum koma saman og kveikja varðeld og vera með kósý kvöldvöku þar sem við syngjum saman og njótum líðandi stundar. Ingvar trúbador mun koma og halda uppi stemningunni með gítarspili og söng.\n\n\n \n\n\nNú er um að gera að koma saman með vinum og fjölskyldu\, njóta og syngja. Ekki þarf sönghæfileika til að taka þátt heldur snýst þetta um samveruna.\n\n\n \n\n\nEndilega meldið ykkur  á Facebook viðburðinn til að við vitum hversu margir eru að koma. Nánari staðsettning Kvöldvökunnar er hægt að sjá með því að smella hér.\n\n\n\nÞetta er síðasti viðburðurinn af þremur undir yfirskriftinni  Krabbamein fer ekki í frí  sem við höldum í júlí  fyrir félagsmenn okkar. Þar er megin markmiðið að koma saman\, njóta útivistar og líðandi stundar. Viðburðirnir eru bæði fyrir fólk sem hefur greinst með krabbamein sem og aðstandendur og er tilvalin stund fyrir vini og fjölskyldu að koma saman. \nKrabbamein fer ekki í frí er vitundarvakning Krafts sem snýr að því að þótt fólk fari í sumarfrí þá fer krabbamein ekki í frí. Oft getur verið minni starfsemi og þjónusta yfir sumartímann hjá þjónustuaðilum sem sinna krabbameinsgreindum og aðstandendum. Við hjá Krafti höfum því tekið saman opnunartíma hjá ýmsum aðilum. Þótt þjónustan sé takmarkaðri þá skiptir máli að vita hvert maður getur leitað sér læknishjálpar\, ráðgjafar og stuðnings.
URL:https://kraftur.org/vidburdur/kvoldvaka-og-vardeldur-heidmork-krabbamein-fer-ekki-fri/
LOCATION:Heiðmörk
ATTACH;FMTTYPE=image/jpeg:https://kraftur.org/wp-content/uploads/2021/06/banner_krabbamein-fer-ekki-fri_kvoldvaka_web.jpg
END:VEVENT
BEGIN:VEVENT
DTSTART;VALUE=DATE:20210702
DTEND;VALUE=DATE:20210703
DTSTAMP:20260423T001213
CREATED:20200604T092945Z
LAST-MODIFIED:20200604T092945Z
UID:1250586-1625184000-1625270399@kraftur.org
SUMMARY:Sumarlokun
DESCRIPTION:Skrifstofa Krafts er opin alla mán. – fim. frá kl. 9-16. Lokað verður á föstudögum í júlí og dagana 28.júlí og 29.júlí. \nOpnunartími verður því sem hér segir á tímabilinu: \nMánudaga 9:00 til 16:00 \nÞriðjudaga 9:00 til 16:00 \nMiðvikudaga 9:00 til 16:00 \nFimmtudaga 9:00 til 16:00 \nFöstudaga lokað \nAlltaf er hægt að senda okkur tölvupóst á kraftur@kraftur.org og hringja í síma 866-9600 og við svörum við fyrsta tækifæri.
URL:https://kraftur.org/vidburdur/sumarlokun-krafts/
LOCATION:Kraftur  – Stuðningsfélag fyrir ungt fólk sem greinst hefur með krabbamein og aðstandendur\, Skógarhlíð 8\, Reykjavík\, Reykjavík\, 105\, Iceland
ATTACH;FMTTYPE=image/jpeg:https://kraftur.org/wp-content/uploads/2020/06/banner_juni_sumaropnun_2021-2.jpg
END:VEVENT
BEGIN:VEVENT
DTSTART;VALUE=DATE:20210702
DTEND;VALUE=DATE:20210703
DTSTAMP:20260423T001213
CREATED:20200604T092945Z
LAST-MODIFIED:20200604T092945Z
UID:1250586-1625184000-1625270399@kraftur.org
SUMMARY:Sumarlokun
DESCRIPTION:Skrifstofa Krafts er opin alla mán. – fim. frá kl. 9-16. Lokað verður á föstudögum í júlí og dagana 28.júlí og 29.júlí. \nOpnunartími verður því sem hér segir á tímabilinu: \nMánudaga 9:00 til 16:00 \nÞriðjudaga 9:00 til 16:00 \nMiðvikudaga 9:00 til 16:00 \nFimmtudaga 9:00 til 16:00 \nFöstudaga lokað \nAlltaf er hægt að senda okkur tölvupóst á kraftur@kraftur.org og hringja í síma 866-9600 og við svörum við fyrsta tækifæri.
URL:https://kraftur.org/vidburdur/sumarlokun-krafts/
LOCATION:Kraftur  – Stuðningsfélag fyrir ungt fólk sem greinst hefur með krabbamein og aðstandendur\, Skógarhlíð 8\, Reykjavík\, Reykjavík\, 105\, Iceland
ATTACH;FMTTYPE=image/jpeg:https://kraftur.org/wp-content/uploads/2020/06/banner_juni_sumaropnun_2021-2.jpg
END:VEVENT
BEGIN:VEVENT
DTSTART;VALUE=DATE:20210702
DTEND;VALUE=DATE:20210703
DTSTAMP:20260423T001213
CREATED:20200604T092945Z
LAST-MODIFIED:20200604T092945Z
UID:1250586-1625184000-1625270399@kraftur.org
SUMMARY:Sumarlokun
DESCRIPTION:Skrifstofa Krafts er opin alla mán. – fim. frá kl. 9-16. Lokað verður á föstudögum í júlí og dagana 28.júlí og 29.júlí. \nOpnunartími verður því sem hér segir á tímabilinu: \nMánudaga 9:00 til 16:00 \nÞriðjudaga 9:00 til 16:00 \nMiðvikudaga 9:00 til 16:00 \nFimmtudaga 9:00 til 16:00 \nFöstudaga lokað \nAlltaf er hægt að senda okkur tölvupóst á kraftur@kraftur.org og hringja í síma 866-9600 og við svörum við fyrsta tækifæri.
URL:https://kraftur.org/vidburdur/sumarlokun-krafts/
LOCATION:Kraftur  – Stuðningsfélag fyrir ungt fólk sem greinst hefur með krabbamein og aðstandendur\, Skógarhlíð 8\, Reykjavík\, Reykjavík\, 105\, Iceland
ATTACH;FMTTYPE=image/jpeg:https://kraftur.org/wp-content/uploads/2020/06/banner_juni_sumaropnun_2021-2.jpg
END:VEVENT
BEGIN:VEVENT
DTSTART;VALUE=DATE:20210702
DTEND;VALUE=DATE:20210703
DTSTAMP:20260423T001213
CREATED:20200604T092945Z
LAST-MODIFIED:20200604T092945Z
UID:1250586-1625184000-1625270399@kraftur.org
SUMMARY:Sumarlokun
DESCRIPTION:Skrifstofa Krafts er opin alla mán. – fim. frá kl. 9-16. Lokað verður á föstudögum í júlí og dagana 28.júlí og 29.júlí. \nOpnunartími verður því sem hér segir á tímabilinu: \nMánudaga 9:00 til 16:00 \nÞriðjudaga 9:00 til 16:00 \nMiðvikudaga 9:00 til 16:00 \nFimmtudaga 9:00 til 16:00 \nFöstudaga lokað \nAlltaf er hægt að senda okkur tölvupóst á kraftur@kraftur.org og hringja í síma 866-9600 og við svörum við fyrsta tækifæri.
URL:https://kraftur.org/vidburdur/sumarlokun-krafts/
LOCATION:Kraftur  – Stuðningsfélag fyrir ungt fólk sem greinst hefur með krabbamein og aðstandendur\, Skógarhlíð 8\, Reykjavík\, Reykjavík\, 105\, Iceland
ATTACH;FMTTYPE=image/jpeg:https://kraftur.org/wp-content/uploads/2020/06/banner_juni_sumaropnun_2021-2.jpg
END:VEVENT
END:VCALENDAR