BEGIN:VCALENDAR
VERSION:2.0
PRODID:-//Kraftur - ECPv6.15.15//NONSGML v1.0//EN
CALSCALE:GREGORIAN
METHOD:PUBLISH
X-ORIGINAL-URL:https://kraftur.org
X-WR-CALDESC:Viðburðir í Kraftur
REFRESH-INTERVAL;VALUE=DURATION:PT1H
X-Robots-Tag:noindex
X-PUBLISHED-TTL:PT1H
BEGIN:VTIMEZONE
TZID:UTC
BEGIN:STANDARD
TZOFFSETFROM:+0000
TZOFFSETTO:+0000
TZNAME:UTC
DTSTART:20210101T000000
END:STANDARD
END:VTIMEZONE
BEGIN:VEVENT
DTSTART;TZID=UTC:20220110T200000
DTEND;TZID=UTC:20220110T220000
DTSTAMP:20260422T133810
CREATED:20220110T140617Z
LAST-MODIFIED:20220110T140617Z
UID:1277044-1641844800-1641852000@kraftur.org
SUMMARY:StelpuKraftur - stuðningshópur
DESCRIPTION:StelpuKraftur er stuðningshópur fyrir ungar konur á aldrinum 18 – 45 ára sem greinst hafa með krabbamein. Hópurinn hittist annan hvern mánudag kl. 20 ýmist í húskynnum Krafts\, Skógarhlíð 8\, eða annarsstaðar. \n  \nDAGSKRÁ JANÚAR\n  \n10. JANÚAR – RAFRÆNN HITTINGUR –\n\nVettvangur til að deila áskorunum og sigrum með einstaklingum í sömu sporum.\n\n31. JANÚAR – Hvernig getur þú nýtt þér dagbókarskrif –\n\nNánari upplýsingar á Facebook hóp StelpuKrafts.\n\n  \nUmsjón með hópnum hefur Hulda Hjálmarsdóttir\, starfsmaður og félagsmaður hjá Krafti. \nFrekari upplýsingar um viðburði verða settar inn á FB – hóp StelpuKrafts   og er hægt að óska eftir inngöngu í hópinn hér. \nÞegar maður er ungur og greinist með krabbamein skiptir svo miklu máli að vita hvert maður getur leitað og maður standi ekki einn í baráttunni.
URL:https://kraftur.org/vidburdur/stelpukraftur-studningshopur-11/
LOCATION:Kraftur  – Stuðningsfélag fyrir ungt fólk sem greinst hefur með krabbamein og aðstandendur\, Skógarhlíð 8\, Reykjavík\, Reykjavík\, 105\, Iceland
ATTACH;FMTTYPE=image/jpeg:https://kraftur.org/wp-content/uploads/2020/06/Banner_stelpuKraftur_studningshopur.jpg
END:VEVENT
BEGIN:VEVENT
DTSTART;TZID=UTC:20220119T200000
DTEND;TZID=UTC:20220119T213000
DTSTAMP:20260422T133810
CREATED:20220110T134026Z
LAST-MODIFIED:20220110T134026Z
UID:1277025-1642622400-1642627800@kraftur.org
SUMMARY:NorðanKraftur - stuðningshópur
DESCRIPTION:NorðanKraftur er stuðningshópur fyrir ungt fólk (18 til 45 ára) sem greinst hefur með krabbamein og aðstandendur. Hópurinn er starfræktur frá Akureyri og hittst tvisvar í mánuði. \n  \nDAGSKRÁ JANÚAR\n  \n19. JANÚAR – RAFRÆNN HITTINGUR\n\nVettvangur til að deila áskorunum og sigrum með einstaklingum í sömu sporum\n\n20. JANÚAR – FJARSVAR MEÐ KRAFTI\n\nFjarsvar með Krafti er rafræn spurningakeppni fyrir alla félagsmenn Krafts og ætlum við að lyfta okkur aðeins upp .\nSkráning er nauðsynleg og fer fram hér.\n\nUmsjónarmaður hópsins er Tinna Stefánsdóttir\, starfsmaður og félagsmaður Krafts sem hefur reynslu af því að vera ung og greinast með æxli. Hægt er að ná í hana í síma 866-0153 eða senda póst á nordankraftur@kraftur.org \nFrekari upplýsingar eru inni á hópi NorðanKrafts – Hægt er að óska eftir inngöngu í hópinn hér.
URL:https://kraftur.org/vidburdur/nordankraftur-studningshopur-9/
ATTACH;FMTTYPE=image/jpeg:https://kraftur.org/wp-content/uploads/2022/01/Bannera_NordanKraftur_1-1.jpg
END:VEVENT
BEGIN:VEVENT
DTSTART;TZID=UTC:20220124T200000
DTEND;TZID=UTC:20220124T220000
DTSTAMP:20260422T133810
CREATED:20220110T140617Z
LAST-MODIFIED:20220110T140617Z
UID:1277048-1643054400-1643061600@kraftur.org
SUMMARY:StelpuKraftur - stuðningshópur
DESCRIPTION:StelpuKraftur er stuðningshópur fyrir ungar konur á aldrinum 18 – 45 ára sem greinst hafa með krabbamein. Hópurinn hittist annan hvern mánudag kl. 20 ýmist í húskynnum Krafts\, Skógarhlíð 8\, eða annarsstaðar. \n  \nDAGSKRÁ JANÚAR\n  \n10. JANÚAR – RAFRÆNN HITTINGUR –\n\nVettvangur til að deila áskorunum og sigrum með einstaklingum í sömu sporum.\n\n31. JANÚAR – Hvernig getur þú nýtt þér dagbókarskrif –\n\nNánari upplýsingar á Facebook hóp StelpuKrafts.\n\n  \nUmsjón með hópnum hefur Hulda Hjálmarsdóttir\, starfsmaður og félagsmaður hjá Krafti. \nFrekari upplýsingar um viðburði verða settar inn á FB – hóp StelpuKrafts   og er hægt að óska eftir inngöngu í hópinn hér. \nÞegar maður er ungur og greinist með krabbamein skiptir svo miklu máli að vita hvert maður getur leitað og maður standi ekki einn í baráttunni.
URL:https://kraftur.org/vidburdur/stelpukraftur-studningshopur-11-2022-01-24/
LOCATION:Kraftur  – Stuðningsfélag fyrir ungt fólk sem greinst hefur með krabbamein og aðstandendur\, Skógarhlíð 8\, Reykjavík\, Reykjavík\, 105\, Iceland
ATTACH;FMTTYPE=image/jpeg:https://kraftur.org/wp-content/uploads/2020/06/Banner_stelpuKraftur_studningshopur.jpg
END:VEVENT
BEGIN:VEVENT
DTSTART;TZID=UTC:20220127T200000
DTEND;TZID=UTC:20220127T213000
DTSTAMP:20260422T133810
CREATED:20220110T141050Z
LAST-MODIFIED:20220110T141050Z
UID:1277051-1643313600-1643319000@kraftur.org
SUMMARY:Fjarsvar með Krafti
DESCRIPTION:Við ætlum að lyfta okkur aðeins upp og bjóða upp á skemmtilega Kahoot spurningarkeppni í netheimum í boði Ómikron. Tilvalin stund til að koma sér vel fyrir í sófanum heima fyrir framan tölvuskjáinn og eiga með okkur skemmtilega stund. \nHörkuspennandi spurningakeppni þar sem spurt verður um allt milli heima og geima. Veglegir vinningar í boði t.d leikhúsmiðar og gjafabréf út að borða. \nNánari upplýsingar verða sendar með tölvupósti eftir skráningu og fer skráning fram hér  \nNánari upplýsingar veitir Hrefna í gegnum hrefna@kraftur.org eða í síma 866-9698
URL:https://kraftur.org/vidburdur/fjarsvar-med-krafti/
ATTACH;FMTTYPE=image/jpeg:https://kraftur.org/wp-content/uploads/2022/01/banner_jan2022_fjarsvar_web-1.jpg
END:VEVENT
BEGIN:VEVENT
DTSTART;TZID=UTC:20220129T110000
DTEND;TZID=UTC:20220129T123000
DTSTAMP:20260422T133810
CREATED:20220110T130949Z
LAST-MODIFIED:20220110T130949Z
UID:1277016-1643454000-1643459400@kraftur.org
SUMMARY:Að klífa brattann - Skammidalur í Mosfellsbæ
DESCRIPTION:Næsta ganga gönguhópsins Að klífa brattann verður laugardaginn 29. janúar kl. 11. \n\nVið ætlum að ganga um Skammadal og Álafosskvosina í Mosfellsbæ. Þægileg vetrarganga og hentar öllum\, en við mælum með góðum skóbúnaði. \nHittum á bílastæðinu bak við Reykjalund. Þegar komið er að Reykjalundi þarf að fara framhjá aðalbílastæðinu og keyra svo vinstra meginn við bygginguna til að komast að bílastæðinu. \nEndilega meldaðu þig á viðburðinn hér svo við getum áætlað fjöldann\, því við viljum ekki leggja af stað án þín  \nEf þið viljið sameinast í bíla endilega látið okkur vita \nAð klífa brattann er gönguhópur fyrir krabbameinsgreinda og aðstandendur sem kraftskonurnar Ragnheiður Guðmundsdóttir og G. Sigríður Ágústsdóttir stofnuðu\, en þær hafa mikið notað útivist og fjallgöngur sér til endurhæfingar og sjálfseflingar í veikindum sínum. \nRagnheiður sér um að leiða göngurnar ásamt Atla Má Sveinssyni þjálfara FítonsKrafts. \nRagnheiður (sími: 663-9360)\nAtli (sími: 663-2252) \nGöngurnar henta öllum þeim sem hafa áhuga á að kynna sér göngur og íslenska náttúru og njóta þess að vera í hópi meðal jafningja. Kraftsfélagar\, fjölskyldur þeirra\, börn og vinir eru hjartanlega velkomin.  \n\nÞú getur fylgst með okkur á Facebook og beðið um inngöngu í hópinn hér
URL:https://kraftur.org/vidburdur/ad-klifa-brattann-skammidalur-mosfellsbae/
ATTACH;FMTTYPE=image/jpeg:https://kraftur.org/wp-content/uploads/2019/09/Banner_ad_klifa_brattann.jpg
ORGANIZER;CN="A%C3%B0 kl%C3%ADfa brattann - G%C3%B6nguh%C3%B3pur":MAILTO:kraftur@kraftur.org
END:VEVENT
END:VCALENDAR